| Back to Multiple platform build/check report for BioC 3.7 |
|
This page was generated on 2018-10-17 08:39:26 -0400 (Wed, 17 Oct 2018).
| Package 497/1561 | Hostname | OS / Arch | INSTALL | BUILD | CHECK | BUILD BIN | ||||||
| flowcatchR 1.14.0 Federico Marini
| malbec2 | Linux (Ubuntu 16.04.1 LTS) / x86_64 | OK | OK | OK | |||||||
| tokay2 | Windows Server 2012 R2 Standard / x64 | [ OK ] | OK | OK | OK | |||||||
| merida2 | OS X 10.11.6 El Capitan / x86_64 | OK | OK | OK | OK |
| Package: flowcatchR |
| Version: 1.14.0 |
| Command: C:\cygwin\bin\curl.exe -O https://malbec2.bioconductor.org/BBS/3.7/bioc/src/contrib/flowcatchR_1.14.0.tar.gz && rm -rf flowcatchR.buildbin-libdir && mkdir flowcatchR.buildbin-libdir && C:\Users\biocbuild\bbs-3.7-bioc\R\bin\R.exe CMD INSTALL --merge-multiarch --build --library=flowcatchR.buildbin-libdir flowcatchR_1.14.0.tar.gz && C:\Users\biocbuild\bbs-3.7-bioc\R\bin\R.exe CMD INSTALL flowcatchR_1.14.0.zip && rm flowcatchR_1.14.0.tar.gz flowcatchR_1.14.0.zip |
| StartedAt: 2018-10-16 19:04:56 -0400 (Tue, 16 Oct 2018) |
| EndedAt: 2018-10-16 19:06:29 -0400 (Tue, 16 Oct 2018) |
| EllapsedTime: 93.9 seconds |
| RetCode: 0 |
| Status: OK |
##############################################################################
##############################################################################
###
### Running command:
###
### C:\cygwin\bin\curl.exe -O https://malbec2.bioconductor.org/BBS/3.7/bioc/src/contrib/flowcatchR_1.14.0.tar.gz && rm -rf flowcatchR.buildbin-libdir && mkdir flowcatchR.buildbin-libdir && C:\Users\biocbuild\bbs-3.7-bioc\R\bin\R.exe CMD INSTALL --merge-multiarch --build --library=flowcatchR.buildbin-libdir flowcatchR_1.14.0.tar.gz && C:\Users\biocbuild\bbs-3.7-bioc\R\bin\R.exe CMD INSTALL flowcatchR_1.14.0.zip && rm flowcatchR_1.14.0.tar.gz flowcatchR_1.14.0.zip
###
##############################################################################
##############################################################################
% Total % Received % Xferd Average Speed Time Time Time Current
Dload Upload Total Spent Left Speed
0 0 0 0 0 0 0 0 --:--:-- --:--:-- --:--:-- 0
100 1395k 100 1395k 0 0 19.5M 0 --:--:-- --:--:-- --:--:-- 21.6M
install for i386
* installing *source* package 'flowcatchR' ...
** R
** data
*** moving datasets to lazyload DB
** inst
** byte-compile and prepare package for lazy loading
** help
*** installing help indices
converting help for package 'flowcatchR'
finding HTML links ... done
Frames-class html
Frames html
KinematicsFeatures-class html
KinematicsFeaturesSet-class html
LinkedParticleSet-class html
MesenteriumSubset html
ParticleSet-class html
TrajectorySet-class html
add.contours html
addParticles html
axesInfo html
candidate.platelets html
channel.Frames html
computeMSD html
crop.Frames html
finding level-2 HTML links ... done
export.Frames html
export.particles html
extractKinematics.traj html
flowcatchR html
initialize.LinkedParticleSet html
inspect.Frames html
kinematics html
length.Frames html
link.particles html
matchTrajToParticles html
normalizeFrames html
particles html
penaltyFunctionGenerator html
plot.TrajectorySet html
plot2D.TrajectorySet html
preprocess.Frames html
read.Frames html
read.particles html
repmat html
rotate.Frames html
select.Frames html
select.particles html
shinyFlow html
show-Frames-method html
show-KinematicsFeatures-method html
show-KinematicsFeaturesSet-method html
show-LinkedParticleSet-method html
show-ParticleSet-method html
show-TrajectorySet-method html
snap html
toCartesianCoords html
toPolarCoords html
trajectories html
** building package indices
** installing vignettes
** testing if installed package can be loaded
In R CMD INSTALL
install for x64
* installing *source* package 'flowcatchR' ...
** testing if installed package can be loaded
* MD5 sums
packaged installation of 'flowcatchR' as flowcatchR_1.14.0.zip
* DONE (flowcatchR)
In R CMD INSTALL
In R CMD INSTALL
* installing to library 'C:/Users/biocbuild/bbs-3.7-bioc/R/library'
package 'flowcatchR' successfully unpacked and MD5 sums checked
In R CMD INSTALL