| Back to Multiple platform build/check report for BioC 3.7 |
|
This page was generated on 2018-10-17 08:43:44 -0400 (Wed, 17 Oct 2018).
| Package 519/1561 | Hostname | OS / Arch | INSTALL | BUILD | CHECK | BUILD BIN | ||||||
| flowTime 1.4.0 R. Clay Wright
| malbec2 | Linux (Ubuntu 16.04.1 LTS) / x86_64 | OK | OK | OK | |||||||
| tokay2 | Windows Server 2012 R2 Standard / x64 | [ OK ] | OK | OK | OK | |||||||
| merida2 | OS X 10.11.6 El Capitan / x86_64 | OK | OK | OK | OK |
| Package: flowTime |
| Version: 1.4.0 |
| Command: C:\cygwin\bin\curl.exe -O https://malbec2.bioconductor.org/BBS/3.7/bioc/src/contrib/flowTime_1.4.0.tar.gz && rm -rf flowTime.buildbin-libdir && mkdir flowTime.buildbin-libdir && C:\Users\biocbuild\bbs-3.7-bioc\R\bin\R.exe CMD INSTALL --merge-multiarch --build --library=flowTime.buildbin-libdir flowTime_1.4.0.tar.gz && C:\Users\biocbuild\bbs-3.7-bioc\R\bin\R.exe CMD INSTALL flowTime_1.4.0.zip && rm flowTime_1.4.0.tar.gz flowTime_1.4.0.zip |
| StartedAt: 2018-10-16 18:59:16 -0400 (Tue, 16 Oct 2018) |
| EndedAt: 2018-10-16 19:00:22 -0400 (Tue, 16 Oct 2018) |
| EllapsedTime: 65.4 seconds |
| RetCode: 0 |
| Status: OK |
##############################################################################
##############################################################################
###
### Running command:
###
### C:\cygwin\bin\curl.exe -O https://malbec2.bioconductor.org/BBS/3.7/bioc/src/contrib/flowTime_1.4.0.tar.gz && rm -rf flowTime.buildbin-libdir && mkdir flowTime.buildbin-libdir && C:\Users\biocbuild\bbs-3.7-bioc\R\bin\R.exe CMD INSTALL --merge-multiarch --build --library=flowTime.buildbin-libdir flowTime_1.4.0.tar.gz && C:\Users\biocbuild\bbs-3.7-bioc\R\bin\R.exe CMD INSTALL flowTime_1.4.0.zip && rm flowTime_1.4.0.tar.gz flowTime_1.4.0.zip
###
##############################################################################
##############################################################################
% Total % Received % Xferd Average Speed Time Time Time Current
Dload Upload Total Spent Left Speed
0 0 0 0 0 0 0 0 --:--:-- --:--:-- --:--:-- 0
100 2151k 100 2151k 0 0 23.1M 0 --:--:-- --:--:-- --:--:-- 25.0M
install for i386
* installing *source* package 'flowTime' ...
** R
** data
*** moving datasets to lazyload DB
** inst
** byte-compile and prepare package for lazy loading
** help
*** installing help indices
converting help for package 'flowTime'
finding HTML links ... done
addbs html
addnorm html
annotateFlowSet html
createAnnotation html
dipdoubletGate html
dipsingletGate html
flsummary html
getTime html
hapdoubletGate html
hapsingletGate html
loadGates html
ploidy html
polygate html
qaGating html
read.plateSet html
saveGates html
steadyState html
summarizeFlow html
yeastGate html
** building package indices
** installing vignettes
** testing if installed package can be loaded
In R CMD INSTALL
install for x64
* installing *source* package 'flowTime' ...
** testing if installed package can be loaded
* MD5 sums
packaged installation of 'flowTime' as flowTime_1.4.0.zip
* DONE (flowTime)
In R CMD INSTALL
In R CMD INSTALL
* installing to library 'C:/Users/biocbuild/bbs-3.7-bioc/R/library'
package 'flowTime' successfully unpacked and MD5 sums checked
In R CMD INSTALL