| Back to Multiple platform build/check report for BioC 3.7 |
|
This page was generated on 2018-10-17 08:34:15 -0400 (Wed, 17 Oct 2018).
| Package 518/1561 | Hostname | OS / Arch | INSTALL | BUILD | CHECK | BUILD BIN | ||||||
| flowStats 3.38.0 Greg Finak
| malbec2 | Linux (Ubuntu 16.04.1 LTS) / x86_64 | OK | OK | OK | |||||||
| tokay2 | Windows Server 2012 R2 Standard / x64 | [ OK ] | OK | WARNINGS | OK | |||||||
| merida2 | OS X 10.11.6 El Capitan / x86_64 | OK | OK | OK | OK |
| Package: flowStats |
| Version: 3.38.0 |
| Command: C:\cygwin\bin\curl.exe -O https://malbec2.bioconductor.org/BBS/3.7/bioc/src/contrib/flowStats_3.38.0.tar.gz && rm -rf flowStats.buildbin-libdir && mkdir flowStats.buildbin-libdir && C:\Users\biocbuild\bbs-3.7-bioc\R\bin\R.exe CMD INSTALL --merge-multiarch --build --library=flowStats.buildbin-libdir flowStats_3.38.0.tar.gz && C:\Users\biocbuild\bbs-3.7-bioc\R\bin\R.exe CMD INSTALL flowStats_3.38.0.zip && rm flowStats_3.38.0.tar.gz flowStats_3.38.0.zip |
| StartedAt: 2018-10-16 19:46:51 -0400 (Tue, 16 Oct 2018) |
| EndedAt: 2018-10-16 19:47:44 -0400 (Tue, 16 Oct 2018) |
| EllapsedTime: 52.8 seconds |
| RetCode: 0 |
| Status: OK |
##############################################################################
##############################################################################
###
### Running command:
###
### C:\cygwin\bin\curl.exe -O https://malbec2.bioconductor.org/BBS/3.7/bioc/src/contrib/flowStats_3.38.0.tar.gz && rm -rf flowStats.buildbin-libdir && mkdir flowStats.buildbin-libdir && C:\Users\biocbuild\bbs-3.7-bioc\R\bin\R.exe CMD INSTALL --merge-multiarch --build --library=flowStats.buildbin-libdir flowStats_3.38.0.tar.gz && C:\Users\biocbuild\bbs-3.7-bioc\R\bin\R.exe CMD INSTALL flowStats_3.38.0.zip && rm flowStats_3.38.0.tar.gz flowStats_3.38.0.zip
###
##############################################################################
##############################################################################
% Total % Received % Xferd Average Speed Time Time Time Current
Dload Upload Total Spent Left Speed
0 0 0 0 0 0 0 0 --:--:-- --:--:-- --:--:-- 0
100 1500k 100 1500k 0 0 21.3M 0 --:--:-- --:--:-- --:--:-- 23.6M
install for i386
* installing *source* package 'flowStats' ...
** R
** data
** byte-compile and prepare package for lazy loading
** help
*** installing help indices
converting help for package 'flowStats'
finding HTML links ... done
BackGating html
ITN html
autoGate html
binByRef html
calcPBChiSquare html
calcPearsonChi html
curv1Filter-class html
finding level-2 HTML links ... done
curv2Filter-class html
curvPeaks html
density1d html
flowStats-package html
gaussNorm html
gpaSet html
iProcrustes html
idFeaturesByBackgating html
landmarkMatrix html
lymphGate html
normQA html
normalize html
Rd warning: C:/Users/biocbuild/bbs-3.7-bioc/tmpdir/RtmpAtzPKK/R.INSTALL1b50b447930/flowStats/man/normalize.Rd:58: file link 'ncdfFlowSet' in package 'ncdfFlow' does not exist and so has been treated as a topic
plotBins html
proBin html
quadrantGate html
rangeGate html
singletGate html
warpSet html
** building package indices
** installing vignettes
** testing if installed package can be loaded
In R CMD INSTALL
install for x64
* installing *source* package 'flowStats' ...
** testing if installed package can be loaded
* MD5 sums
packaged installation of 'flowStats' as flowStats_3.38.0.zip
* DONE (flowStats)
In R CMD INSTALL
In R CMD INSTALL
* installing to library 'C:/Users/biocbuild/bbs-3.7-bioc/R/library'
package 'flowStats' successfully unpacked and MD5 sums checked
In R CMD INSTALL