| Back to Multiple platform build/check report for BioC 3.7 |
|
This page was generated on 2018-10-17 08:39:33 -0400 (Wed, 17 Oct 2018).
| Package 475/1561 | Hostname | OS / Arch | INSTALL | BUILD | CHECK | BUILD BIN | ||||||
| facopy 1.14.0 David Mosen-Ansorena
| malbec2 | Linux (Ubuntu 16.04.1 LTS) / x86_64 | ERROR | ERROR | skipped | |||||||
| tokay2 | Windows Server 2012 R2 Standard / x64 | [ ERROR ] | ERROR | skipped | skipped | |||||||
| merida2 | OS X 10.11.6 El Capitan / x86_64 | ERROR | ERROR | skipped | skipped |
| Package: facopy |
| Version: 1.14.0 |
| Command: C:\cygwin\bin\curl.exe -O https://malbec2.bioconductor.org/BBS/3.7/bioc/src/contrib/facopy_1.14.0.tar.gz && rm -rf facopy.buildbin-libdir && mkdir facopy.buildbin-libdir && C:\Users\biocbuild\bbs-3.7-bioc\R\bin\R.exe CMD INSTALL --merge-multiarch --build --library=facopy.buildbin-libdir facopy_1.14.0.tar.gz && C:\Users\biocbuild\bbs-3.7-bioc\R\bin\R.exe CMD INSTALL facopy_1.14.0.zip && rm facopy_1.14.0.tar.gz facopy_1.14.0.zip |
| StartedAt: 2018-10-16 20:16:17 -0400 (Tue, 16 Oct 2018) |
| EndedAt: 2018-10-16 20:16:36 -0400 (Tue, 16 Oct 2018) |
| EllapsedTime: 18.3 seconds |
| RetCode: 1 |
| Status: ERROR |
##############################################################################
##############################################################################
###
### Running command:
###
### C:\cygwin\bin\curl.exe -O https://malbec2.bioconductor.org/BBS/3.7/bioc/src/contrib/facopy_1.14.0.tar.gz && rm -rf facopy.buildbin-libdir && mkdir facopy.buildbin-libdir && C:\Users\biocbuild\bbs-3.7-bioc\R\bin\R.exe CMD INSTALL --merge-multiarch --build --library=facopy.buildbin-libdir facopy_1.14.0.tar.gz && C:\Users\biocbuild\bbs-3.7-bioc\R\bin\R.exe CMD INSTALL facopy_1.14.0.zip && rm facopy_1.14.0.tar.gz facopy_1.14.0.zip
###
##############################################################################
##############################################################################
% Total % Received % Xferd Average Speed Time Time Time Current
Dload Upload Total Spent Left Speed
0 0 0 0 0 0 0 0 --:--:-- --:--:-- --:--:-- 0
100 461k 100 461k 0 0 9102k 0 --:--:-- --:--:-- --:--:-- 10.2M
install for i386
* installing *source* package 'facopy' ...
** R
** data
** inst
** byte-compile and prepare package for lazy loading
Error : object 'setting.graph.attributes' is not exported by 'namespace:DOSE'
ERROR: lazy loading failed for package 'facopy'
* removing 'C:/Users/biocbuild/bbs-3.7-bioc/meat/facopy.buildbin-libdir/facopy'
In R CMD INSTALL
In R CMD INSTALL