| Back to Multiple platform build/check report for BioC 3.7 |
|
This page was generated on 2018-10-17 08:31:00 -0400 (Wed, 17 Oct 2018).
| Package 462/1561 | Hostname | OS / Arch | INSTALL | BUILD | CHECK | BUILD BIN | ||||||
| esATAC 1.2.3 Zheng Wei
| malbec2 | Linux (Ubuntu 16.04.1 LTS) / x86_64 | OK | OK | [ OK ] | |||||||
| tokay2 | Windows Server 2012 R2 Standard / x64 | OK | OK | OK | OK | |||||||
| merida2 | OS X 10.11.6 El Capitan / x86_64 | OK | OK | OK | OK |
| Package: esATAC |
| Version: 1.2.3 |
| Command: /home/biocbuild/bbs-3.7-bioc/R/bin/R CMD check --install=check:esATAC.install-out.txt --library=/home/biocbuild/bbs-3.7-bioc/R/library --no-vignettes --timings esATAC_1.2.3.tar.gz |
| StartedAt: 2018-10-16 00:16:32 -0400 (Tue, 16 Oct 2018) |
| EndedAt: 2018-10-16 00:22:03 -0400 (Tue, 16 Oct 2018) |
| EllapsedTime: 331.1 seconds |
| RetCode: 0 |
| Status: OK |
| CheckDir: esATAC.Rcheck |
| Warnings: 0 |
##############################################################################
##############################################################################
###
### Running command:
###
### /home/biocbuild/bbs-3.7-bioc/R/bin/R CMD check --install=check:esATAC.install-out.txt --library=/home/biocbuild/bbs-3.7-bioc/R/library --no-vignettes --timings esATAC_1.2.3.tar.gz
###
##############################################################################
##############################################################################
* using log directory ‘/home/biocbuild/bbs-3.7-bioc/meat/esATAC.Rcheck’
* using R version 3.5.1 Patched (2018-07-12 r74967)
* using platform: x86_64-pc-linux-gnu (64-bit)
* using session charset: UTF-8
* using option ‘--no-vignettes’
* checking for file ‘esATAC/DESCRIPTION’ ... OK
* checking extension type ... Package
* this is package ‘esATAC’ version ‘1.2.3’
* package encoding: UTF-8
* checking package namespace information ... OK
* checking package dependencies ... OK
* checking if this is a source package ... OK
* checking if there is a namespace ... OK
* checking for hidden files and directories ... NOTE
Found the following hidden files and directories:
.BBSoptions
These were most likely included in error. See section ‘Package
structure’ in the ‘Writing R Extensions’ manual.
* checking for portable file names ... OK
* checking for sufficient/correct file permissions ... OK
* checking whether package ‘esATAC’ can be installed ... OK
* checking installed package size ... NOTE
installed size is 9.7Mb
sub-directories of 1Mb or more:
extdata 5.1Mb
libs 3.4Mb
* checking package directory ... OK
* checking ‘build’ directory ... OK
* checking DESCRIPTION meta-information ... OK
* checking top-level files ... OK
* checking for left-over files ... OK
* checking index information ... OK
* checking package subdirectories ... OK
* checking R files for non-ASCII characters ... OK
* checking R files for syntax errors ... OK
* checking whether the package can be loaded ... OK
* checking whether the package can be loaded with stated dependencies ... OK
* checking whether the package can be unloaded cleanly ... OK
* checking whether the namespace can be loaded with stated dependencies ... OK
* checking whether the namespace can be unloaded cleanly ... OK
* checking dependencies in R code ... NOTE
Unexported objects imported by ':::' calls:
‘ShortRead:::.ShortReadQQA’ ‘ShortRead:::.qa_adapterContamination’
See the note in ?`:::` about the use of this operator.
* checking S3 generic/method consistency ... OK
* checking replacement functions ... OK
* checking foreign function calls ... OK
* checking R code for possible problems ... OK
* checking Rd files ... OK
* checking Rd metadata ... OK
* checking Rd cross-references ... OK
* checking for missing documentation entries ... OK
* checking for code/documentation mismatches ... OK
* checking Rd \usage sections ... OK
* checking Rd contents ... OK
* checking for unstated dependencies in examples ... OK
* checking line endings in C/C++/Fortran sources/headers ... OK
* checking line endings in Makefiles ... OK
* checking compilation flags in Makevars ... OK
* checking for GNU extensions in Makefiles ... OK
* checking for portable use of $(BLAS_LIBS) and $(LAPACK_LIBS) ... OK
* checking compiled code ... NOTE
Note: information on .o files is not available
* checking files in ‘vignettes’ ... OK
* checking examples ... OK
* checking for unstated dependencies in ‘tests’ ... OK
* checking tests ...
Running ‘testthat.R’
OK
* checking for unstated dependencies in vignettes ... OK
* checking package vignettes in ‘inst/doc’ ... OK
* checking running R code from vignettes ... SKIPPED
* checking re-building of vignette outputs ... SKIPPED
* checking PDF version of manual ... OK
* DONE
Status: 4 NOTEs
See
‘/home/biocbuild/bbs-3.7-bioc/meat/esATAC.Rcheck/00check.log’
for details.
esATAC.Rcheck/00install.out
############################################################################## ############################################################################## ### ### Running command: ### ### /home/biocbuild/bbs-3.7-bioc/R/bin/R CMD INSTALL esATAC ### ############################################################################## ############################################################################## * installing to library ‘/home/biocbuild/bbs-3.7-bioc/R/library’ * installing *source* package ‘esATAC’ ... ** libs g++ -std=gnu++11 -I"/home/biocbuild/bbs-3.7-bioc/R/include" -DNDEBUG -DNDEBUG -DPLF_SYS_LINUX -DR_EVN_FLAG -I"/home/biocbuild/bbs-3.7-bioc/R/library/Rcpp/include" -I/usr/local/include -fpic -g -O2 -c BedLine.cpp -o BedLine.o g++ -std=gnu++11 -I"/home/biocbuild/bbs-3.7-bioc/R/include" -DNDEBUG -DNDEBUG -DPLF_SYS_LINUX -DR_EVN_FLAG -I"/home/biocbuild/bbs-3.7-bioc/R/library/Rcpp/include" -I/usr/local/include -fpic -g -O2 -c BedUtils.cpp -o BedUtils.o g++ -std=gnu++11 -I"/home/biocbuild/bbs-3.7-bioc/R/include" -DNDEBUG -DNDEBUG -DPLF_SYS_LINUX -DR_EVN_FLAG -I"/home/biocbuild/bbs-3.7-bioc/R/library/Rcpp/include" -I/usr/local/include -fpic -g -O2 -c ChrDivi.cpp -o ChrDivi.o g++ -std=gnu++11 -I"/home/biocbuild/bbs-3.7-bioc/R/include" -DNDEBUG -DNDEBUG -DPLF_SYS_LINUX -DR_EVN_FLAG -I"/home/biocbuild/bbs-3.7-bioc/R/library/Rcpp/include" -I/usr/local/include -fpic -g -O2 -c CutCountPre.cpp -o CutCountPre.o g++ -std=gnu++11 -I"/home/biocbuild/bbs-3.7-bioc/R/include" -DNDEBUG -DNDEBUG -DPLF_SYS_LINUX -DR_EVN_FLAG -I"/home/biocbuild/bbs-3.7-bioc/R/library/Rcpp/include" -I/usr/local/include -fpic -g -O2 -c CutSiteCount.cpp -o CutSiteCount.o g++ -std=gnu++11 -I"/home/biocbuild/bbs-3.7-bioc/R/include" -DNDEBUG -DNDEBUG -DPLF_SYS_LINUX -DR_EVN_FLAG -I"/home/biocbuild/bbs-3.7-bioc/R/library/Rcpp/include" -I/usr/local/include -fpic -g -O2 -c LibComplexQC.cpp -o LibComplexQC.o g++ -std=gnu++11 -I"/home/biocbuild/bbs-3.7-bioc/R/include" -DNDEBUG -DNDEBUG -DPLF_SYS_LINUX -DR_EVN_FLAG -I"/home/biocbuild/bbs-3.7-bioc/R/library/Rcpp/include" -I/usr/local/include -fpic -g -O2 -c RcppExports.cpp -o RcppExports.o g++ -std=gnu++11 -I"/home/biocbuild/bbs-3.7-bioc/R/include" -DNDEBUG -DNDEBUG -DPLF_SYS_LINUX -DR_EVN_FLAG -I"/home/biocbuild/bbs-3.7-bioc/R/library/Rcpp/include" -I/usr/local/include -fpic -g -O2 -c SortBed.cpp -o SortBed.o g++ -std=gnu++11 -I"/home/biocbuild/bbs-3.7-bioc/R/include" -DNDEBUG -DNDEBUG -DPLF_SYS_LINUX -DR_EVN_FLAG -I"/home/biocbuild/bbs-3.7-bioc/R/library/Rcpp/include" -I/usr/local/include -fpic -g -O2 -c rcpp_wrapper.cpp -o rcpp_wrapper.o g++ -std=gnu++11 -I"/home/biocbuild/bbs-3.7-bioc/R/include" -DNDEBUG -DNDEBUG -DPLF_SYS_LINUX -DR_EVN_FLAG -I"/home/biocbuild/bbs-3.7-bioc/R/library/Rcpp/include" -I/usr/local/include -fpic -g -O2 -c renamer.cpp -o renamer.o g++ -std=gnu++11 -I"/home/biocbuild/bbs-3.7-bioc/R/include" -DNDEBUG -DNDEBUG -DPLF_SYS_LINUX -DR_EVN_FLAG -I"/home/biocbuild/bbs-3.7-bioc/R/library/Rcpp/include" -I/usr/local/include -fpic -g -O2 -c sam2bed.cc -o sam2bed.o g++ -std=gnu++11 -shared -L/home/biocbuild/bbs-3.7-bioc/R/lib -L/usr/local/lib -o esATAC.so BedLine.o BedUtils.o ChrDivi.o CutCountPre.o CutSiteCount.o LibComplexQC.o RcppExports.o SortBed.o rcpp_wrapper.o renamer.o sam2bed.o -L/home/biocbuild/bbs-3.7-bioc/R/lib -lR installing to /home/biocbuild/bbs-3.7-bioc/R/library/esATAC/libs ** R ** inst ** byte-compile and prepare package for lazy loading ** help *** installing help indices ** building package indices ** installing vignettes ** testing if installed package can be loaded * DONE (esATAC)
esATAC.Rcheck/tests/testthat.Rout
R version 3.5.1 Patched (2018-07-12 r74967) -- "Feather Spray"
Copyright (C) 2018 The R Foundation for Statistical Computing
Platform: x86_64-pc-linux-gnu (64-bit)
R is free software and comes with ABSOLUTELY NO WARRANTY.
You are welcome to redistribute it under certain conditions.
Type 'license()' or 'licence()' for distribution details.
R is a collaborative project with many contributors.
Type 'contributors()' for more information and
'citation()' on how to cite R or R packages in publications.
Type 'demo()' for some demos, 'help()' for on-line help, or
'help.start()' for an HTML browser interface to help.
Type 'q()' to quit R.
> library(testthat)
> library(esATAC)
Loading required package: Rsamtools
Loading required package: GenomeInfoDb
Loading required package: BiocGenerics
Loading required package: parallel
Attaching package: 'BiocGenerics'
The following objects are masked from 'package:parallel':
clusterApply, clusterApplyLB, clusterCall, clusterEvalQ,
clusterExport, clusterMap, parApply, parCapply, parLapply,
parLapplyLB, parRapply, parSapply, parSapplyLB
The following objects are masked from 'package:stats':
IQR, mad, sd, var, xtabs
The following objects are masked from 'package:base':
Filter, Find, Map, Position, Reduce, anyDuplicated, append,
as.data.frame, basename, cbind, colMeans, colSums, colnames,
dirname, do.call, duplicated, eval, evalq, get, grep, grepl,
intersect, is.unsorted, lapply, lengths, mapply, match, mget,
order, paste, pmax, pmax.int, pmin, pmin.int, rank, rbind,
rowMeans, rowSums, rownames, sapply, setdiff, sort, table, tapply,
union, unique, unsplit, which, which.max, which.min
Loading required package: S4Vectors
Loading required package: stats4
Attaching package: 'S4Vectors'
The following object is masked from 'package:base':
expand.grid
Loading required package: IRanges
Loading required package: GenomicRanges
Loading required package: Biostrings
Loading required package: XVector
Attaching package: 'Biostrings'
The following object is masked from 'package:base':
strsplit
Loading required package: ShortRead
Loading required package: BiocParallel
Loading required package: GenomicAlignments
Loading required package: SummarizedExperiment
Loading required package: Biobase
Welcome to Bioconductor
Vignettes contain introductory material; view with
'browseVignettes()'. To cite Bioconductor, see
'citation("Biobase")', and for packages 'citation("pkgname")'.
Loading required package: DelayedArray
Loading required package: matrixStats
Attaching package: 'matrixStats'
The following objects are masked from 'package:Biobase':
anyMissing, rowMedians
Attaching package: 'DelayedArray'
The following objects are masked from 'package:matrixStats':
colMaxs, colMins, colRanges, rowMaxs, rowMins, rowRanges
The following object is masked from 'package:Biostrings':
type
The following objects are masked from 'package:base':
aperm, apply
>
> test_check("esATAC")
Opening FASTQ file '/tmp/RtmptPIPWO/baseopr/reads_1.Renamer.fq'
Opening FASTQ file '/tmp/RtmptPIPWO/baseopr/reads_2.Renamer.fq'
Trimming paired end reads ...
Opening FASTQ file '/tmp/RtmptPIPWO/baseopr/reads_1.Renamer.fq'
Opening FASTQ file '/tmp/RtmptPIPWO/baseopr/reads_2.Renamer.fq'
Opening FASTQ file '/tmp/RtmptPIPWO/baseopr/reads_1.Renamer.fq'
Opening FASTQ file '/tmp/RtmptPIPWO/baseopr/reads_2.Renamer.fq'
Trimming paired end reads ...
Opening FASTQ file '/tmp/RtmptPIPWO/baseopr/reads_1.Renamer.fq'
Opening FASTQ file '/tmp/RtmptPIPWO/baseopr/reads_2.Renamer.fq'
Opening FASTQ file '/tmp/RtmptPIPWO/umr/reads_1.Renamer.fq'
Opening FASTQ file '/tmp/RtmptPIPWO/umr/reads_2.Renamer.fq'
Trimming paired end reads ...
Opening FASTQ file '/tmp/RtmptPIPWO/umr/reads_1.Renamer.fq'
Opening FASTQ file '/tmp/RtmptPIPWO/umr/reads_2.Renamer.fq'
F-Seq Version 1.85
Settings:
window=2860
bandwidth=100
threshold = 8.899335
est. fragment size = 0
sequence length = 32
chr20: first=60385, last=13381774
....................
.....................
chr20: Completed in 0.51 seconds.
chr20: Found 1417 peaks.
-----------------------
finish temporary output:/tmp/RtmptPIPWO/sam2bed/Example.SamToBed.bed.0
merge start
merge finish
finish
══ testthat results ═══════════════════════════════════════════════════════════
OK: 92 SKIPPED: 0 FAILED: 0
>
> proc.time()
user system elapsed
24.648 1.588 25.993
esATAC.Rcheck/esATAC-Ex.timings
| name | user | system | elapsed | |
| ATACProc-class | 1.528 | 0.400 | 2.064 | |
| BamToBed | 0.328 | 0.024 | 0.357 | |
| BedToBigWig | 0.052 | 0.008 | 0.057 | |
| BedUtils | 0.192 | 0.012 | 0.213 | |
| Bowtie2Mapping | 0.788 | 0.296 | 0.694 | |
| CutSiteCountR | 0.496 | 0.028 | 0.527 | |
| CutSitePre | 0.256 | 0.004 | 0.258 | |
| FastQC | 0.604 | 0.028 | 0.695 | |
| FragLenDistr | 0.052 | 0.000 | 0.050 | |
| FripQC | 1.856 | 0.084 | 1.358 | |
| LibComplexQC | 0.136 | 0.004 | 0.142 | |
| PeakCallingFseq | 0.244 | 0.004 | 0.247 | |
| PeakQC | 0.376 | 0.000 | 0.377 | |
| RGo | 0.000 | 0.000 | 0.001 | |
| RMotifScan | 0.000 | 0.000 | 0.001 | |
| RMotifScanPair | 4.116 | 0.160 | 4.278 | |
| RPeakAnno | 0.152 | 0.000 | 0.156 | |
| RPeakComp | 0.044 | 0.004 | 0.047 | |
| RSNPs | 0.108 | 0.000 | 0.110 | |
| RemoveAdapter | 0.176 | 0.004 | 0.182 | |
| Renamer | 0.016 | 0.004 | 0.024 | |
| Rsortbam | 0.040 | 0.000 | 0.039 | |
| SamToBam | 0.184 | 0.004 | 0.190 | |
| SamToBed | 0.192 | 0.008 | 0.201 | |
| TSSQC | 1.168 | 0.020 | 1.189 | |
| UnzipAndMerge | 0.004 | 0.000 | 0.007 | |
| atacPipe2 | 0.000 | 0.000 | 0.001 | |
| atacRepsPipe | 0.004 | 0.000 | 0.002 | |
| atacRepsPipe2 | 0.000 | 0.000 | 0.002 | |
| configureValue | 0.000 | 0.000 | 0.001 | |
| esATAC-package | 0.000 | 0.000 | 0.001 | |
| getMotifInfo | 0.008 | 0.004 | 0.020 | |