| Back to Multiple platform build/check report for BioC 3.7 |
|
This page was generated on 2018-10-17 08:42:19 -0400 (Wed, 17 Oct 2018).
| Package 459/1561 | Hostname | OS / Arch | INSTALL | BUILD | CHECK | BUILD BIN | ||||||
| epivizrStandalone 1.8.0 Hector Corrada Bravo
| malbec2 | Linux (Ubuntu 16.04.1 LTS) / x86_64 | OK | OK | OK | |||||||
| tokay2 | Windows Server 2012 R2 Standard / x64 | OK | OK | WARNINGS | [ OK ] | |||||||
| merida2 | OS X 10.11.6 El Capitan / x86_64 | OK | OK | OK | OK |
| Package: epivizrStandalone |
| Version: 1.8.0 |
| Command: rm -rf epivizrStandalone.buildbin-libdir && mkdir epivizrStandalone.buildbin-libdir && C:\Users\biocbuild\bbs-3.7-bioc\R\bin\R.exe CMD INSTALL --merge-multiarch --build --library=epivizrStandalone.buildbin-libdir epivizrStandalone_1.8.0.tar.gz |
| StartedAt: 2018-10-17 06:18:21 -0400 (Wed, 17 Oct 2018) |
| EndedAt: 2018-10-17 06:18:56 -0400 (Wed, 17 Oct 2018) |
| EllapsedTime: 35.8 seconds |
| RetCode: 0 |
| Status: OK |
| PackageFile: epivizrStandalone_1.8.0.zip |
| PackageFileSize: 259.4 KiB |
##############################################################################
##############################################################################
###
### Running command:
###
### rm -rf epivizrStandalone.buildbin-libdir && mkdir epivizrStandalone.buildbin-libdir && C:\Users\biocbuild\bbs-3.7-bioc\R\bin\R.exe CMD INSTALL --merge-multiarch --build --library=epivizrStandalone.buildbin-libdir epivizrStandalone_1.8.0.tar.gz
###
##############################################################################
##############################################################################
install for i386
* installing *source* package 'epivizrStandalone' ...
** R
** inst
** byte-compile and prepare package for lazy loading
Warning: replacing previous import 'S4Vectors::as.data.frame' by 'git2r::as.data.frame' when loading 'epivizrStandalone'
Warning: replacing previous import 'S4Vectors::head' by 'git2r::head' when loading 'epivizrStandalone'
Warning: replacing previous import 'S4Vectors::merge' by 'git2r::merge' when loading 'epivizrStandalone'
** help
*** installing help indices
converting help for package 'epivizrStandalone'
finding HTML links ... done
setStandalone html
startStandalone html
Rd warning: C:/Users/biocbuild/bbs-3.7-bioc/tmpdir/RtmpUJKsce/R.INSTALL22086dc02ba9/epivizrStandalone/man/startStandalone.Rd:13: file link 'TxDb' in package 'GenomicFeatures' does not exist and so has been treated as a topic
Rd warning: C:/Users/biocbuild/bbs-3.7-bioc/tmpdir/RtmpUJKsce/R.INSTALL22086dc02ba9/epivizrStandalone/man/startStandalone.Rd:37: file link 'EpivizApp' in package 'epivizr' does not exist and so has been treated as a topic
startStandaloneApp html
Rd warning: C:/Users/biocbuild/bbs-3.7-bioc/tmpdir/RtmpUJKsce/R.INSTALL22086dc02ba9/epivizrStandalone/man/startStandaloneApp.Rd:14: file link 'TxDb' in package 'GenomicFeatures' does not exist and so has been treated as a topic
Rd warning: C:/Users/biocbuild/bbs-3.7-bioc/tmpdir/RtmpUJKsce/R.INSTALL22086dc02ba9/epivizrStandalone/man/startStandaloneApp.Rd:35: file link 'EpivizApp' in package 'epivizr' does not exist and so has been treated as a topic
** building package indices
** installing vignettes
** testing if installed package can be loaded
Warning: replacing previous import 'S4Vectors::as.data.frame' by 'git2r::as.data.frame' when loading 'epivizrStandalone'
Warning: replacing previous import 'S4Vectors::head' by 'git2r::head' when loading 'epivizrStandalone'
Warning: replacing previous import 'S4Vectors::merge' by 'git2r::merge' when loading 'epivizrStandalone'
In R CMD INSTALL
install for x64
* installing *source* package 'epivizrStandalone' ...
** testing if installed package can be loaded
Warning: replacing previous import 'S4Vectors::merge' by 'git2r::merge' when loading 'epivizrStandalone'
Warning: replacing previous import 'S4Vectors::head' by 'git2r::head' when loading 'epivizrStandalone'
Warning: replacing previous import 'S4Vectors::as.data.frame' by 'git2r::as.data.frame' when loading 'epivizrStandalone'
* MD5 sums
packaged installation of 'epivizrStandalone' as epivizrStandalone_1.8.0.zip
* DONE (epivizrStandalone)
In R CMD INSTALL
In R CMD INSTALL