| Back to Multiple platform build/check report for BioC 3.7 |
|
This page was generated on 2018-10-17 08:34:31 -0400 (Wed, 17 Oct 2018).
| Package 439/1561 | Hostname | OS / Arch | INSTALL | BUILD | CHECK | BUILD BIN | ||||||
| eisa 1.32.0 Gabor Csardi
| malbec2 | Linux (Ubuntu 16.04.1 LTS) / x86_64 | OK | OK | OK | |||||||
| tokay2 | Windows Server 2012 R2 Standard / x64 | [ OK ] | OK | OK | OK | |||||||
| merida2 | OS X 10.11.6 El Capitan / x86_64 | OK | OK | OK | OK |
| Package: eisa |
| Version: 1.32.0 |
| Command: C:\cygwin\bin\curl.exe -O https://malbec2.bioconductor.org/BBS/3.7/bioc/src/contrib/eisa_1.32.0.tar.gz && rm -rf eisa.buildbin-libdir && mkdir eisa.buildbin-libdir && C:\Users\biocbuild\bbs-3.7-bioc\R\bin\R.exe CMD INSTALL --merge-multiarch --build --library=eisa.buildbin-libdir eisa_1.32.0.tar.gz && C:\Users\biocbuild\bbs-3.7-bioc\R\bin\R.exe CMD INSTALL eisa_1.32.0.zip && rm eisa_1.32.0.tar.gz eisa_1.32.0.zip |
| StartedAt: 2018-10-16 19:13:51 -0400 (Tue, 16 Oct 2018) |
| EndedAt: 2018-10-16 19:15:17 -0400 (Tue, 16 Oct 2018) |
| EllapsedTime: 86.0 seconds |
| RetCode: 0 |
| Status: OK |
##############################################################################
##############################################################################
###
### Running command:
###
### C:\cygwin\bin\curl.exe -O https://malbec2.bioconductor.org/BBS/3.7/bioc/src/contrib/eisa_1.32.0.tar.gz && rm -rf eisa.buildbin-libdir && mkdir eisa.buildbin-libdir && C:\Users\biocbuild\bbs-3.7-bioc\R\bin\R.exe CMD INSTALL --merge-multiarch --build --library=eisa.buildbin-libdir eisa_1.32.0.tar.gz && C:\Users\biocbuild\bbs-3.7-bioc\R\bin\R.exe CMD INSTALL eisa_1.32.0.zip && rm eisa_1.32.0.tar.gz eisa_1.32.0.zip
###
##############################################################################
##############################################################################
% Total % Received % Xferd Average Speed Time Time Time Current
Dload Upload Total Spent Left Speed
0 0 0 0 0 0 0 0 --:--:-- --:--:-- --:--:-- 0
100 1197k 100 1197k 0 0 16.9M 0 --:--:-- --:--:-- --:--:-- 18.8M
install for i386
* installing *source* package 'eisa' ...
** R
** data
** inst
** byte-compile and prepare package for lazy loading
in method for 'coerce' with signature '"Biclust","ISAModules"': no definition for class "Biclust"
in method for 'coerce' with signature '"ISAModules","Biclust"': no definition for class "Biclust"
** help
*** installing help indices
converting help for package 'eisa'
finding HTML links ... done
ALLModules html
ISA.CHR html
ISA.GO html
ISA.KEGG html
ISA html
ISA.html html
ISA.iterate html
ISA.miRNA html
ISA.normalize html
ISA.sweep html
ISA.unique html
ISA2heatmap html
ISAExpressionSet html
ISAModules-class html
ListHyperGParams-class html
ListHyperGResult-class html
cond.plot html
eisa.biclust html
enrichment html
exp.plot html
gograph html
mnplot html
overlap html
profilePlot html
robustness html
** building package indices
** installing vignettes
** testing if installed package can be loaded
In R CMD INSTALL
install for x64
* installing *source* package 'eisa' ...
** testing if installed package can be loaded
* MD5 sums
packaged installation of 'eisa' as eisa_1.32.0.zip
* DONE (eisa)
In R CMD INSTALL
In R CMD INSTALL
* installing to library 'C:/Users/biocbuild/bbs-3.7-bioc/R/library'
package 'eisa' successfully unpacked and MD5 sums checked
In R CMD INSTALL