| Back to Multiple platform build/check report for BioC 3.7 | 
 | 
This page was generated on 2018-10-17 08:21:07 -0400 (Wed, 17 Oct 2018).
| Package 430/1561 | Hostname | OS / Arch | INSTALL | BUILD | CHECK | BUILD BIN | ||||||
| ecolitk 1.52.0 Laurent Gautier 
 | malbec2 | Linux (Ubuntu 16.04.1 LTS) / x86_64 | [ OK ] | OK | WARNINGS |  | ||||||
| tokay2 | Windows Server 2012 R2 Standard / x64 | OK | OK | WARNINGS | OK |  | ||||||
| merida2 | OS X 10.11.6 El Capitan / x86_64 | OK | OK | WARNINGS | OK |  | 
| Package: ecolitk | 
| Version: 1.52.0 | 
| Command: /home/biocbuild/bbs-3.7-bioc/R/bin/R CMD INSTALL ecolitk | 
| StartedAt: 2018-10-15 17:57:51 -0400 (Mon, 15 Oct 2018) | 
| EndedAt: 2018-10-15 17:57:54 -0400 (Mon, 15 Oct 2018) | 
| EllapsedTime: 2.8 seconds | 
| RetCode: 0 | 
| Status: OK | 
############################################################################## ############################################################################## ### ### Running command: ### ### /home/biocbuild/bbs-3.7-bioc/R/bin/R CMD INSTALL ecolitk ### ############################################################################## ############################################################################## * installing to library ‘/home/biocbuild/bbs-3.7-bioc/R/library’ * installing *source* package ‘ecolitk’ ... ** R ** data ** byte-compile and prepare package for lazy loading Note: possible error in 'strsplit(line, "\t", ': unused argument (extended = TRUE) ** help *** installing help indices ** building package indices ** installing vignettes ** testing if installed package can be loaded * DONE (ecolitk)