| Back to Multiple platform build/check report for BioC 3.7 |
|
This page was generated on 2018-10-17 08:29:50 -0400 (Wed, 17 Oct 2018).
| Package 393/1561 | Hostname | OS / Arch | INSTALL | BUILD | CHECK | BUILD BIN | ||||||
| discordant 1.4.0 Charlotte Siska
| malbec2 | Linux (Ubuntu 16.04.1 LTS) / x86_64 | [ OK ] | OK | WARNINGS | |||||||
| tokay2 | Windows Server 2012 R2 Standard / x64 | OK | OK | WARNINGS | OK | |||||||
| merida2 | OS X 10.11.6 El Capitan / x86_64 | OK | OK | OK | OK |
| Package: discordant |
| Version: 1.4.0 |
| Command: /home/biocbuild/bbs-3.7-bioc/R/bin/R CMD INSTALL discordant |
| StartedAt: 2018-10-15 18:02:52 -0400 (Mon, 15 Oct 2018) |
| EndedAt: 2018-10-15 18:02:57 -0400 (Mon, 15 Oct 2018) |
| EllapsedTime: 4.8 seconds |
| RetCode: 0 |
| Status: OK |
##############################################################################
##############################################################################
###
### Running command:
###
### /home/biocbuild/bbs-3.7-bioc/R/bin/R CMD INSTALL discordant
###
##############################################################################
##############################################################################
* installing to library ‘/home/biocbuild/bbs-3.7-bioc/R/library’
* installing *source* package ‘discordant’ ...
** libs
gcc -I"/home/biocbuild/bbs-3.7-bioc/R/include" -DNDEBUG -I/usr/local/include -fpic -g -O2 -Wall -c discordant.c -o discordant.o
discordant.c: In function ‘em_normal_partial_concordant’:
discordant.c:21:13: warning: suggest parentheses around comparison in operand of ‘&’ [-Wparentheses]
while(flag>0 & iter<(*iteration)){
^
discordant.c:147:13: warning: suggest parentheses around comparison in operand of ‘&’ [-Wparentheses]
while(flag>0 & iter<(*iteration)){
^
gcc -shared -L/home/biocbuild/bbs-3.7-bioc/R/lib -L/usr/local/lib -o discordant.so discordant.o -L/home/biocbuild/bbs-3.7-bioc/R/lib -lR
installing to /home/biocbuild/bbs-3.7-bioc/R/library/discordant/libs
** R
** data
** inst
** byte-compile and prepare package for lazy loading
** help
*** installing help indices
** building package indices
** installing vignettes
** testing if installed package can be loaded
* DONE (discordant)