| Back to Multiple platform build/check report for BioC 3.7 |
|
This page was generated on 2018-10-17 08:40:05 -0400 (Wed, 17 Oct 2018).
| Package 390/1561 | Hostname | OS / Arch | INSTALL | BUILD | CHECK | BUILD BIN | ||||||
| diggit 1.12.0 Mariano J Alvarez
| malbec2 | Linux (Ubuntu 16.04.1 LTS) / x86_64 | OK | OK | WARNINGS | |||||||
| tokay2 | Windows Server 2012 R2 Standard / x64 | OK | [ OK ] | WARNINGS | OK | |||||||
| merida2 | OS X 10.11.6 El Capitan / x86_64 | OK | OK | WARNINGS | OK |
| Package: diggit |
| Version: 1.12.0 |
| Command: chmod a+r diggit -R && C:\Users\biocbuild\bbs-3.7-bioc\R\bin\R.exe CMD build --keep-empty-dirs --no-resave-data diggit |
| StartedAt: 2018-10-16 22:36:51 -0400 (Tue, 16 Oct 2018) |
| EndedAt: 2018-10-16 22:45:04 -0400 (Tue, 16 Oct 2018) |
| EllapsedTime: 493.2 seconds |
| RetCode: 0 |
| Status: OK |
| PackageFile: diggit_1.12.0.tar.gz |
| PackageFileSize: 224.1 KiB |
############################################################################## ############################################################################## ### ### Running command: ### ### chmod a+r diggit -R && C:\Users\biocbuild\bbs-3.7-bioc\R\bin\R.exe CMD build --keep-empty-dirs --no-resave-data diggit ### ############################################################################## ############################################################################## * checking for file 'diggit/DESCRIPTION' ... OK * preparing 'diggit': * checking DESCRIPTION meta-information ... OK * installing the package to build vignettes * creating vignettes ... OK * checking for LF line-endings in source and make files and shell scripts * checking for empty or unneeded directories * building 'diggit_1.12.0.tar.gz'