| Back to Multiple platform build/check report for BioC 3.7 |
|
This page was generated on 2018-10-17 08:32:32 -0400 (Wed, 17 Oct 2018).
| Package 385/1561 | Hostname | OS / Arch | INSTALL | BUILD | CHECK | BUILD BIN | ||||||
| diffGeneAnalysis 1.62.0 Choudary Jagarlamudi
| malbec2 | Linux (Ubuntu 16.04.1 LTS) / x86_64 | OK | OK | OK | |||||||
| tokay2 | Windows Server 2012 R2 Standard / x64 | OK | OK | OK | [ OK ] | |||||||
| merida2 | OS X 10.11.6 El Capitan / x86_64 | OK | OK | OK | OK |
| Package: diffGeneAnalysis |
| Version: 1.62.0 |
| Command: rm -rf diffGeneAnalysis.buildbin-libdir && mkdir diffGeneAnalysis.buildbin-libdir && C:\Users\biocbuild\bbs-3.7-bioc\R\bin\R.exe CMD INSTALL --merge-multiarch --build --library=diffGeneAnalysis.buildbin-libdir diffGeneAnalysis_1.62.0.tar.gz |
| StartedAt: 2018-10-17 06:15:17 -0400 (Wed, 17 Oct 2018) |
| EndedAt: 2018-10-17 06:15:24 -0400 (Wed, 17 Oct 2018) |
| EllapsedTime: 7.0 seconds |
| RetCode: 0 |
| Status: OK |
| PackageFile: diffGeneAnalysis_1.62.0.zip |
| PackageFileSize: 221.2 KiB |
##############################################################################
##############################################################################
###
### Running command:
###
### rm -rf diffGeneAnalysis.buildbin-libdir && mkdir diffGeneAnalysis.buildbin-libdir && C:\Users\biocbuild\bbs-3.7-bioc\R\bin\R.exe CMD INSTALL --merge-multiarch --build --library=diffGeneAnalysis.buildbin-libdir diffGeneAnalysis_1.62.0.tar.gz
###
##############################################################################
##############################################################################
install for i386
* installing *source* package 'diffGeneAnalysis' ...
** R
** data
** inst
** byte-compile and prepare package for lazy loading
** help
*** installing help indices
converting help for package 'diffGeneAnalysis'
finding HTML links ... done
assocAnalysis html
biasAdjust html
curveFit html
dataTrim html
normalize html
rawdata html
refGroup html
** building package indices
** installing vignettes
** testing if installed package can be loaded
In R CMD INSTALL
install for x64
* installing *source* package 'diffGeneAnalysis' ...
** testing if installed package can be loaded
* MD5 sums
packaged installation of 'diffGeneAnalysis' as diffGeneAnalysis_1.62.0.zip
* DONE (diffGeneAnalysis)
In R CMD INSTALL
In R CMD INSTALL