| Back to Multiple platform build/check report for BioC 3.7 |
|
This page was generated on 2018-10-17 08:45:22 -0400 (Wed, 17 Oct 2018).
| Package 352/1561 | Hostname | OS / Arch | INSTALL | BUILD | CHECK | BUILD BIN | ||||||
| ddPCRclust 1.0.1 Benedikt G. Brink
| malbec2 | Linux (Ubuntu 16.04.1 LTS) / x86_64 | OK | OK | OK | |||||||
| tokay2 | Windows Server 2012 R2 Standard / x64 | OK | OK | WARNINGS | [ OK ] | |||||||
| merida2 | OS X 10.11.6 El Capitan / x86_64 | OK | OK | OK | OK |
| Package: ddPCRclust |
| Version: 1.0.1 |
| Command: rm -rf ddPCRclust.buildbin-libdir && mkdir ddPCRclust.buildbin-libdir && C:\Users\biocbuild\bbs-3.7-bioc\R\bin\R.exe CMD INSTALL --merge-multiarch --build --library=ddPCRclust.buildbin-libdir ddPCRclust_1.0.1.tar.gz |
| StartedAt: 2018-10-17 06:13:57 -0400 (Wed, 17 Oct 2018) |
| EndedAt: 2018-10-17 06:14:21 -0400 (Wed, 17 Oct 2018) |
| EllapsedTime: 23.8 seconds |
| RetCode: 0 |
| Status: OK |
| PackageFile: ddPCRclust_1.0.1.zip |
| PackageFileSize: 1.351 MiB |
##############################################################################
##############################################################################
###
### Running command:
###
### rm -rf ddPCRclust.buildbin-libdir && mkdir ddPCRclust.buildbin-libdir && C:\Users\biocbuild\bbs-3.7-bioc\R\bin\R.exe CMD INSTALL --merge-multiarch --build --library=ddPCRclust.buildbin-libdir ddPCRclust_1.0.1.tar.gz
###
##############################################################################
##############################################################################
install for i386
* installing *source* package 'ddPCRclust' ...
** R
** inst
** byte-compile and prepare package for lazy loading
Warning: replacing previous import 'flowCore::plot' by 'graphics::plot' when loading 'flowDensity'
** help
*** installing help indices
converting help for package 'ddPCRclust'
finding HTML links ... done
calculateCPDs html
createEnsemble html
finding level-2 HTML links ... done
ddPCRclust html
Rd warning: C:/Users/biocbuild/bbs-3.7-bioc/tmpdir/RtmpQfKT08/R.INSTALL48826c96e3d/ddPCRclust/man/ddPCRclust.Rd:64: file link 'parallel' in package 'parallel' does not exist and so has been treated as a topic
exportPlots html
exportToCSV html
exportToExcel html
readFiles html
readTemplate html
runDensity html
runPeaks html
runSam html
shearCorrection html
** building package indices
** installing vignettes
** testing if installed package can be loaded
Warning: replacing previous import 'flowCore::plot' by 'graphics::plot' when loading 'flowDensity'
In R CMD INSTALL
install for x64
* installing *source* package 'ddPCRclust' ...
** testing if installed package can be loaded
Warning: replacing previous import 'flowCore::plot' by 'graphics::plot' when loading 'flowDensity'
* MD5 sums
packaged installation of 'ddPCRclust' as ddPCRclust_1.0.1.zip
* DONE (ddPCRclust)
In R CMD INSTALL
In R CMD INSTALL