| Back to Multiple platform build/check report for BioC 3.7 |
|
This page was generated on 2018-10-17 08:34:20 -0400 (Wed, 17 Oct 2018).
| Package 351/1561 | Hostname | OS / Arch | INSTALL | BUILD | CHECK | BUILD BIN | ||||||
| ddCt 1.36.0 Jitao David Zhang
| malbec2 | Linux (Ubuntu 16.04.1 LTS) / x86_64 | OK | OK | OK | |||||||
| tokay2 | Windows Server 2012 R2 Standard / x64 | [ OK ] | OK | OK | OK | |||||||
| merida2 | OS X 10.11.6 El Capitan / x86_64 | OK | OK | OK | OK |
| Package: ddCt |
| Version: 1.36.0 |
| Command: C:\cygwin\bin\curl.exe -O https://malbec2.bioconductor.org/BBS/3.7/bioc/src/contrib/ddCt_1.36.0.tar.gz && rm -rf ddCt.buildbin-libdir && mkdir ddCt.buildbin-libdir && C:\Users\biocbuild\bbs-3.7-bioc\R\bin\R.exe CMD INSTALL --merge-multiarch --build --library=ddCt.buildbin-libdir ddCt_1.36.0.tar.gz && C:\Users\biocbuild\bbs-3.7-bioc\R\bin\R.exe CMD INSTALL ddCt_1.36.0.zip && rm ddCt_1.36.0.tar.gz ddCt_1.36.0.zip |
| StartedAt: 2018-10-16 18:50:12 -0400 (Tue, 16 Oct 2018) |
| EndedAt: 2018-10-16 18:50:52 -0400 (Tue, 16 Oct 2018) |
| EllapsedTime: 40.5 seconds |
| RetCode: 0 |
| Status: OK |
##############################################################################
##############################################################################
###
### Running command:
###
### C:\cygwin\bin\curl.exe -O https://malbec2.bioconductor.org/BBS/3.7/bioc/src/contrib/ddCt_1.36.0.tar.gz && rm -rf ddCt.buildbin-libdir && mkdir ddCt.buildbin-libdir && C:\Users\biocbuild\bbs-3.7-bioc\R\bin\R.exe CMD INSTALL --merge-multiarch --build --library=ddCt.buildbin-libdir ddCt_1.36.0.tar.gz && C:\Users\biocbuild\bbs-3.7-bioc\R\bin\R.exe CMD INSTALL ddCt_1.36.0.zip && rm ddCt_1.36.0.tar.gz ddCt_1.36.0.zip
###
##############################################################################
##############################################################################
% Total % Received % Xferd Average Speed Time Time Time Current
Dload Upload Total Spent Left Speed
0 0 0 0 0 0 0 0 --:--:-- --:--:-- --:--:-- 0
0 192k 0 0 0 0 0 0 --:--:-- --:--:-- --:--:-- 0
100 192k 100 192k 0 0 2873k 0 --:--:-- --:--:-- --:--:-- 3156k
install for i386
* installing *source* package 'ddCt' ...
** R
** inst
** byte-compile and prepare package for lazy loading
** help
*** installing help indices
converting help for package 'ddCt'
finding HTML links ... done
InputFrame html
InputReader-class html
QuantStudioFrame html
SDMFrame-class html
SDMFrame html
barploterrbar html
ddCtAbsolute html
finding level-2 HTML links ... done
ddCtExpression-class html
ddCtExpression-methods html
elistWrite-methods html
errBarchart-methods html
errBarchartParameter-class html
getDir html
removeNTC-methods html
replaceVectorByEquality html
write.htmltable html
writeSimpleTabCsv html
** building package indices
** installing vignettes
** testing if installed package can be loaded
In R CMD INSTALL
install for x64
* installing *source* package 'ddCt' ...
** testing if installed package can be loaded
* MD5 sums
packaged installation of 'ddCt' as ddCt_1.36.0.zip
* DONE (ddCt)
In R CMD INSTALL
In R CMD INSTALL
* installing to library 'C:/Users/biocbuild/bbs-3.7-bioc/R/library'
package 'ddCt' successfully unpacked and MD5 sums checked
In R CMD INSTALL