| Back to Multiple platform build/check report for BioC 3.7 |
|
This page was generated on 2018-10-17 08:37:47 -0400 (Wed, 17 Oct 2018).
| Package 342/1561 | Hostname | OS / Arch | INSTALL | BUILD | CHECK | BUILD BIN | ||||||
| dagLogo 1.18.0 Jianhong Ou
| malbec2 | Linux (Ubuntu 16.04.1 LTS) / x86_64 | OK | OK | OK | |||||||
| tokay2 | Windows Server 2012 R2 Standard / x64 | OK | OK | OK | [ OK ] | |||||||
| merida2 | OS X 10.11.6 El Capitan / x86_64 | OK | OK | OK | OK |
| Package: dagLogo |
| Version: 1.18.0 |
| Command: rm -rf dagLogo.buildbin-libdir && mkdir dagLogo.buildbin-libdir && C:\Users\biocbuild\bbs-3.7-bioc\R\bin\R.exe CMD INSTALL --merge-multiarch --build --library=dagLogo.buildbin-libdir dagLogo_1.18.0.tar.gz |
| StartedAt: 2018-10-17 06:13:37 -0400 (Wed, 17 Oct 2018) |
| EndedAt: 2018-10-17 06:14:12 -0400 (Wed, 17 Oct 2018) |
| EllapsedTime: 34.5 seconds |
| RetCode: 0 |
| Status: OK |
| PackageFile: dagLogo_1.18.0.zip |
| PackageFileSize: 2.325 MiB |
##############################################################################
##############################################################################
###
### Running command:
###
### rm -rf dagLogo.buildbin-libdir && mkdir dagLogo.buildbin-libdir && C:\Users\biocbuild\bbs-3.7-bioc\R\bin\R.exe CMD INSTALL --merge-multiarch --build --library=dagLogo.buildbin-libdir dagLogo_1.18.0.tar.gz
###
##############################################################################
##############################################################################
install for i386
* installing *source* package 'dagLogo' ...
** R
** data
** inst
** byte-compile and prepare package for lazy loading
** help
*** installing help indices
converting help for package 'dagLogo'
finding HTML links ... done
Proteome html
buildBackgroundModel html
colorsets html
dagBackground html
dagHeatmap html
dagLogo-package html
dagLogo html
dagPeptides html
ecoli.proteome html
fetchSequence html
formatSequence html
nameHash html
prepareProteome html
proteome.example html
seq.example html
testDAU html
testDAUresults html
** building package indices
** installing vignettes
** testing if installed package can be loaded
In R CMD INSTALL
install for x64
* installing *source* package 'dagLogo' ...
** testing if installed package can be loaded
* MD5 sums
packaged installation of 'dagLogo' as dagLogo_1.18.0.zip
* DONE (dagLogo)
In R CMD INSTALL
In R CMD INSTALL