| Back to Multiple platform build/check report for BioC 3.7 |
|
This page was generated on 2018-10-17 08:29:00 -0400 (Wed, 17 Oct 2018).
| Package 414/1561 | Hostname | OS / Arch | INSTALL | BUILD | CHECK | BUILD BIN | ||||||
| dSimer 1.6.0 Peng Ni
| malbec2 | Linux (Ubuntu 16.04.1 LTS) / x86_64 | OK | OK | [ OK ] | |||||||
| tokay2 | Windows Server 2012 R2 Standard / x64 | OK | OK | OK | OK | |||||||
| merida2 | OS X 10.11.6 El Capitan / x86_64 | OK | OK | OK | OK |
| Package: dSimer |
| Version: 1.6.0 |
| Command: /home/biocbuild/bbs-3.7-bioc/R/bin/R CMD check --install=check:dSimer.install-out.txt --library=/home/biocbuild/bbs-3.7-bioc/R/library --no-vignettes --timings dSimer_1.6.0.tar.gz |
| StartedAt: 2018-10-16 00:01:13 -0400 (Tue, 16 Oct 2018) |
| EndedAt: 2018-10-16 00:04:00 -0400 (Tue, 16 Oct 2018) |
| EllapsedTime: 167.7 seconds |
| RetCode: 0 |
| Status: OK |
| CheckDir: dSimer.Rcheck |
| Warnings: 0 |
##############################################################################
##############################################################################
###
### Running command:
###
### /home/biocbuild/bbs-3.7-bioc/R/bin/R CMD check --install=check:dSimer.install-out.txt --library=/home/biocbuild/bbs-3.7-bioc/R/library --no-vignettes --timings dSimer_1.6.0.tar.gz
###
##############################################################################
##############################################################################
* using log directory ‘/home/biocbuild/bbs-3.7-bioc/meat/dSimer.Rcheck’
* using R version 3.5.1 Patched (2018-07-12 r74967)
* using platform: x86_64-pc-linux-gnu (64-bit)
* using session charset: UTF-8
* using option ‘--no-vignettes’
* checking for file ‘dSimer/DESCRIPTION’ ... OK
* checking extension type ... Package
* this is package ‘dSimer’ version ‘1.6.0’
* checking package namespace information ... OK
* checking package dependencies ... OK
* checking if this is a source package ... OK
* checking if there is a namespace ... OK
* checking for hidden files and directories ... OK
* checking for portable file names ... OK
* checking for sufficient/correct file permissions ... OK
* checking whether package ‘dSimer’ can be installed ... OK
* checking installed package size ... NOTE
installed size is 6.9Mb
sub-directories of 1Mb or more:
data 3.1Mb
libs 3.5Mb
* checking package directory ... OK
* checking ‘build’ directory ... OK
* checking DESCRIPTION meta-information ... OK
* checking top-level files ... OK
* checking for left-over files ... OK
* checking index information ... OK
* checking package subdirectories ... OK
* checking R files for non-ASCII characters ... OK
* checking R files for syntax errors ... OK
* checking whether the package can be loaded ... OK
* checking whether the package can be loaded with stated dependencies ... OK
* checking whether the package can be unloaded cleanly ... OK
* checking whether the namespace can be loaded with stated dependencies ... OK
* checking whether the namespace can be unloaded cleanly ... OK
* checking dependencies in R code ... OK
* checking S3 generic/method consistency ... OK
* checking replacement functions ... OK
* checking foreign function calls ... OK
* checking R code for possible problems ... OK
* checking Rd files ... OK
* checking Rd metadata ... OK
* checking Rd cross-references ... OK
* checking for missing documentation entries ... OK
* checking for code/documentation mismatches ... OK
* checking Rd \usage sections ... OK
* checking Rd contents ... OK
* checking for unstated dependencies in examples ... OK
* checking contents of ‘data’ directory ... OK
* checking data for non-ASCII characters ... OK
* checking data for ASCII and uncompressed saves ... OK
* checking line endings in C/C++/Fortran sources/headers ... OK
* checking compiled code ... NOTE
Note: information on .o files is not available
* checking files in ‘vignettes’ ... OK
* checking examples ... OK
Examples with CPU or elapsed time > 5s
user system elapsed
get_GOterm2GeneAssos 23.584 1.600 25.224
plot_heatmap 14.128 0.088 14.232
plot_net 14.084 0.112 14.208
FunSim 12.304 0.060 12.376
PSB 9.548 0.004 9.562
HypergeometricTest 9.448 0.032 9.485
x2y_conv2_y2x 5.104 0.000 5.107
* checking for unstated dependencies in vignettes ... OK
* checking package vignettes in ‘inst/doc’ ... OK
* checking running R code from vignettes ... SKIPPED
* checking re-building of vignette outputs ... SKIPPED
* checking PDF version of manual ... OK
* DONE
Status: 2 NOTEs
See
‘/home/biocbuild/bbs-3.7-bioc/meat/dSimer.Rcheck/00check.log’
for details.
dSimer.Rcheck/00install.out
############################################################################## ############################################################################## ### ### Running command: ### ### /home/biocbuild/bbs-3.7-bioc/R/bin/R CMD INSTALL dSimer ### ############################################################################## ############################################################################## * installing to library ‘/home/biocbuild/bbs-3.7-bioc/R/library’ * installing *source* package ‘dSimer’ ... ** libs g++ -I"/home/biocbuild/bbs-3.7-bioc/R/include" -DNDEBUG -I"/home/biocbuild/bbs-3.7-bioc/R/library/Rcpp/include" -I/usr/local/include -fpic -g -O2 -Wall -c BOG.cpp -o BOG.o g++ -I"/home/biocbuild/bbs-3.7-bioc/R/include" -DNDEBUG -I"/home/biocbuild/bbs-3.7-bioc/R/library/Rcpp/include" -I/usr/local/include -fpic -g -O2 -Wall -c GO2GeneAssos.cpp -o GO2GeneAssos.o g++ -I"/home/biocbuild/bbs-3.7-bioc/R/include" -DNDEBUG -I"/home/biocbuild/bbs-3.7-bioc/R/library/Rcpp/include" -I/usr/local/include -fpic -g -O2 -Wall -c ICod.cpp -o ICod.o g++ -I"/home/biocbuild/bbs-3.7-bioc/R/include" -DNDEBUG -I"/home/biocbuild/bbs-3.7-bioc/R/library/Rcpp/include" -I/usr/local/include -fpic -g -O2 -Wall -c PSB.cpp -o PSB.o gcc -I"/home/biocbuild/bbs-3.7-bioc/R/include" -DNDEBUG -I"/home/biocbuild/bbs-3.7-bioc/R/library/Rcpp/include" -I/usr/local/include -fpic -g -O2 -Wall -c R_dSimer_init.c -o R_dSimer_init.o g++ -I"/home/biocbuild/bbs-3.7-bioc/R/include" -DNDEBUG -I"/home/biocbuild/bbs-3.7-bioc/R/library/Rcpp/include" -I/usr/local/include -fpic -g -O2 -Wall -c RcppExports.cpp -o RcppExports.o g++ -I"/home/biocbuild/bbs-3.7-bioc/R/include" -DNDEBUG -I"/home/biocbuild/bbs-3.7-bioc/R/library/Rcpp/include" -I/usr/local/include -fpic -g -O2 -Wall -c Sun.cpp -o Sun.o g++ -shared -L/home/biocbuild/bbs-3.7-bioc/R/lib -L/usr/local/lib -o dSimer.so BOG.o GO2GeneAssos.o ICod.o PSB.o R_dSimer_init.o RcppExports.o Sun.o -L/home/biocbuild/bbs-3.7-bioc/R/lib -lR installing to /home/biocbuild/bbs-3.7-bioc/R/library/dSimer/libs ** R ** data ** inst ** byte-compile and prepare package for lazy loading ** help *** installing help indices ** building package indices ** installing vignettes ** testing if installed package can be loaded * DONE (dSimer)
dSimer.Rcheck/dSimer-Ex.timings
| name | user | system | elapsed | |
| BOG | 4.124 | 0.036 | 4.162 | |
| CosineDFV | 0.180 | 0.004 | 0.182 | |
| FunSim | 12.304 | 0.060 | 12.376 | |
| HumanNet_sample | 0.02 | 0.00 | 0.02 | |
| HypergeometricTest | 9.448 | 0.032 | 9.485 | |
| ICod | 0.848 | 0.044 | 0.890 | |
| InformationContent | 0.088 | 0.024 | 0.114 | |
| LLSn2List | 0.056 | 0.004 | 0.062 | |
| Normalize | 0 | 0 | 0 | |
| PPI_HPRD | 0.112 | 0.004 | 0.117 | |
| PSB | 9.548 | 0.004 | 9.562 | |
| Separation | 3.092 | 0.120 | 3.212 | |
| Separation2Similarity | 0.000 | 0.000 | 0.001 | |
| Sun_annotation | 0.068 | 0.028 | 0.094 | |
| Sun_function | 0.004 | 0.000 | 0.002 | |
| Sun_topology | 0.184 | 0.048 | 0.232 | |
| d2g_fundo_entrezid | 0.072 | 0.040 | 0.111 | |
| d2g_fundo_symbol | 0.080 | 0.020 | 0.101 | |
| d2g_separation | 0.056 | 0.036 | 0.092 | |
| d2go_sample | 0.000 | 0.000 | 0.002 | |
| d2s_hsdn | 0.092 | 0.000 | 0.090 | |
| d2s_hsdn_sample | 0.004 | 0.000 | 0.004 | |
| get_GOterm2GeneAssos | 23.584 | 1.600 | 25.224 | |
| go2g_sample | 0.072 | 0.000 | 0.071 | |
| graphlet_sig_hprd | 0.096 | 0.000 | 0.094 | |
| interactome | 0.364 | 0.072 | 0.437 | |
| jaccardindex | 0.000 | 0.000 | 0.002 | |
| orbit_dependency_count | 0.004 | 0.000 | 0.001 | |
| plot_bipartite | 0.164 | 0.020 | 0.187 | |
| plot_heatmap | 14.128 | 0.088 | 14.232 | |
| plot_net | 14.084 | 0.112 | 14.208 | |
| plot_topo | 0.212 | 0.044 | 0.255 | |
| setWeight | 0.000 | 0.000 | 0.001 | |
| weight | 0.004 | 0.000 | 0.001 | |
| x2y_conv2_y2x | 5.104 | 0.000 | 5.107 | |
| x2y_df2list | 0.004 | 0.000 | 0.003 | |