| Back to Multiple platform build/check report for BioC 3.7 |
|
This page was generated on 2018-10-17 08:43:05 -0400 (Wed, 17 Oct 2018).
| Package 322/1561 | Hostname | OS / Arch | INSTALL | BUILD | CHECK | BUILD BIN | ||||||
| crisprseekplus 1.6.0 Alper Kucukural
| malbec2 | Linux (Ubuntu 16.04.1 LTS) / x86_64 | OK | OK | OK | |||||||
| tokay2 | Windows Server 2012 R2 Standard / x64 | OK | OK | OK | [ OK ] | |||||||
| merida2 | OS X 10.11.6 El Capitan / x86_64 | OK | OK | OK | OK |
| Package: crisprseekplus |
| Version: 1.6.0 |
| Command: rm -rf crisprseekplus.buildbin-libdir && mkdir crisprseekplus.buildbin-libdir && C:\Users\biocbuild\bbs-3.7-bioc\R\bin\R.exe CMD INSTALL --merge-multiarch --build --library=crisprseekplus.buildbin-libdir crisprseekplus_1.6.0.tar.gz |
| StartedAt: 2018-10-17 06:12:53 -0400 (Wed, 17 Oct 2018) |
| EndedAt: 2018-10-17 06:13:40 -0400 (Wed, 17 Oct 2018) |
| EllapsedTime: 46.2 seconds |
| RetCode: 0 |
| Status: OK |
| PackageFile: crisprseekplus_1.6.0.zip |
| PackageFileSize: 367.2 KiB |
##############################################################################
##############################################################################
###
### Running command:
###
### rm -rf crisprseekplus.buildbin-libdir && mkdir crisprseekplus.buildbin-libdir && C:\Users\biocbuild\bbs-3.7-bioc\R\bin\R.exe CMD INSTALL --merge-multiarch --build --library=crisprseekplus.buildbin-libdir crisprseekplus_1.6.0.tar.gz
###
##############################################################################
##############################################################################
install for i386
* installing *source* package 'crisprseekplus' ...
** R
** inst
** byte-compile and prepare package for lazy loading
** help
*** installing help indices
converting help for package 'crisprseekplus'
finding HTML links ... done
cspServer html
cspUI html
disableDownload html
fileInputFunc html
getLoadingMsg html
getLogo html
installpack html
startcrisprseekplus html
trueFalseFunc html
** building package indices
** installing vignettes
** testing if installed package can be loaded
In R CMD INSTALL
install for x64
* installing *source* package 'crisprseekplus' ...
** testing if installed package can be loaded
* MD5 sums
packaged installation of 'crisprseekplus' as crisprseekplus_1.6.0.zip
* DONE (crisprseekplus)
In R CMD INSTALL
In R CMD INSTALL