| Back to Multiple platform build/check report for BioC 3.7 |
|
This page was generated on 2018-10-17 08:39:43 -0400 (Wed, 17 Oct 2018).
| Package 318/1561 | Hostname | OS / Arch | INSTALL | BUILD | CHECK | BUILD BIN | ||||||
| cpvSNP 1.12.0 Caitlin McHugh
| malbec2 | Linux (Ubuntu 16.04.1 LTS) / x86_64 | OK | OK | OK | |||||||
| tokay2 | Windows Server 2012 R2 Standard / x64 | OK | OK | OK | [ OK ] | |||||||
| merida2 | OS X 10.11.6 El Capitan / x86_64 | OK | OK | OK | OK |
| Package: cpvSNP |
| Version: 1.12.0 |
| Command: rm -rf cpvSNP.buildbin-libdir && mkdir cpvSNP.buildbin-libdir && C:\Users\biocbuild\bbs-3.7-bioc\R\bin\R.exe CMD INSTALL --merge-multiarch --build --library=cpvSNP.buildbin-libdir cpvSNP_1.12.0.tar.gz |
| StartedAt: 2018-10-17 06:12:46 -0400 (Wed, 17 Oct 2018) |
| EndedAt: 2018-10-17 06:13:27 -0400 (Wed, 17 Oct 2018) |
| EllapsedTime: 41.4 seconds |
| RetCode: 0 |
| Status: OK |
| PackageFile: cpvSNP_1.12.0.zip |
| PackageFileSize: 2.258 MiB |
##############################################################################
##############################################################################
###
### Running command:
###
### rm -rf cpvSNP.buildbin-libdir && mkdir cpvSNP.buildbin-libdir && C:\Users\biocbuild\bbs-3.7-bioc\R\bin\R.exe CMD INSTALL --merge-multiarch --build --library=cpvSNP.buildbin-libdir cpvSNP_1.12.0.tar.gz
###
##############################################################################
##############################################################################
install for i386
* installing *source* package 'cpvSNP' ...
** R
** data
** inst
** byte-compile and prepare package for lazy loading
** help
*** installing help indices
converting help for package 'cpvSNP'
finding HTML links ... done
GLOSSIResult-class html
GLOSSIResultCollection-class html
GeneSetResult-class html
GeneSetResultCollection-class html
VEGASResult-class html
VEGASResultCollection-class html
assocPvalBySetPlot html
createArrayData html
degreesOfFreedom-method html
exampleArrayData html
geneSetAnalysis html
geneSetName-methods html
geneSets html
geneToSNPList html
glossi html
glossiMarginal html
pValue-method html
plotPvals html
show-methods html
simulate_chisq html
simulatedStats-method html
statistic-methods html
vegas html
vegasMarginal html
** building package indices
** installing vignettes
** testing if installed package can be loaded
In R CMD INSTALL
install for x64
* installing *source* package 'cpvSNP' ...
** testing if installed package can be loaded
* MD5 sums
packaged installation of 'cpvSNP' as cpvSNP_1.12.0.zip
* DONE (cpvSNP)
In R CMD INSTALL
In R CMD INSTALL