| Back to Multiple platform build/check report for BioC 3.7 |
|
This page was generated on 2018-10-17 08:42:25 -0400 (Wed, 17 Oct 2018).
| Package 315/1561 | Hostname | OS / Arch | INSTALL | BUILD | CHECK | BUILD BIN | ||||||
| covEB 1.6.0 C. Pacini
| malbec2 | Linux (Ubuntu 16.04.1 LTS) / x86_64 | OK | OK | OK | |||||||
| tokay2 | Windows Server 2012 R2 Standard / x64 | OK | OK | OK | [ OK ] | |||||||
| merida2 | OS X 10.11.6 El Capitan / x86_64 | OK | OK | OK | OK |
| Package: covEB |
| Version: 1.6.0 |
| Command: rm -rf covEB.buildbin-libdir && mkdir covEB.buildbin-libdir && C:\Users\biocbuild\bbs-3.7-bioc\R\bin\R.exe CMD INSTALL --merge-multiarch --build --library=covEB.buildbin-libdir covEB_1.6.0.tar.gz |
| StartedAt: 2018-10-17 06:12:41 -0400 (Wed, 17 Oct 2018) |
| EndedAt: 2018-10-17 06:12:53 -0400 (Wed, 17 Oct 2018) |
| EllapsedTime: 12.5 seconds |
| RetCode: 0 |
| Status: OK |
| PackageFile: covEB_1.6.0.zip |
| PackageFileSize: 119.7 KiB |
##############################################################################
##############################################################################
###
### Running command:
###
### rm -rf covEB.buildbin-libdir && mkdir covEB.buildbin-libdir && C:\Users\biocbuild\bbs-3.7-bioc\R\bin\R.exe CMD INSTALL --merge-multiarch --build --library=covEB.buildbin-libdir covEB_1.6.0.tar.gz
###
##############################################################################
##############################################################################
install for i386
* installing *source* package 'covEB' ...
** R
** inst
** byte-compile and prepare package for lazy loading
** help
*** installing help indices
converting help for package 'covEB'
finding HTML links ... done
EBsingle html
covEB-package html
covEB html
** building package indices
** installing vignettes
** testing if installed package can be loaded
In R CMD INSTALL
install for x64
* installing *source* package 'covEB' ...
** testing if installed package can be loaded
* MD5 sums
packaged installation of 'covEB' as covEB_1.6.0.zip
* DONE (covEB)
In R CMD INSTALL
In R CMD INSTALL