| Back to Multiple platform build/check report for BioC 3.7 |
|
This page was generated on 2018-10-17 08:37:09 -0400 (Wed, 17 Oct 2018).
| Package 305/1561 | Hostname | OS / Arch | INSTALL | BUILD | CHECK | BUILD BIN | ||||||
| copynumber 1.20.0 Gro Nilsen
| malbec2 | Linux (Ubuntu 16.04.1 LTS) / x86_64 | OK | OK | OK | |||||||
| tokay2 | Windows Server 2012 R2 Standard / x64 | OK | OK | OK | [ OK ] | |||||||
| merida2 | OS X 10.11.6 El Capitan / x86_64 | OK | OK | OK | OK |
| Package: copynumber |
| Version: 1.20.0 |
| Command: rm -rf copynumber.buildbin-libdir && mkdir copynumber.buildbin-libdir && C:\Users\biocbuild\bbs-3.7-bioc\R\bin\R.exe CMD INSTALL --merge-multiarch --build --library=copynumber.buildbin-libdir copynumber_1.20.0.tar.gz |
| StartedAt: 2018-10-17 06:12:13 -0400 (Wed, 17 Oct 2018) |
| EndedAt: 2018-10-17 06:12:48 -0400 (Wed, 17 Oct 2018) |
| EllapsedTime: 35.1 seconds |
| RetCode: 0 |
| Status: OK |
| PackageFile: copynumber_1.20.0.zip |
| PackageFileSize: 1.535 MiB |
##############################################################################
##############################################################################
###
### Running command:
###
### rm -rf copynumber.buildbin-libdir && mkdir copynumber.buildbin-libdir && C:\Users\biocbuild\bbs-3.7-bioc\R\bin\R.exe CMD INSTALL --merge-multiarch --build --library=copynumber.buildbin-libdir copynumber_1.20.0.tar.gz
###
##############################################################################
##############################################################################
install for i386
* installing *source* package 'copynumber' ...
** R
** data
*** moving datasets to lazyload DB
** inst
** byte-compile and prepare package for lazy loading
** help
*** installing help indices
converting help for package 'copynumber'
finding HTML links ... done
SNPdata html
aspcf html
callAberrations html
getGRangesFormat html
imputeMissing html
interpolate.pcf html
lymphoma html
micma html
multipcf html
pcf html
pcfPlain html
plotAberration html
plotAllele html
plotChrom html
plotCircle html
plotFreq html
plotGamma html
plotGenome html
plotHeatmap html
plotSample html
selectSegments html
subsetData html
subsetSegments html
winsorize html
** building package indices
** installing vignettes
** testing if installed package can be loaded
In R CMD INSTALL
install for x64
* installing *source* package 'copynumber' ...
** testing if installed package can be loaded
* MD5 sums
packaged installation of 'copynumber' as copynumber_1.20.0.zip
* DONE (copynumber)
In R CMD INSTALL
In R CMD INSTALL