| Back to Multiple platform build/check report for BioC 3.7 |
|
This page was generated on 2018-10-17 08:40:25 -0400 (Wed, 17 Oct 2018).
| Package 302/1561 | Hostname | OS / Arch | INSTALL | BUILD | CHECK | BUILD BIN | ||||||
| conumee 1.14.0 Volker Hovestadt
| malbec2 | Linux (Ubuntu 16.04.1 LTS) / x86_64 | OK | OK | OK | |||||||
| tokay2 | Windows Server 2012 R2 Standard / x64 | [ OK ] | ERROR | skipped | skipped | |||||||
| merida2 | OS X 10.11.6 El Capitan / x86_64 | OK | OK | OK | OK |
| Package: conumee |
| Version: 1.14.0 |
| Command: C:\Users\biocbuild\bbs-3.7-bioc\R\bin\R.exe --arch x64 CMD INSTALL --no-multiarch conumee |
| StartedAt: 2018-10-16 20:22:12 -0400 (Tue, 16 Oct 2018) |
| EndedAt: 2018-10-16 20:25:07 -0400 (Tue, 16 Oct 2018) |
| EllapsedTime: 175.0 seconds |
| RetCode: 0 |
| Status: OK |
##############################################################################
##############################################################################
###
### Running command:
###
### C:\Users\biocbuild\bbs-3.7-bioc\R\bin\R.exe --arch x64 CMD INSTALL --no-multiarch conumee
###
##############################################################################
##############################################################################
* installing to library 'C:/Users/biocbuild/bbs-3.7-bioc/R/library'
* installing *source* package 'conumee' ...
** R
** data
** inst
** byte-compile and prepare package for lazy loading
** help
*** installing help indices
converting help for package 'conumee'
finding HTML links ... done
CNV.analysis-class html
CNV.anno-class html
CNV.bin html
CNV.check html
CNV.create_anno html
CNV.create_bins html
CNV.data-class html
CNV.detail html
CNV.detailplot html
CNV.detailplot_wrap html
CNV.fit html
CNV.genomeplot html
CNV.load html
CNV.merge_bins html
CNV.process html
CNV.segment html
CNV.write html
detail_regions html
exclude_regions html
read.450k.url html
tbl_ucsc html
tcgaBRCA.sentrix2name html
** building package indices
** installing vignettes
** testing if installed package can be loaded
* DONE (conumee)
Making 'packages.html' ... done
In R CMD INSTALL