| Back to Multiple platform build/check report for BioC 3.7 |
|
This page was generated on 2018-10-17 08:38:32 -0400 (Wed, 17 Oct 2018).
| Package 293/1561 | Hostname | OS / Arch | INSTALL | BUILD | CHECK | BUILD BIN | ||||||
| compcodeR 1.16.1 Charlotte Soneson
| malbec2 | Linux (Ubuntu 16.04.1 LTS) / x86_64 | OK | OK | OK | |||||||
| tokay2 | Windows Server 2012 R2 Standard / x64 | OK | OK | [ OK ] | OK | |||||||
| merida2 | OS X 10.11.6 El Capitan / x86_64 | OK | OK | OK | OK |
| Package: compcodeR |
| Version: 1.16.1 |
| Command: C:\Users\biocbuild\bbs-3.7-bioc\R\bin\R.exe CMD check --force-multiarch --install=check:compcodeR.install-out.txt --library=C:\Users\biocbuild\bbs-3.7-bioc\R\library --no-vignettes --timings compcodeR_1.16.1.tar.gz |
| StartedAt: 2018-10-17 01:17:14 -0400 (Wed, 17 Oct 2018) |
| EndedAt: 2018-10-17 01:26:15 -0400 (Wed, 17 Oct 2018) |
| EllapsedTime: 541.3 seconds |
| RetCode: 0 |
| Status: OK |
| CheckDir: compcodeR.Rcheck |
| Warnings: 0 |
##############################################################################
##############################################################################
###
### Running command:
###
### C:\Users\biocbuild\bbs-3.7-bioc\R\bin\R.exe CMD check --force-multiarch --install=check:compcodeR.install-out.txt --library=C:\Users\biocbuild\bbs-3.7-bioc\R\library --no-vignettes --timings compcodeR_1.16.1.tar.gz
###
##############################################################################
##############################################################################
* using log directory 'C:/Users/biocbuild/bbs-3.7-bioc/meat/compcodeR.Rcheck'
* using R version 3.5.1 Patched (2018-07-24 r75005)
* using platform: x86_64-w64-mingw32 (64-bit)
* using session charset: ISO8859-1
* using option '--no-vignettes'
* checking for file 'compcodeR/DESCRIPTION' ... OK
* checking extension type ... Package
* this is package 'compcodeR' version '1.16.1'
* checking package namespace information ... OK
* checking package dependencies ... NOTE
Package which this enhances but not available for checking: 'rpanel'
* checking if this is a source package ... OK
* checking if there is a namespace ... OK
* checking for hidden files and directories ... OK
* checking for portable file names ... OK
* checking whether package 'compcodeR' can be installed ... OK
* checking installed package size ... OK
* checking package directory ... OK
* checking 'build' directory ... OK
* checking DESCRIPTION meta-information ... OK
* checking top-level files ... OK
* checking for left-over files ... OK
* checking index information ... OK
* checking package subdirectories ... OK
* checking R files for non-ASCII characters ... OK
* checking R files for syntax errors ... OK
* loading checks for arch 'i386'
** checking whether the package can be loaded ... OK
** checking whether the package can be loaded with stated dependencies ... OK
** checking whether the package can be unloaded cleanly ... OK
** checking whether the namespace can be loaded with stated dependencies ... OK
** checking whether the namespace can be unloaded cleanly ... OK
* loading checks for arch 'x64'
** checking whether the package can be loaded ... OK
** checking whether the package can be loaded with stated dependencies ... OK
** checking whether the package can be unloaded cleanly ... OK
** checking whether the namespace can be loaded with stated dependencies ... OK
** checking whether the namespace can be unloaded cleanly ... OK
* checking dependencies in R code ... NOTE
'library' or 'require' call to 'rpanel' in package code.
Please use :: or requireNamespace() instead.
See section 'Suggested packages' in the 'Writing R Extensions' manual.
Package in Depends field not imported from: 'sm'
These packages need to be imported from (in the NAMESPACE file)
for when this namespace is loaded but not attached.
* checking S3 generic/method consistency ... OK
* checking replacement functions ... OK
* checking foreign function calls ... OK
* checking R code for possible problems ... NOTE
DESeq.GLM.createRmd: no visible global function definition for
'packageVersion'
DESeq.nbinom.createRmd: no visible global function definition for
'packageVersion'
DESeq2.createRmd: no visible global function definition for
'packageVersion'
DSS.createRmd: no visible global function definition for
'packageVersion'
EBSeq.createRmd: no visible global function definition for
'packageVersion'
NBPSeq.createRmd: no visible global function definition for
'packageVersion'
NOISeq.prenorm.createRmd: no visible global function definition for
'packageVersion'
TCC.createRmd: no visible global function definition for
'packageVersion'
baySeq.createRmd: no visible global function definition for
'packageVersion'
computeCorrelation: no visible global function definition for 'cor'
computeCorrelation: no visible global function definition for 'hclust'
computeCorrelation: no visible global function definition for 'as.dist'
computeCorrelation: no visible global function definition for
'heat.colors'
computeOverlap: no visible global function definition for 'hclust'
computeOverlap: no visible global function definition for 'as.dist'
computeOverlap: no visible global function definition for 'heat.colors'
computeSignal: no visible binding for global variable 'sd'
createResultsRmdFile: no visible global function definition for
'packageVersion'
edgeR.GLM.createRmd: no visible global function definition for
'packageVersion'
edgeR.exact.createRmd: no visible global function definition for
'packageVersion'
generateSyntheticData: no visible global function definition for
'runif'
generateSyntheticData: no visible global function definition for 'rexp'
generateSyntheticData: no visible global function definition for
'rnbinom'
generateSyntheticData: no visible global function definition for
'rpois'
generateSyntheticData: no visible binding for global variable 'median'
logcpm.limma.createRmd: no visible global function definition for
'packageVersion'
makeFalseDiscoveryCurves: no visible global function definition for
'par'
makeFalseDiscoveryCurves: no visible global function definition for
'lines'
makeFalseDiscoveryCurves: no visible global function definition for
'legend'
makeROCcurves: no visible global function definition for 'par'
makeROCcurves: no visible global function definition for 'lines'
makeROCcurves: no visible global function definition for 'legend'
plotMASignificant: no visible global function definition for 'par'
plotResultTable: no visible global function definition for 'par'
plotScoreVsExpr: no visible global function definition for 'par'
plotScoreVsExpr: no visible global function definition for 'loess'
plotScoreVsExpr: no visible global function definition for 'lines'
plotScoreVsExpr: no visible global function definition for 'predict'
plotScoreVsOutlierEvidence: no visible global function definition for
'par'
plotScoreVsOutlierEvidence: no visible global function definition for
'loess'
plotScoreVsOutlierEvidence: no visible global function definition for
'lines'
plotScoreVsOutlierEvidence: no visible global function definition for
'predict'
plotScoreVsOutliers: no visible global function definition for 'par'
plotScoreVsOutliers: no visible binding for global variable 'na.omit'
plotScoreVsOutliers: no visible global function definition for 'title'
plotScoreVsOutliers: no visible global function definition for 'axis'
plotSignalForZeroCounts: no visible global function definition for
'par'
sqrtcpm.limma.createRmd: no visible global function definition for
'packageVersion'
ttest.createRmd: no visible global function definition for
'packageVersion'
voom.limma.createRmd: no visible global function definition for
'packageVersion'
voom.ttest.createRmd: no visible global function definition for
'packageVersion'
vst.limma.createRmd: no visible global function definition for
'packageVersion'
vst.ttest.createRmd: no visible global function definition for
'packageVersion'
show,compData: no visible global function definition for 'head'
Undefined global functions or variables:
as.dist axis cor hclust head heat.colors legend lines loess median
na.omit packageVersion par predict rexp rnbinom rpois runif sd title
Consider adding
importFrom("grDevices", "heat.colors")
importFrom("graphics", "axis", "legend", "lines", "par", "title")
importFrom("stats", "as.dist", "cor", "hclust", "loess", "median",
"na.omit", "predict", "rexp", "rnbinom", "rpois", "runif",
"sd")
importFrom("utils", "head", "packageVersion")
to your NAMESPACE file.
* checking Rd files ... OK
* checking Rd metadata ... OK
* checking Rd cross-references ... OK
* checking for missing documentation entries ... OK
* checking for code/documentation mismatches ... OK
* checking Rd \usage sections ... OK
* checking Rd contents ... OK
* checking for unstated dependencies in examples ... OK
* checking files in 'vignettes' ... OK
* checking examples ...
** running examples for arch 'i386' ... OK
Examples with CPU or elapsed time > 5s
user system elapsed
DESeq.nbinom.createRmd 95.23 1.99 97.28
NBPSeq.createRmd 61.81 0.57 62.58
EBSeq.createRmd 13.56 0.19 13.89
DESeq.GLM.createRmd 12.70 0.48 13.36
NOISeq.prenorm.createRmd 10.35 0.22 10.56
show-compData-method 7.37 1.41 8.78
DESeq2.createRmd 7.69 0.34 8.03
convertcompDataToList 7.05 0.25 7.29
** running examples for arch 'x64' ... OK
Examples with CPU or elapsed time > 5s
user system elapsed
DESeq.nbinom.createRmd 76.47 1.53 78.02
NBPSeq.createRmd 54.14 1.64 55.78
DESeq.GLM.createRmd 13.45 0.30 13.75
NOISeq.prenorm.createRmd 11.17 0.07 11.25
EBSeq.createRmd 10.91 0.08 10.99
DESeq2.createRmd 9.89 0.30 10.18
show-compData-method 7.09 0.00 7.09
convertcompDataToList 6.63 0.34 6.97
baySeq.createRmd 5.39 0.08 5.48
* checking for unstated dependencies in vignettes ... OK
* checking package vignettes in 'inst/doc' ... OK
* checking running R code from vignettes ... SKIPPED
* checking re-building of vignette outputs ... SKIPPED
* checking PDF version of manual ... OK
* DONE
Status: 3 NOTEs
See
'C:/Users/biocbuild/bbs-3.7-bioc/meat/compcodeR.Rcheck/00check.log'
for details.
compcodeR.Rcheck/00install.out
##############################################################################
##############################################################################
###
### Running command:
###
### C:\cygwin\bin\curl.exe -O https://malbec2.bioconductor.org/BBS/3.7/bioc/src/contrib/compcodeR_1.16.1.tar.gz && rm -rf compcodeR.buildbin-libdir && mkdir compcodeR.buildbin-libdir && C:\Users\biocbuild\bbs-3.7-bioc\R\bin\R.exe CMD INSTALL --merge-multiarch --build --library=compcodeR.buildbin-libdir compcodeR_1.16.1.tar.gz && C:\Users\biocbuild\bbs-3.7-bioc\R\bin\R.exe CMD INSTALL compcodeR_1.16.1.zip && rm compcodeR_1.16.1.tar.gz compcodeR_1.16.1.zip
###
##############################################################################
##############################################################################
% Total % Received % Xferd Average Speed Time Time Time Current
Dload Upload Total Spent Left Speed
0 0 0 0 0 0 0 0 --:--:-- --:--:-- --:--:-- 0
100 2344k 100 2344k 0 0 32.4M 0 --:--:-- --:--:-- --:--:-- 35.7M
install for i386
* installing *source* package 'compcodeR' ...
** R
** inst
** byte-compile and prepare package for lazy loading
** help
*** installing help indices
converting help for package 'compcodeR'
finding HTML links ... done
DESeq.GLM.createRmd html
DESeq.nbinom.createRmd html
DESeq2.createRmd html
DSS.createRmd html
EBSeq.createRmd html
NBPSeq.createRmd html
NOISeq.prenorm.createRmd html
TCC.createRmd html
baySeq.createRmd html
checkDataObject html
checkTableConsistency html
check_compData html
check_compData_results html
compData-class html
compData html
compcodeR-package html
convertListTocompData html
convertcompDataToList html
edgeR.GLM.createRmd html
edgeR.exact.createRmd html
generateCodeHTMLs html
generateSyntheticData html
listcreateRmd html
logcpm.limma.createRmd html
runComparison html
runComparisonGUI html
runDiffExp html
show-compData-method html
sqrtcpm.limma.createRmd html
summarizeSyntheticDataSet html
ttest.createRmd html
voom.limma.createRmd html
voom.ttest.createRmd html
vst.limma.createRmd html
vst.ttest.createRmd html
** building package indices
** installing vignettes
** testing if installed package can be loaded
In R CMD INSTALL
install for x64
* installing *source* package 'compcodeR' ...
** testing if installed package can be loaded
* MD5 sums
packaged installation of 'compcodeR' as compcodeR_1.16.1.zip
* DONE (compcodeR)
In R CMD INSTALL
In R CMD INSTALL
* installing to library 'C:/Users/biocbuild/bbs-3.7-bioc/R/library'
package 'compcodeR' successfully unpacked and MD5 sums checked
In R CMD INSTALL
|
compcodeR.Rcheck/examples_i386/compcodeR-Ex.timings
|
compcodeR.Rcheck/examples_x64/compcodeR-Ex.timings
|