| Back to Multiple platform build/check report for BioC 3.7 | 
 | 
This page was generated on 2018-10-17 08:44:07 -0400 (Wed, 17 Oct 2018).
| Package 286/1561 | Hostname | OS / Arch | INSTALL | BUILD | CHECK | BUILD BIN | ||||||
| coexnet 1.2.0 Juan David Henao 
 | malbec2 | Linux (Ubuntu 16.04.1 LTS) / x86_64 | OK | OK | OK |  | ||||||
| tokay2 | Windows Server 2012 R2 Standard / x64 | [ OK ] | OK | OK | OK |  | ||||||
| merida2 | OS X 10.11.6 El Capitan / x86_64 | OK | OK | OK | OK |  | 
| Package: coexnet | 
| Version: 1.2.0 | 
| Command: C:\cygwin\bin\curl.exe -O https://malbec2.bioconductor.org/BBS/3.7/bioc/src/contrib/coexnet_1.2.0.tar.gz && rm -rf coexnet.buildbin-libdir && mkdir coexnet.buildbin-libdir && C:\Users\biocbuild\bbs-3.7-bioc\R\bin\R.exe CMD INSTALL --merge-multiarch --build --library=coexnet.buildbin-libdir coexnet_1.2.0.tar.gz && C:\Users\biocbuild\bbs-3.7-bioc\R\bin\R.exe CMD INSTALL coexnet_1.2.0.zip && rm coexnet_1.2.0.tar.gz coexnet_1.2.0.zip | 
| StartedAt: 2018-10-16 20:14:00 -0400 (Tue, 16 Oct 2018) | 
| EndedAt: 2018-10-16 20:14:59 -0400 (Tue, 16 Oct 2018) | 
| EllapsedTime: 58.6 seconds | 
| RetCode: 0 | 
| Status: OK | 
##############################################################################
##############################################################################
###
### Running command:
###
###   C:\cygwin\bin\curl.exe -O https://malbec2.bioconductor.org/BBS/3.7/bioc/src/contrib/coexnet_1.2.0.tar.gz && rm -rf coexnet.buildbin-libdir && mkdir coexnet.buildbin-libdir && C:\Users\biocbuild\bbs-3.7-bioc\R\bin\R.exe CMD INSTALL --merge-multiarch --build --library=coexnet.buildbin-libdir coexnet_1.2.0.tar.gz && C:\Users\biocbuild\bbs-3.7-bioc\R\bin\R.exe CMD INSTALL coexnet_1.2.0.zip && rm coexnet_1.2.0.tar.gz coexnet_1.2.0.zip
###
##############################################################################
##############################################################################
  % Total    % Received % Xferd  Average Speed   Time    Time     Time  Current
                                 Dload  Upload   Total   Spent    Left  Speed
  0     0    0     0    0     0      0      0 --:--:-- --:--:-- --:--:--     0
  0 1744k    0     0    0     0      0      0 --:--:-- --:--:-- --:--:--     0
100 1744k  100 1744k    0     0  21.3M      0 --:--:-- --:--:-- --:--:-- 23.0M
install for i386
* installing *source* package 'coexnet' ...
** R
** data
*** moving datasets to lazyload DB
** inst
** byte-compile and prepare package for lazy loading
** help
*** installing help indices
  converting help for package 'coexnet'
    finding HTML links ... done
    CCP                                     html  
    affy                                    html  
    cofVar                                  html  
    createNet                               html  
    difExprs                                html  
    exprMat                                 html  
    findThreshold                           html  
    geneSymbol                              html  
    getAffy                                 html  
    getInfo                                 html  
    info                                    html  
    net1                                    html  
    net2                                    html  
    ppiNet                                  html  
    sharedComponents                        html  
** building package indices
** installing vignettes
** testing if installed package can be loaded
In R CMD INSTALL
install for x64
* installing *source* package 'coexnet' ...
** testing if installed package can be loaded
* MD5 sums
packaged installation of 'coexnet' as coexnet_1.2.0.zip
* DONE (coexnet)
In R CMD INSTALL
In R CMD INSTALL
* installing to library 'C:/Users/biocbuild/bbs-3.7-bioc/R/library'
package 'coexnet' successfully unpacked and MD5 sums checked
In R CMD INSTALL