| Back to Multiple platform build/check report for BioC 3.7 | 
 | 
This page was generated on 2018-10-17 08:32:49 -0400 (Wed, 17 Oct 2018).
| Package 215/1561 | Hostname | OS / Arch | INSTALL | BUILD | CHECK | BUILD BIN | ||||||
| cghMCR 1.38.0 J. Zhang 
 | malbec2 | Linux (Ubuntu 16.04.1 LTS) / x86_64 | OK | OK | WARNINGS |  | ||||||
| tokay2 | Windows Server 2012 R2 Standard / x64 | [ OK ] | OK | WARNINGS | OK |  | ||||||
| merida2 | OS X 10.11.6 El Capitan / x86_64 | OK | OK | WARNINGS | OK |  | 
| Package: cghMCR | 
| Version: 1.38.0 | 
| Command: C:\cygwin\bin\curl.exe -O https://malbec2.bioconductor.org/BBS/3.7/bioc/src/contrib/cghMCR_1.38.0.tar.gz && rm -rf cghMCR.buildbin-libdir && mkdir cghMCR.buildbin-libdir && C:\Users\biocbuild\bbs-3.7-bioc\R\bin\R.exe CMD INSTALL --merge-multiarch --build --library=cghMCR.buildbin-libdir cghMCR_1.38.0.tar.gz && C:\Users\biocbuild\bbs-3.7-bioc\R\bin\R.exe CMD INSTALL cghMCR_1.38.0.zip && rm cghMCR_1.38.0.tar.gz cghMCR_1.38.0.zip | 
| StartedAt: 2018-10-16 19:20:24 -0400 (Tue, 16 Oct 2018) | 
| EndedAt: 2018-10-16 19:22:04 -0400 (Tue, 16 Oct 2018) | 
| EllapsedTime: 99.4 seconds | 
| RetCode: 0 | 
| Status: OK | 
##############################################################################
##############################################################################
###
### Running command:
###
###   C:\cygwin\bin\curl.exe -O https://malbec2.bioconductor.org/BBS/3.7/bioc/src/contrib/cghMCR_1.38.0.tar.gz && rm -rf cghMCR.buildbin-libdir && mkdir cghMCR.buildbin-libdir && C:\Users\biocbuild\bbs-3.7-bioc\R\bin\R.exe CMD INSTALL --merge-multiarch --build --library=cghMCR.buildbin-libdir cghMCR_1.38.0.tar.gz && C:\Users\biocbuild\bbs-3.7-bioc\R\bin\R.exe CMD INSTALL cghMCR_1.38.0.zip && rm cghMCR_1.38.0.tar.gz cghMCR_1.38.0.zip
###
##############################################################################
##############################################################################
  % Total    % Received % Xferd  Average Speed   Time    Time     Time  Current
                                 Dload  Upload   Total   Spent    Left  Speed
  0     0    0     0    0     0      0      0 --:--:-- --:--:-- --:--:--     0
 89 36.5M   89 32.8M    0     0  91.8M      0 --:--:-- --:--:-- --:--:-- 93.4M
100 36.5M  100 36.5M    0     0  90.6M      0 --:--:-- --:--:-- --:--:-- 92.1M
install for i386
* installing *source* package 'cghMCR' ...
** R
** data
** inst
** byte-compile and prepare package for lazy loading
** help
*** installing help indices
  converting help for package 'cghMCR'
    finding HTML links ... done
    SGOL-class                              html  
    cghMCR-class                            html  
    cghMCR                                  html  
    mergeMCRProbes                          html  
    methods                                 html  
    plot.DNAcopy                            html  
** building package indices
** installing vignettes
** testing if installed package can be loaded
In R CMD INSTALL
install for x64
* installing *source* package 'cghMCR' ...
** testing if installed package can be loaded
* MD5 sums
packaged installation of 'cghMCR' as cghMCR_1.38.0.zip
* DONE (cghMCR)
In R CMD INSTALL
In R CMD INSTALL
* installing to library 'C:/Users/biocbuild/bbs-3.7-bioc/R/library'
package 'cghMCR' successfully unpacked and MD5 sums checked
In R CMD INSTALL