| Back to Multiple platform build/check report for BioC 3.7 |
|
This page was generated on 2018-10-17 08:36:16 -0400 (Wed, 17 Oct 2018).
| Package 193/1561 | Hostname | OS / Arch | INSTALL | BUILD | CHECK | BUILD BIN | ||||||
| categoryCompare 1.24.0 Robert M. Flight
| malbec2 | Linux (Ubuntu 16.04.1 LTS) / x86_64 | OK | OK | OK | |||||||
| tokay2 | Windows Server 2012 R2 Standard / x64 | [ OK ] | OK | OK | OK | |||||||
| merida2 | OS X 10.11.6 El Capitan / x86_64 | OK | OK | OK | OK |
| Package: categoryCompare |
| Version: 1.24.0 |
| Command: C:\cygwin\bin\curl.exe -O https://malbec2.bioconductor.org/BBS/3.7/bioc/src/contrib/categoryCompare_1.24.0.tar.gz && rm -rf categoryCompare.buildbin-libdir && mkdir categoryCompare.buildbin-libdir && C:\Users\biocbuild\bbs-3.7-bioc\R\bin\R.exe CMD INSTALL --merge-multiarch --build --library=categoryCompare.buildbin-libdir categoryCompare_1.24.0.tar.gz && C:\Users\biocbuild\bbs-3.7-bioc\R\bin\R.exe CMD INSTALL categoryCompare_1.24.0.zip && rm categoryCompare_1.24.0.tar.gz categoryCompare_1.24.0.zip |
| StartedAt: 2018-10-16 19:32:16 -0400 (Tue, 16 Oct 2018) |
| EndedAt: 2018-10-16 19:33:03 -0400 (Tue, 16 Oct 2018) |
| EllapsedTime: 46.7 seconds |
| RetCode: 0 |
| Status: OK |
##############################################################################
##############################################################################
###
### Running command:
###
### C:\cygwin\bin\curl.exe -O https://malbec2.bioconductor.org/BBS/3.7/bioc/src/contrib/categoryCompare_1.24.0.tar.gz && rm -rf categoryCompare.buildbin-libdir && mkdir categoryCompare.buildbin-libdir && C:\Users\biocbuild\bbs-3.7-bioc\R\bin\R.exe CMD INSTALL --merge-multiarch --build --library=categoryCompare.buildbin-libdir categoryCompare_1.24.0.tar.gz && C:\Users\biocbuild\bbs-3.7-bioc\R\bin\R.exe CMD INSTALL categoryCompare_1.24.0.zip && rm categoryCompare_1.24.0.tar.gz categoryCompare_1.24.0.zip
###
##############################################################################
##############################################################################
% Total % Received % Xferd Average Speed Time Time Time Current
Dload Upload Total Spent Left Speed
0 0 0 0 0 0 0 0 --:--:-- --:--:-- --:--:-- 0
100 1767k 100 1767k 0 0 22.6M 0 --:--:-- --:--:-- --:--:-- 25.0M
install for i386
* installing *source* package 'categoryCompare' ...
** R
** data
** inst
** byte-compile and prepare package for lazy loading
Note: ... may be used in an incorrect context
** help
*** installing help indices
converting help for package 'categoryCompare'
finding HTML links ... done
GENccEnrichResult-class html
finding level-2 HTML links ... done
HyperGParamsCC-class html
HyperGResultCC-class html
breakEdges-methods html
categoryCompare-package html
ccCompare html
ccCompareCollection-class html
ccCompareGeneric-methods html
ccCompareResult-class html
ccData html
ccEnrich html
ccEnrichCollection-class html
ccEnrichResult-class html
ccGeneList-class html
ccOptions-class html
ccOutCyt-methods html
ccSigList-class html
cwReload-methods html
cytOutData-methods html
cytOutNodes-methods html
fdr html
getGeneSymbol html
graphType-methods html
hyperGTestCC html
listNames html
mergeLists-methods html
mergedData-class html
minCount html
minNodes html
pvalueType html
resetColors-methods html
show-methods html
** building package indices
** installing vignettes
** testing if installed package can be loaded
In R CMD INSTALL
install for x64
* installing *source* package 'categoryCompare' ...
** testing if installed package can be loaded
* MD5 sums
packaged installation of 'categoryCompare' as categoryCompare_1.24.0.zip
* DONE (categoryCompare)
In R CMD INSTALL
In R CMD INSTALL
* installing to library 'C:/Users/biocbuild/bbs-3.7-bioc/R/library'
package 'categoryCompare' successfully unpacked and MD5 sums checked
In R CMD INSTALL