| Back to Multiple platform build/check report for BioC 3.7 |
|
This page was generated on 2018-10-17 08:36:17 -0400 (Wed, 17 Oct 2018).
| Package 183/1561 | Hostname | OS / Arch | INSTALL | BUILD | CHECK | BUILD BIN | ||||||
| cancerclass 1.24.0 Daniel Kosztyla
| malbec2 | Linux (Ubuntu 16.04.1 LTS) / x86_64 | OK | OK | OK | |||||||
| tokay2 | Windows Server 2012 R2 Standard / x64 | OK | OK | OK | [ OK ] | |||||||
| merida2 | OS X 10.11.6 El Capitan / x86_64 | OK | OK | WARNINGS | OK |
| Package: cancerclass |
| Version: 1.24.0 |
| Command: rm -rf cancerclass.buildbin-libdir && mkdir cancerclass.buildbin-libdir && C:\Users\biocbuild\bbs-3.7-bioc\R\bin\R.exe CMD INSTALL --merge-multiarch --build --library=cancerclass.buildbin-libdir cancerclass_1.24.0.tar.gz |
| StartedAt: 2018-10-17 06:07:03 -0400 (Wed, 17 Oct 2018) |
| EndedAt: 2018-10-17 06:07:20 -0400 (Wed, 17 Oct 2018) |
| EllapsedTime: 17.7 seconds |
| RetCode: 0 |
| Status: OK |
| PackageFile: cancerclass_1.24.0.zip |
| PackageFileSize: 1.617 MiB |
##############################################################################
##############################################################################
###
### Running command:
###
### rm -rf cancerclass.buildbin-libdir && mkdir cancerclass.buildbin-libdir && C:\Users\biocbuild\bbs-3.7-bioc\R\bin\R.exe CMD INSTALL --merge-multiarch --build --library=cancerclass.buildbin-libdir cancerclass_1.24.0.tar.gz
###
##############################################################################
##############################################################################
install for i386
* installing *source* package 'cancerclass' ...
** libs
C:/Rtools/mingw_32/bin/gcc -I"C:/Users/BIOCBU˜1/BBS-3˜1.7-B/R/include" -DNDEBUG -I"C:/extsoft/include" -O3 -Wall -std=gnu99 -mtune=generic -c copa.c -o copa.o
C:/Rtools/mingw_32/bin/gcc -I"C:/Users/BIOCBU˜1/BBS-3˜1.7-B/R/include" -DNDEBUG -I"C:/extsoft/include" -O3 -Wall -std=gnu99 -mtune=generic -c cor.c -o cor.o
C:/Rtools/mingw_32/bin/gcc -I"C:/Users/BIOCBU˜1/BBS-3˜1.7-B/R/include" -DNDEBUG -I"C:/extsoft/include" -O3 -Wall -std=gnu99 -mtune=generic -c fc.c -o fc.o
C:/Rtools/mingw_32/bin/gcc -I"C:/Users/BIOCBU˜1/BBS-3˜1.7-B/R/include" -DNDEBUG -I"C:/extsoft/include" -O3 -Wall -std=gnu99 -mtune=generic -c help.c -o help.o
help.c: In function 'welch_df':
help.c:263:19: warning: variable 'mean2' set but not used [-Wunused-but-set-variable]
double mean1, mean2, var1, var2 = 0.0;
^
help.c:263:12: warning: variable 'mean1' set but not used [-Wunused-but-set-variable]
double mean1, mean2, var1, var2 = 0.0;
^
help.c: In function 'bsortdesc':
help.c:344:13: warning: variable 'anzahl' set but not used [-Wunused-but-set-variable]
int i,k,anzahl=0;
^
help.c: In function 'bsort':
help.c:368:13: warning: variable 'anzahl' set but not used [-Wunused-but-set-variable]
int i,k,anzahl=0;
^
C:/Rtools/mingw_32/bin/gcc -I"C:/Users/BIOCBU˜1/BBS-3˜1.7-B/R/include" -DNDEBUG -I"C:/extsoft/include" -O3 -Wall -std=gnu99 -mtune=generic -c ort.c -o ort.o
C:/Rtools/mingw_32/bin/gcc -I"C:/Users/BIOCBU˜1/BBS-3˜1.7-B/R/include" -DNDEBUG -I"C:/extsoft/include" -O3 -Wall -std=gnu99 -mtune=generic -c os.c -o os.o
C:/Rtools/mingw_32/bin/gcc -I"C:/Users/BIOCBU˜1/BBS-3˜1.7-B/R/include" -DNDEBUG -I"C:/extsoft/include" -O3 -Wall -std=gnu99 -mtune=generic -c shift.c -o shift.o
C:/Rtools/mingw_32/bin/gcc -I"C:/Users/BIOCBU˜1/BBS-3˜1.7-B/R/include" -DNDEBUG -I"C:/extsoft/include" -O3 -Wall -std=gnu99 -mtune=generic -c statistics.c -o statistics.o
C:/Rtools/mingw_32/bin/gcc -I"C:/Users/BIOCBU˜1/BBS-3˜1.7-B/R/include" -DNDEBUG -I"C:/extsoft/include" -O3 -Wall -std=gnu99 -mtune=generic -c student.c -o student.o
C:/Rtools/mingw_32/bin/gcc -I"C:/Users/BIOCBU˜1/BBS-3˜1.7-B/R/include" -DNDEBUG -I"C:/extsoft/include" -O3 -Wall -std=gnu99 -mtune=generic -c throw.c -o throw.o
C:/Rtools/mingw_32/bin/gcc -I"C:/Users/BIOCBU˜1/BBS-3˜1.7-B/R/include" -DNDEBUG -I"C:/extsoft/include" -O3 -Wall -std=gnu99 -mtune=generic -c welch.c -o welch.o
C:/Rtools/mingw_32/bin/gcc -I"C:/Users/BIOCBU˜1/BBS-3˜1.7-B/R/include" -DNDEBUG -I"C:/extsoft/include" -O3 -Wall -std=gnu99 -mtune=generic -c wilcox.c -o wilcox.o
wilcox.c: In function 'wilcoxon':
wilcox.c:37:8: warning: variable 'overall' set but not used [-Wunused-but-set-variable]
int overall = 0;
^
wilcox.c: In function 'pwilcoxon':
wilcox.c:75:8: warning: variable 'overall' set but not used [-Wunused-but-set-variable]
int overall = 0;
^
C:/Rtools/mingw_32/bin/gcc -shared -s -static-libgcc -o cancerclass.dll tmp.def copa.o cor.o fc.o help.o ort.o os.o shift.o statistics.o student.o throw.o welch.o wilcox.o -LC:/extsoft/lib/i386 -LC:/extsoft/lib -LC:/Users/BIOCBU˜1/BBS-3˜1.7-B/R/bin/i386 -lR
installing to C:/Users/biocbuild/bbs-3.7-bioc/meat/cancerclass.buildbin-libdir/cancerclass/libs/i386
** R
** data
** inst
** byte-compile and prepare package for lazy loading
** help
*** installing help indices
converting help for package 'cancerclass'
finding HTML links ... done
GOLUB html
cancerclass-internal html
cancerclass-package html
fit html
loo html
nvalidate html
nvalidation-class html
plot html
plot3d html
predict,predictor-method html
prediction-class html
predictor-class html
summary,prediction-method html
validate html
validation-class html
** building package indices
** installing vignettes
** testing if installed package can be loaded
In R CMD INSTALL
install for x64
* installing *source* package 'cancerclass' ...
** libs
C:/Rtools/mingw_64/bin/gcc -I"C:/Users/BIOCBU˜1/BBS-3˜1.7-B/R/include" -DNDEBUG -I"C:/extsoft/include" -O2 -Wall -std=gnu99 -mtune=generic -c copa.c -o copa.o
C:/Rtools/mingw_64/bin/gcc -I"C:/Users/BIOCBU˜1/BBS-3˜1.7-B/R/include" -DNDEBUG -I"C:/extsoft/include" -O2 -Wall -std=gnu99 -mtune=generic -c cor.c -o cor.o
C:/Rtools/mingw_64/bin/gcc -I"C:/Users/BIOCBU˜1/BBS-3˜1.7-B/R/include" -DNDEBUG -I"C:/extsoft/include" -O2 -Wall -std=gnu99 -mtune=generic -c fc.c -o fc.o
C:/Rtools/mingw_64/bin/gcc -I"C:/Users/BIOCBU˜1/BBS-3˜1.7-B/R/include" -DNDEBUG -I"C:/extsoft/include" -O2 -Wall -std=gnu99 -mtune=generic -c help.c -o help.o
help.c: In function 'welch_df':
help.c:263:19: warning: variable 'mean2' set but not used [-Wunused-but-set-variable]
double mean1, mean2, var1, var2 = 0.0;
^
help.c:263:12: warning: variable 'mean1' set but not used [-Wunused-but-set-variable]
double mean1, mean2, var1, var2 = 0.0;
^
help.c: In function 'bsortdesc':
help.c:344:13: warning: variable 'anzahl' set but not used [-Wunused-but-set-variable]
int i,k,anzahl=0;
^
help.c: In function 'bsort':
help.c:368:13: warning: variable 'anzahl' set but not used [-Wunused-but-set-variable]
int i,k,anzahl=0;
^
C:/Rtools/mingw_64/bin/gcc -I"C:/Users/BIOCBU˜1/BBS-3˜1.7-B/R/include" -DNDEBUG -I"C:/extsoft/include" -O2 -Wall -std=gnu99 -mtune=generic -c ort.c -o ort.o
C:/Rtools/mingw_64/bin/gcc -I"C:/Users/BIOCBU˜1/BBS-3˜1.7-B/R/include" -DNDEBUG -I"C:/extsoft/include" -O2 -Wall -std=gnu99 -mtune=generic -c os.c -o os.o
C:/Rtools/mingw_64/bin/gcc -I"C:/Users/BIOCBU˜1/BBS-3˜1.7-B/R/include" -DNDEBUG -I"C:/extsoft/include" -O2 -Wall -std=gnu99 -mtune=generic -c shift.c -o shift.o
C:/Rtools/mingw_64/bin/gcc -I"C:/Users/BIOCBU˜1/BBS-3˜1.7-B/R/include" -DNDEBUG -I"C:/extsoft/include" -O2 -Wall -std=gnu99 -mtune=generic -c statistics.c -o statistics.o
C:/Rtools/mingw_64/bin/gcc -I"C:/Users/BIOCBU˜1/BBS-3˜1.7-B/R/include" -DNDEBUG -I"C:/extsoft/include" -O2 -Wall -std=gnu99 -mtune=generic -c student.c -o student.o
C:/Rtools/mingw_64/bin/gcc -I"C:/Users/BIOCBU˜1/BBS-3˜1.7-B/R/include" -DNDEBUG -I"C:/extsoft/include" -O2 -Wall -std=gnu99 -mtune=generic -c throw.c -o throw.o
C:/Rtools/mingw_64/bin/gcc -I"C:/Users/BIOCBU˜1/BBS-3˜1.7-B/R/include" -DNDEBUG -I"C:/extsoft/include" -O2 -Wall -std=gnu99 -mtune=generic -c welch.c -o welch.o
C:/Rtools/mingw_64/bin/gcc -I"C:/Users/BIOCBU˜1/BBS-3˜1.7-B/R/include" -DNDEBUG -I"C:/extsoft/include" -O2 -Wall -std=gnu99 -mtune=generic -c wilcox.c -o wilcox.o
wilcox.c: In function 'wilcoxon':
wilcox.c:37:8: warning: variable 'overall' set but not used [-Wunused-but-set-variable]
int overall = 0;
^
wilcox.c: In function 'pwilcoxon':
wilcox.c:75:8: warning: variable 'overall' set but not used [-Wunused-but-set-variable]
int overall = 0;
^
C:/Rtools/mingw_64/bin/gcc -shared -s -static-libgcc -o cancerclass.dll tmp.def copa.o cor.o fc.o help.o ort.o os.o shift.o statistics.o student.o throw.o welch.o wilcox.o -LC:/extsoft/lib/x64 -LC:/extsoft/lib -LC:/Users/BIOCBU˜1/BBS-3˜1.7-B/R/bin/x64 -lR
installing to C:/Users/biocbuild/bbs-3.7-bioc/meat/cancerclass.buildbin-libdir/cancerclass/libs/x64
** testing if installed package can be loaded
* MD5 sums
packaged installation of 'cancerclass' as cancerclass_1.24.0.zip
* DONE (cancerclass)
In R CMD INSTALL
In R CMD INSTALL