| Back to Multiple platform build/check report for BioC 3.7 |
|
This page was generated on 2018-10-17 08:51:05 -0400 (Wed, 17 Oct 2018).
| Package 175/1561 | Hostname | OS / Arch | INSTALL | BUILD | CHECK | BUILD BIN | ||||||
| bumphunter 1.22.0 Rafael A. Irizarry
| malbec2 | Linux (Ubuntu 16.04.1 LTS) / x86_64 | OK | OK | OK | |||||||
| tokay2 | Windows Server 2012 R2 Standard / x64 | OK | OK | WARNINGS | OK | |||||||
| merida2 | OS X 10.11.6 El Capitan / x86_64 | OK | OK | OK | [ OK ] |
| Package: bumphunter |
| Version: 1.22.0 |
| Command: rm -rf bumphunter.buildbin-libdir && mkdir bumphunter.buildbin-libdir && /Users/biocbuild/BBS/utils/build-universal.sh bumphunter_1.22.0.tar.gz /Library/Frameworks/R.framework/Versions/Current/Resources/bin/R bumphunter.buildbin-libdir |
| StartedAt: 2018-10-17 01:01:24 -0400 (Wed, 17 Oct 2018) |
| EndedAt: 2018-10-17 01:02:10 -0400 (Wed, 17 Oct 2018) |
| EllapsedTime: 45.9 seconds |
| RetCode: 0 |
| Status: OK |
| PackageFile: bumphunter_1.22.0.tgz |
| PackageFileSize: 4.47 MiB |
############################################################################## ############################################################################## ### ### Running command: ### ### rm -rf bumphunter.buildbin-libdir && mkdir bumphunter.buildbin-libdir && /Users/biocbuild/BBS/utils/build-universal.sh bumphunter_1.22.0.tar.gz /Library/Frameworks/R.framework/Versions/Current/Resources/bin/R bumphunter.buildbin-libdir ### ############################################################################## ############################################################################## >>>>>>> >>>>>>> INSTALLATION WITH 'R CMD INSTALL --preclean --no-multiarch --library=bumphunter.buildbin-libdir bumphunter_1.22.0.tar.gz' >>>>>>> * installing *source* package ‘bumphunter’ ... ** R ** data *** moving datasets to lazyload DB ** inst ** byte-compile and prepare package for lazy loading ** help *** installing help indices ** building package indices ** installing vignettes ** testing if installed package can be loaded * DONE (bumphunter)