| Back to Multiple platform build/check report for BioC 3.7 |
|
This page was generated on 2018-10-17 08:49:58 -0400 (Wed, 17 Oct 2018).
| Package 152/1561 | Hostname | OS / Arch | INSTALL | BUILD | CHECK | BUILD BIN | ||||||
| biovizBase 1.28.2 Michael Lawrence
| malbec2 | Linux (Ubuntu 16.04.1 LTS) / x86_64 | OK | OK | OK | |||||||
| tokay2 | Windows Server 2012 R2 Standard / x64 | OK | OK | WARNINGS | OK | |||||||
| merida2 | OS X 10.11.6 El Capitan / x86_64 | OK | OK | [ OK ] | OK |
| Package: biovizBase |
| Version: 1.28.2 |
| Command: /Library/Frameworks/R.framework/Versions/Current/Resources/bin/R CMD check --install=check:biovizBase.install-out.txt --library=/Library/Frameworks/R.framework/Versions/Current/Resources/library --no-vignettes --timings biovizBase_1.28.2.tar.gz |
| StartedAt: 2018-10-16 20:09:22 -0400 (Tue, 16 Oct 2018) |
| EndedAt: 2018-10-16 20:15:14 -0400 (Tue, 16 Oct 2018) |
| EllapsedTime: 352.0 seconds |
| RetCode: 0 |
| Status: OK |
| CheckDir: biovizBase.Rcheck |
| Warnings: 0 |
##############################################################################
##############################################################################
###
### Running command:
###
### /Library/Frameworks/R.framework/Versions/Current/Resources/bin/R CMD check --install=check:biovizBase.install-out.txt --library=/Library/Frameworks/R.framework/Versions/Current/Resources/library --no-vignettes --timings biovizBase_1.28.2.tar.gz
###
##############################################################################
##############################################################################
* using log directory ‘/Users/biocbuild/bbs-3.7-bioc/meat/biovizBase.Rcheck’
* using R version 3.5.1 Patched (2018-07-12 r74967)
* using platform: x86_64-apple-darwin15.6.0 (64-bit)
* using session charset: UTF-8
* using option ‘--no-vignettes’
* checking for file ‘biovizBase/DESCRIPTION’ ... OK
* this is package ‘biovizBase’ version ‘1.28.2’
* checking package namespace information ... OK
* checking package dependencies ... OK
* checking if this is a source package ... OK
* checking if there is a namespace ... OK
* checking for hidden files and directories ... OK
* checking for portable file names ... OK
* checking for sufficient/correct file permissions ... OK
* checking whether package ‘biovizBase’ can be installed ... OK
* checking installed package size ... OK
* checking package directory ... OK
* checking ‘build’ directory ... OK
* checking DESCRIPTION meta-information ... NOTE
Malformed Title field: should not end in a period.
* checking top-level files ... OK
* checking for left-over files ... OK
* checking index information ... OK
* checking package subdirectories ... OK
* checking R files for non-ASCII characters ... OK
* checking R files for syntax errors ... OK
* checking whether the package can be loaded ... OK
* checking whether the package can be loaded with stated dependencies ... OK
* checking whether the package can be unloaded cleanly ... OK
* checking whether the namespace can be loaded with stated dependencies ... OK
* checking whether the namespace can be unloaded cleanly ... OK
* checking dependencies in R code ... NOTE
'library' or 'require' calls in package code:
'BSgenome' 'rtracklayer'
Please use :: or requireNamespace() instead.
See section 'Suggested packages' in the 'Writing R Extensions' manual.
* checking S3 generic/method consistency ... OK
* checking replacement functions ... OK
* checking foreign function calls ... OK
* checking R code for possible problems ... NOTE
genSymbols: no visible binding for global variable 'start_location'
genSymbols: no visible binding for global variable 'end_location'
genSymbols: no visible binding for global variable 'Chromosome'
genSymbols: no visible binding for global variable 'symbol'
transformToLinkInCircle: no visible binding for global variable
'.circle.x'
transformToLinkInCircle: no visible binding for global variable
'.circle.y'
transformToLinkInCircle : <anonymous>: no visible binding for global
variable 'from.x'
transformToLinkInCircle : <anonymous>: no visible binding for global
variable 'from.y'
transformToLinkInCircle : <anonymous>: no visible binding for global
variable 'to.x'
transformToLinkInCircle : <anonymous>: no visible binding for global
variable 'to.y'
mold,ExpressionSet: no visible global function definition for 'exprs'
mold,ExpressionSet: no visible global function definition for 'pData'
mold,RleList: no visible binding for global variable 'xRleList'
mold,eSet: no visible global function definition for 'phenoData'
mold,eSet: no visible global function definition for 'melt'
mold,eSet: no visible global function definition for 'varLabels'
Undefined global functions or variables:
.circle.x .circle.y Chromosome end_location exprs from.x from.y melt
pData phenoData start_location symbol to.x to.y varLabels xRleList
* checking Rd files ... OK
* checking Rd metadata ... OK
* checking Rd cross-references ... OK
* checking for missing documentation entries ... OK
* checking for code/documentation mismatches ... OK
* checking Rd \usage sections ... OK
* checking Rd contents ... OK
* checking for unstated dependencies in examples ... OK
* checking contents of ‘data’ directory ... OK
* checking data for non-ASCII characters ... OK
* checking data for ASCII and uncompressed saves ... OK
* checking line endings in C/C++/Fortran sources/headers ... OK
* checking compiled code ... NOTE
Note: information on .o files is not available
* checking sizes of PDF files under ‘inst/doc’ ... OK
* checking files in ‘vignettes’ ... OK
* checking examples ... OK
Examples with CPU or elapsed time > 5s
user system elapsed
crunch-method 44.117 1.007 45.74
* checking for unstated dependencies in ‘tests’ ... OK
* checking tests ...
Running ‘runTests.R’
OK
* checking for unstated dependencies in vignettes ... OK
* checking package vignettes in ‘inst/doc’ ... OK
* checking running R code from vignettes ... SKIPPED
* checking re-building of vignette outputs ... SKIPPED
* checking PDF version of manual ... OK
* DONE
Status: 4 NOTEs
See
‘/Users/biocbuild/bbs-3.7-bioc/meat/biovizBase.Rcheck/00check.log’
for details.
biovizBase.Rcheck/00install.out
##############################################################################
##############################################################################
###
### Running command:
###
### /Library/Frameworks/R.framework/Versions/Current/Resources/bin/R CMD INSTALL biovizBase
###
##############################################################################
##############################################################################
* installing to library ‘/Library/Frameworks/R.framework/Versions/3.5/Resources/library’
* installing *source* package ‘biovizBase’ ...
** libs
clang -I"/Library/Frameworks/R.framework/Resources/include" -DNDEBUG -I/usr/local/include -fPIC -Wall -g -O2 -c R_init_biovizBase.c -o R_init_biovizBase.o
clang -I"/Library/Frameworks/R.framework/Resources/include" -DNDEBUG -I/usr/local/include -fPIC -Wall -g -O2 -c bin_offsets.c -o bin_offsets.o
bin_offsets.c:57:15: warning: passing 'Rbyte *' (aka 'unsigned char *') to parameter of type 'const char *' converts between pointers to integer types with different sign [-Wpointer-sign]
if (strncmp(b, "BAI\1", 4))
^
/usr/include/string.h:84:26: note: passing argument to parameter here
int strncmp(const char *, const char *, size_t);
^
1 warning generated.
clang -dynamiclib -Wl,-headerpad_max_install_names -undefined dynamic_lookup -single_module -multiply_defined suppress -L/Library/Frameworks/R.framework/Resources/lib -L/usr/local/lib -o biovizBase.so R_init_biovizBase.o bin_offsets.o -F/Library/Frameworks/R.framework/.. -framework R -Wl,-framework -Wl,CoreFoundation
installing to /Library/Frameworks/R.framework/Versions/3.5/Resources/library/biovizBase/libs
** R
** data
*** moving datasets to lazyload DB
** inst
** byte-compile and prepare package for lazy loading
** help
*** installing help indices
** building package indices
** installing vignettes
** testing if installed package can be loaded
* DONE (biovizBase)
biovizBase.Rcheck/tests/runTests.Rout
R version 3.5.1 Patched (2018-07-12 r74967) -- "Feather Spray"
Copyright (C) 2018 The R Foundation for Statistical Computing
Platform: x86_64-apple-darwin15.6.0 (64-bit)
R is free software and comes with ABSOLUTELY NO WARRANTY.
You are welcome to redistribute it under certain conditions.
Type 'license()' or 'licence()' for distribution details.
R is a collaborative project with many contributors.
Type 'contributors()' for more information and
'citation()' on how to cite R or R packages in publications.
Type 'demo()' for some demos, 'help()' for on-line help, or
'help.start()' for an HTML browser interface to help.
Type 'q()' to quit R.
> BiocGenerics:::testPackage("biovizBase")
Loading required package: ensembldb
Loading required package: BiocGenerics
Loading required package: parallel
Attaching package: 'BiocGenerics'
The following objects are masked from 'package:parallel':
clusterApply, clusterApplyLB, clusterCall, clusterEvalQ,
clusterExport, clusterMap, parApply, parCapply, parLapply,
parLapplyLB, parRapply, parSapply, parSapplyLB
The following objects are masked from 'package:stats':
IQR, mad, sd, var, xtabs
The following objects are masked from 'package:base':
Filter, Find, Map, Position, Reduce, anyDuplicated, append,
as.data.frame, basename, cbind, colMeans, colSums, colnames,
dirname, do.call, duplicated, eval, evalq, get, grep, grepl,
intersect, is.unsorted, lapply, lengths, mapply, match, mget,
order, paste, pmax, pmax.int, pmin, pmin.int, rank, rbind,
rowMeans, rowSums, rownames, sapply, setdiff, sort, table, tapply,
union, unique, unsplit, which, which.max, which.min
Loading required package: GenomicRanges
Loading required package: stats4
Loading required package: S4Vectors
Attaching package: 'S4Vectors'
The following object is masked from 'package:base':
expand.grid
Loading required package: IRanges
Loading required package: GenomeInfoDb
Loading required package: GenomicFeatures
Loading required package: AnnotationDbi
Loading required package: Biobase
Welcome to Bioconductor
Vignettes contain introductory material; view with
'browseVignettes()'. To cite Bioconductor, see
'citation("Biobase")', and for packages 'citation("pkgname")'.
Loading required package: AnnotationFilter
Attaching package: 'ensembldb'
The following object is masked from 'package:stats':
filter
Fetching data...OK
Parsing exons...OK
Defining introns...OK
Defining UTRs...OK
Defining CDS...OK
aggregating...
Done
Fetching data...OK
Parsing exons...OK
Defining introns...OK
Defining UTRs...OK
Defining CDS...OK
aggregating...
Done
Fetching data...Fetching data...OK
Parsing exons...OK
Defining introns...OK
Defining UTRs...OK
Defining CDS...OK
aggregating...
Done
Fetching data...OK
Parsing exons...OK
Defining introns...OK
Defining UTRs...OK
Defining CDS...OK
aggregating...
Done
Fetching data...OK
Parsing exons...OK
Defining introns...OK
Defining UTRs...OK
Defining CDS...OK
aggregating...
Done
Fetching data...OK
Parsing exons...OK
Defining introns...OK
Defining UTRs...OK
Defining CDS...OK
aggregating...
Done
RUNIT TEST PROTOCOL -- Tue Oct 16 20:15:08 2018
***********************************************
Number of test functions: 1
Number of errors: 0
Number of failures: 0
1 Test Suite :
biovizBase RUnit Tests - 1 test function, 0 errors, 0 failures
Number of test functions: 1
Number of errors: 0
Number of failures: 0
>
> proc.time()
user system elapsed
20.204 1.061 21.495
biovizBase.Rcheck/biovizBase-Ex.timings
| name | user | system | elapsed | |
| CRC | 0.003 | 0.001 | 0.003 | |
| GCcontent | 0.522 | 0.020 | 0.543 | |
| addStepping-method | 0.985 | 0.139 | 1.130 | |
| aes-utils | 0.001 | 0.000 | 0.001 | |
| colorBlindSafePal | 0.002 | 0.000 | 0.002 | |
| containLetters | 0.002 | 0.000 | 0.002 | |
| crc1.GeRL | 0.015 | 0.003 | 0.017 | |
| crunch-method | 44.117 | 1.007 | 45.740 | |
| darned_hg19_subset500 | 0.033 | 0.002 | 0.035 | |
| flatGrl | 0.278 | 0.005 | 0.288 | |
| genesymbol | 0.061 | 0.002 | 0.063 | |
| getBioColor | 0.004 | 0.000 | 0.004 | |
| getFormalNames | 0.002 | 0.001 | 0.001 | |
| getGaps | 1.400 | 0.042 | 1.450 | |
| getIdeoGR | 0.235 | 0.005 | 0.242 | |
| getIdeogram | 0.001 | 0.001 | 0.001 | |
| hg19Ideogram | 0.011 | 0.001 | 0.012 | |
| hg19IdeogramCyto | 0.021 | 0.002 | 0.022 | |
| ideo | 0.048 | 0.002 | 0.049 | |
| ideoCyto | 0.068 | 0.002 | 0.070 | |
| isIdeogram | 0.005 | 0.001 | 0.007 | |
| isMatchedWithModel | 0.400 | 0.017 | 0.424 | |
| isSimpleIdeogram | 0.024 | 0.001 | 0.025 | |
| maxGap-method | 0.284 | 0.004 | 0.288 | |
| pileupAsGRanges | 0.001 | 0.000 | 0.002 | |
| pileupGRangesAsVariantTable | 0.001 | 0.000 | 0.002 | |
| plotColorLegend | 0.003 | 0.000 | 0.003 | |
| scale | 0.373 | 0.005 | 0.379 | |
| showColor | 0.000 | 0.001 | 0.001 | |
| shrinkageFun-method | 0.218 | 0.005 | 0.224 | |
| splitByFacets-method | 0.543 | 0.008 | 0.555 | |
| strip_formula_dots | 0.002 | 0.000 | 0.002 | |
| subsetArgsByFormals | 0.001 | 0.000 | 0.002 | |
| transform | 3.096 | 0.174 | 3.295 | |
| transformGRangesForEvenSpace | 0.264 | 0.004 | 0.273 | |