| Back to Multiple platform build/check report for BioC 3.7 |
|
This page was generated on 2018-10-17 08:38:06 -0400 (Wed, 17 Oct 2018).
| Package 150/1561 | Hostname | OS / Arch | INSTALL | BUILD | CHECK | BUILD BIN | ||||||
| biosvd 2.16.0 Anneleen Daemen
| malbec2 | Linux (Ubuntu 16.04.1 LTS) / x86_64 | OK | OK | OK | |||||||
| tokay2 | Windows Server 2012 R2 Standard / x64 | [ OK ] | OK | OK | OK | |||||||
| merida2 | OS X 10.11.6 El Capitan / x86_64 | OK | OK | OK | OK |
| Package: biosvd |
| Version: 2.16.0 |
| Command: C:\cygwin\bin\curl.exe -O https://malbec2.bioconductor.org/BBS/3.7/bioc/src/contrib/biosvd_2.16.0.tar.gz && rm -rf biosvd.buildbin-libdir && mkdir biosvd.buildbin-libdir && C:\Users\biocbuild\bbs-3.7-bioc\R\bin\R.exe CMD INSTALL --merge-multiarch --build --library=biosvd.buildbin-libdir biosvd_2.16.0.tar.gz && C:\Users\biocbuild\bbs-3.7-bioc\R\bin\R.exe CMD INSTALL biosvd_2.16.0.zip && rm biosvd_2.16.0.tar.gz biosvd_2.16.0.zip |
| StartedAt: 2018-10-16 20:18:17 -0400 (Tue, 16 Oct 2018) |
| EndedAt: 2018-10-16 20:19:18 -0400 (Tue, 16 Oct 2018) |
| EllapsedTime: 61.5 seconds |
| RetCode: 0 |
| Status: OK |
##############################################################################
##############################################################################
###
### Running command:
###
### C:\cygwin\bin\curl.exe -O https://malbec2.bioconductor.org/BBS/3.7/bioc/src/contrib/biosvd_2.16.0.tar.gz && rm -rf biosvd.buildbin-libdir && mkdir biosvd.buildbin-libdir && C:\Users\biocbuild\bbs-3.7-bioc\R\bin\R.exe CMD INSTALL --merge-multiarch --build --library=biosvd.buildbin-libdir biosvd_2.16.0.tar.gz && C:\Users\biocbuild\bbs-3.7-bioc\R\bin\R.exe CMD INSTALL biosvd_2.16.0.zip && rm biosvd_2.16.0.tar.gz biosvd_2.16.0.zip
###
##############################################################################
##############################################################################
% Total % Received % Xferd Average Speed Time Time Time Current
Dload Upload Total Spent Left Speed
0 0 0 0 0 0 0 0 --:--:-- --:--:-- --:--:-- 0
100 523k 100 523k 0 0 8248k 0 --:--:-- --:--:-- --:--:-- 9349k
install for i386
* installing *source* package 'biosvd' ...
** R
** data
** inst
** byte-compile and prepare package for lazy loading
** help
*** installing help indices
converting help for package 'biosvd'
finding HTML links ... done
Eigensystem-class html
EigensystemPlotParam-class html
HeLaData html
StarvationData html
YeastData html
assayColorMap-set html
biosvd html
compute-methods html
contrast-set html
exclude-methods html
featureColorMap-set html
figure-set html
filenames-set html
negativeValues-set html
palette-set html
path-set html
plot-methods html
plots-set html
prefix-set html
project-methods html
report-methods html
whichAssays-set html
whichEigenassays-set html
whichEigenfeatures-set html
whichFeatures-set html
whichPolarAxes-set html
** building package indices
** installing vignettes
** testing if installed package can be loaded
In R CMD INSTALL
install for x64
* installing *source* package 'biosvd' ...
** testing if installed package can be loaded
* MD5 sums
packaged installation of 'biosvd' as biosvd_2.16.0.zip
* DONE (biosvd)
In R CMD INSTALL
In R CMD INSTALL
* installing to library 'C:/Users/biocbuild/bbs-3.7-bioc/R/library'
package 'biosvd' successfully unpacked and MD5 sums checked
In R CMD INSTALL