| Back to Multiple platform build/check report for BioC 3.7 |
|
This page was generated on 2018-10-17 08:42:53 -0400 (Wed, 17 Oct 2018).
| Package 119/1561 | Hostname | OS / Arch | INSTALL | BUILD | CHECK | BUILD BIN | ||||||
| bigmelon 1.6.0 Tyler J. Gorrie-Stone
| malbec2 | Linux (Ubuntu 16.04.1 LTS) / x86_64 | OK | OK | OK | |||||||
| tokay2 | Windows Server 2012 R2 Standard / x64 | [ OK ] | OK | WARNINGS | OK | |||||||
| merida2 | OS X 10.11.6 El Capitan / x86_64 | OK | OK | OK | OK |
| Package: bigmelon |
| Version: 1.6.0 |
| Command: C:\cygwin\bin\curl.exe -O https://malbec2.bioconductor.org/BBS/3.7/bioc/src/contrib/bigmelon_1.6.0.tar.gz && rm -rf bigmelon.buildbin-libdir && mkdir bigmelon.buildbin-libdir && C:\Users\biocbuild\bbs-3.7-bioc\R\bin\R.exe CMD INSTALL --merge-multiarch --build --library=bigmelon.buildbin-libdir bigmelon_1.6.0.tar.gz && C:\Users\biocbuild\bbs-3.7-bioc\R\bin\R.exe CMD INSTALL bigmelon_1.6.0.zip && rm bigmelon_1.6.0.tar.gz bigmelon_1.6.0.zip |
| StartedAt: 2018-10-16 20:29:47 -0400 (Tue, 16 Oct 2018) |
| EndedAt: 2018-10-16 20:30:55 -0400 (Tue, 16 Oct 2018) |
| EllapsedTime: 67.4 seconds |
| RetCode: 0 |
| Status: OK |
##############################################################################
##############################################################################
###
### Running command:
###
### C:\cygwin\bin\curl.exe -O https://malbec2.bioconductor.org/BBS/3.7/bioc/src/contrib/bigmelon_1.6.0.tar.gz && rm -rf bigmelon.buildbin-libdir && mkdir bigmelon.buildbin-libdir && C:\Users\biocbuild\bbs-3.7-bioc\R\bin\R.exe CMD INSTALL --merge-multiarch --build --library=bigmelon.buildbin-libdir bigmelon_1.6.0.tar.gz && C:\Users\biocbuild\bbs-3.7-bioc\R\bin\R.exe CMD INSTALL bigmelon_1.6.0.zip && rm bigmelon_1.6.0.tar.gz bigmelon_1.6.0.zip
###
##############################################################################
##############################################################################
% Total % Received % Xferd Average Speed Time Time Time Current
Dload Upload Total Spent Left Speed
0 0 0 0 0 0 0 0 --:--:-- --:--:-- --:--:-- 0
100 673k 100 673k 0 0 10.3M 0 --:--:-- --:--:-- --:--:-- 11.5M
install for i386
* installing *source* package 'bigmelon' ...
** R
** data
** inst
** byte-compile and prepare package for lazy loading
Creating a new generic function for 'fot' in package 'bigmelon'
** help
*** installing help indices
converting help for package 'bigmelon'
finding HTML links ... done
GEOtoGDS html
app2gds html
backupGdsn html
bigmelon-accessors html
Rd warning: C:/Users/biocbuild/bbs-3.7-bioc/tmpdir/RtmpY1tbCs/R.INSTALL25cc480030a6/bigmelon/man/bigmelon-accessors.Rd:102: file link 'methylumi' in package 'methylumi' does not exist and so has been treated as a topic
bigmelon-internal html
bigmelon-normalization html
finding level-2 HTML links ... done
bigmelon-package html
Rd warning: C:/Users/biocbuild/bbs-3.7-bioc/tmpdir/RtmpY1tbCs/R.INSTALL25cc480030a6/bigmelon/man/bigmelon-package.Rd:37: file link 'methylumi' in package 'methylumi' does not exist and so has been treated as a topic
cantaloupe html
combogds html
ecc html
es2gds html
finalreport2gds html
gds2mlumi html
getquantilesandranks html
iadd html
Rd warning: C:/Users/biocbuild/bbs-3.7-bioc/tmpdir/RtmpY1tbCs/R.INSTALL25cc480030a6/bigmelon/man/iadd.Rd:46: file link 'methylumIDATepic' in package 'wateRmelon' does not exist and so has been treated as a topic
pfiltergds html
prcompgdsn html
pwodgdsn html
rankednorm html
redirect html
wm-port html
** building package indices
** installing vignettes
** testing if installed package can be loaded
In R CMD INSTALL
install for x64
* installing *source* package 'bigmelon' ...
** testing if installed package can be loaded
* MD5 sums
packaged installation of 'bigmelon' as bigmelon_1.6.0.zip
* DONE (bigmelon)
In R CMD INSTALL
In R CMD INSTALL
* installing to library 'C:/Users/biocbuild/bbs-3.7-bioc/R/library'
package 'bigmelon' successfully unpacked and MD5 sums checked
In R CMD INSTALL