| Back to Multiple platform build/check report for BioC 3.7 |
|
This page was generated on 2018-10-17 08:44:14 -0400 (Wed, 17 Oct 2018).
| Package 104/1561 | Hostname | OS / Arch | INSTALL | BUILD | CHECK | BUILD BIN | ||||||
| beachmat 1.2.1 Aaron Lun
| malbec2 | Linux (Ubuntu 16.04.1 LTS) / x86_64 | OK | OK | OK | |||||||
| tokay2 | Windows Server 2012 R2 Standard / x64 | OK | [ OK ] | OK | OK | |||||||
| merida2 | OS X 10.11.6 El Capitan / x86_64 | OK | OK | OK | OK |
| Package: beachmat |
| Version: 1.2.1 |
| Command: chmod a+r beachmat -R && C:\Users\biocbuild\bbs-3.7-bioc\R\bin\R.exe CMD build --keep-empty-dirs --no-resave-data beachmat |
| StartedAt: 2018-10-16 23:46:16 -0400 (Tue, 16 Oct 2018) |
| EndedAt: 2018-10-16 23:48:10 -0400 (Tue, 16 Oct 2018) |
| EllapsedTime: 114.1 seconds |
| RetCode: 0 |
| Status: OK |
| PackageFile: beachmat_1.2.1.tar.gz |
| PackageFileSize: 941 KiB |
############################################################################## ############################################################################## ### ### Running command: ### ### chmod a+r beachmat -R && C:\Users\biocbuild\bbs-3.7-bioc\R\bin\R.exe CMD build --keep-empty-dirs --no-resave-data beachmat ### ############################################################################## ############################################################################## * checking for file 'beachmat/DESCRIPTION' ... OK * preparing 'beachmat': * checking DESCRIPTION meta-information ... OK * cleaning src * installing the package to build vignettes * creating vignettes ... OK * cleaning src * checking for LF line-endings in source and make files and shell scripts * checking for empty or unneeded directories * building 'beachmat_1.2.1.tar.gz'