| Back to Multiple platform build/check report for BioC 3.7 |
|
This page was generated on 2018-10-17 08:27:20 -0400 (Wed, 17 Oct 2018).
| Package 90/1561 | Hostname | OS / Arch | INSTALL | BUILD | CHECK | BUILD BIN | ||||||
| bamsignals 1.12.1 Alessandro Mammana
| malbec2 | Linux (Ubuntu 16.04.1 LTS) / x86_64 | [ OK ] | OK | OK | |||||||
| tokay2 | Windows Server 2012 R2 Standard / x64 | OK | OK | OK | OK | |||||||
| merida2 | OS X 10.11.6 El Capitan / x86_64 | OK | OK | OK | OK |
| Package: bamsignals |
| Version: 1.12.1 |
| Command: /home/biocbuild/bbs-3.7-bioc/R/bin/R CMD INSTALL bamsignals |
| StartedAt: 2018-10-15 18:11:43 -0400 (Mon, 15 Oct 2018) |
| EndedAt: 2018-10-15 18:12:01 -0400 (Mon, 15 Oct 2018) |
| EllapsedTime: 17.1 seconds |
| RetCode: 0 |
| Status: OK |
##############################################################################
##############################################################################
###
### Running command:
###
### /home/biocbuild/bbs-3.7-bioc/R/bin/R CMD INSTALL bamsignals
###
##############################################################################
##############################################################################
* installing to library ‘/home/biocbuild/bbs-3.7-bioc/R/library’
* installing *source* package ‘bamsignals’ ...
** libs
g++ -I"/home/biocbuild/bbs-3.7-bioc/R/include" -DNDEBUG -I"/home/biocbuild/bbs-3.7-bioc/R/library/Rcpp/include" -I"/home/biocbuild/bbs-3.7-bioc/R/library/Rhtslib/include" -I"/home/biocbuild/bbs-3.7-bioc/R/library/zlibbioc/include" -I/usr/local/include -fpic -g -O2 -Wall -c CountSignals.cpp -o CountSignals.o
g++ -I"/home/biocbuild/bbs-3.7-bioc/R/include" -DNDEBUG -I"/home/biocbuild/bbs-3.7-bioc/R/library/Rcpp/include" -I"/home/biocbuild/bbs-3.7-bioc/R/library/Rhtslib/include" -I"/home/biocbuild/bbs-3.7-bioc/R/library/zlibbioc/include" -I/usr/local/include -fpic -g -O2 -Wall -c RcppExports.cpp -o RcppExports.o
g++ -I"/home/biocbuild/bbs-3.7-bioc/R/include" -DNDEBUG -I"/home/biocbuild/bbs-3.7-bioc/R/library/Rcpp/include" -I"/home/biocbuild/bbs-3.7-bioc/R/library/Rhtslib/include" -I"/home/biocbuild/bbs-3.7-bioc/R/library/zlibbioc/include" -I/usr/local/include -fpic -g -O2 -Wall -c bamsignals.cpp -o bamsignals.o
bamsignals.cpp: In function ‘bool writeSamAsBamAndIndex(const string&, const string&)’:
bamsignals.cpp:516:31: warning: ignoring return value of ‘int sam_hdr_write(samFile*, const bam_hdr_t*)’, declared with attribute warn_unused_result [-Wunused-result]
sam_hdr_write(out, header);
^
bamsignals.cpp:521:36: warning: ignoring return value of ‘int bam_write1(BGZF*, const bam1_t*)’, declared with attribute warn_unused_result [-Wunused-result]
bam_write1(out->fp.bgzf, b); // write the alignment to `out'
^
bamsignals.cpp:530:40: warning: ignoring return value of ‘int sam_index_build(const char*, int)’, declared with attribute warn_unused_result [-Wunused-result]
bam_index_build(bampath.c_str(), 0);
^
gcc -I"/home/biocbuild/bbs-3.7-bioc/R/include" -DNDEBUG -I"/home/biocbuild/bbs-3.7-bioc/R/library/Rcpp/include" -I"/home/biocbuild/bbs-3.7-bioc/R/library/Rhtslib/include" -I"/home/biocbuild/bbs-3.7-bioc/R/library/zlibbioc/include" -I/usr/local/include -fpic -g -O2 -Wall -c bamsignals_init.c -o bamsignals_init.o
g++ -shared -L/home/biocbuild/bbs-3.7-bioc/R/lib -L/usr/local/lib -o bamsignals.so CountSignals.o RcppExports.o bamsignals.o bamsignals_init.o -L/home/biocbuild/bbs-3.7-bioc/R/library/Rhtslib/usrlib -Wl,-rpath,/home/biocbuild/bbs-3.7-bioc/R/library/Rhtslib/usrlib -lhts -lz -lm -lbz2 -llzma -lpthread -L/home/biocbuild/bbs-3.7-bioc/R/lib -lR
installing to /home/biocbuild/bbs-3.7-bioc/R/library/bamsignals/libs
** R
** inst
** byte-compile and prepare package for lazy loading
** help
*** installing help indices
** building package indices
** installing vignettes
** testing if installed package can be loaded
* DONE (bamsignals)