| Back to Multiple platform build/check report for BioC 3.7 |
|
This page was generated on 2018-10-17 08:47:02 -0400 (Wed, 17 Oct 2018).
| Package 64/1561 | Hostname | OS / Arch | INSTALL | BUILD | CHECK | BUILD BIN | ||||||
| aroma.light 3.10.0 Henrik Bengtsson
| malbec2 | Linux (Ubuntu 16.04.1 LTS) / x86_64 | OK | OK | WARNINGS | |||||||
| tokay2 | Windows Server 2012 R2 Standard / x64 | OK | OK | WARNINGS | OK | |||||||
| merida2 | OS X 10.11.6 El Capitan / x86_64 | OK | OK | WARNINGS | [ OK ] |
| Package: aroma.light |
| Version: 3.10.0 |
| Command: rm -rf aroma.light.buildbin-libdir && mkdir aroma.light.buildbin-libdir && /Users/biocbuild/BBS/utils/build-universal.sh aroma.light_3.10.0.tar.gz /Library/Frameworks/R.framework/Versions/Current/Resources/bin/R aroma.light.buildbin-libdir |
| StartedAt: 2018-10-17 00:55:11 -0400 (Wed, 17 Oct 2018) |
| EndedAt: 2018-10-17 00:55:59 -0400 (Wed, 17 Oct 2018) |
| EllapsedTime: 48.1 seconds |
| RetCode: 0 |
| Status: OK |
| PackageFile: aroma.light_3.10.0.tgz |
| PackageFileSize: 595.6 KiB |
############################################################################## ############################################################################## ### ### Running command: ### ### rm -rf aroma.light.buildbin-libdir && mkdir aroma.light.buildbin-libdir && /Users/biocbuild/BBS/utils/build-universal.sh aroma.light_3.10.0.tar.gz /Library/Frameworks/R.framework/Versions/Current/Resources/bin/R aroma.light.buildbin-libdir ### ############################################################################## ############################################################################## >>>>>>> >>>>>>> INSTALLATION WITH 'R CMD INSTALL --preclean --no-multiarch --library=aroma.light.buildbin-libdir aroma.light_3.10.0.tar.gz' >>>>>>> * installing *source* package ‘aroma.light’ ... ** R ** inst ** byte-compile and prepare package for lazy loading ** help *** installing help indices ** building package indices ** testing if installed package can be loaded * DONE (aroma.light)