| Back to Multiple platform build/check report for BioC 3.7 |
|
This page was generated on 2018-10-17 08:44:29 -0400 (Wed, 17 Oct 2018).
| Package 63/1561 | Hostname | OS / Arch | INSTALL | BUILD | CHECK | BUILD BIN | ||||||
| apeglm 1.2.1 Anqi Zhu
| malbec2 | Linux (Ubuntu 16.04.1 LTS) / x86_64 | OK | OK | OK | |||||||
| tokay2 | Windows Server 2012 R2 Standard / x64 | [ OK ] | OK | OK | OK | |||||||
| merida2 | OS X 10.11.6 El Capitan / x86_64 | OK | OK | OK | OK |
| Package: apeglm |
| Version: 1.2.1 |
| Command: C:\cygwin\bin\curl.exe -O https://malbec2.bioconductor.org/BBS/3.7/bioc/src/contrib/apeglm_1.2.1.tar.gz && rm -rf apeglm.buildbin-libdir && mkdir apeglm.buildbin-libdir && C:\Users\biocbuild\bbs-3.7-bioc\R\bin\R.exe CMD INSTALL --merge-multiarch --build --library=apeglm.buildbin-libdir apeglm_1.2.1.tar.gz && C:\Users\biocbuild\bbs-3.7-bioc\R\bin\R.exe CMD INSTALL apeglm_1.2.1.zip && rm apeglm_1.2.1.tar.gz apeglm_1.2.1.zip |
| StartedAt: 2018-10-16 19:33:10 -0400 (Tue, 16 Oct 2018) |
| EndedAt: 2018-10-16 19:34:28 -0400 (Tue, 16 Oct 2018) |
| EllapsedTime: 77.8 seconds |
| RetCode: 0 |
| Status: OK |
##############################################################################
##############################################################################
###
### Running command:
###
### C:\cygwin\bin\curl.exe -O https://malbec2.bioconductor.org/BBS/3.7/bioc/src/contrib/apeglm_1.2.1.tar.gz && rm -rf apeglm.buildbin-libdir && mkdir apeglm.buildbin-libdir && C:\Users\biocbuild\bbs-3.7-bioc\R\bin\R.exe CMD INSTALL --merge-multiarch --build --library=apeglm.buildbin-libdir apeglm_1.2.1.tar.gz && C:\Users\biocbuild\bbs-3.7-bioc\R\bin\R.exe CMD INSTALL apeglm_1.2.1.zip && rm apeglm_1.2.1.tar.gz apeglm_1.2.1.zip
###
##############################################################################
##############################################################################
% Total % Received % Xferd Average Speed Time Time Time Current
Dload Upload Total Spent Left Speed
0 0 0 0 0 0 0 0 --:--:-- --:--:-- --:--:-- 0
100 26887 100 26887 0 0 444k 0 --:--:-- --:--:-- --:--:-- 495k
install for i386
* installing *source* package 'apeglm' ...
** libs
C:/Rtools/mingw_32/bin/g++ -I"C:/Users/BIOCBU˜1/BBS-3˜1.7-B/R/include" -DNDEBUG -I"C:/Users/biocbuild/bbs-3.7-bioc/R/library/Rcpp/include" -I"C:/Users/biocbuild/bbs-3.7-bioc/R/library/RcppEigen/include" -I"C:/Users/biocbuild/bbs-3.7-bioc/R/library/RcppNumerical/include" -I"C:/extsoft/include" -O2 -Wall -mtune=generic -c RcppExports.cpp -o RcppExports.o
C:/Rtools/mingw_32/bin/g++ -I"C:/Users/BIOCBU˜1/BBS-3˜1.7-B/R/include" -DNDEBUG -I"C:/Users/biocbuild/bbs-3.7-bioc/R/library/Rcpp/include" -I"C:/Users/biocbuild/bbs-3.7-bioc/R/library/RcppEigen/include" -I"C:/Users/biocbuild/bbs-3.7-bioc/R/library/RcppNumerical/include" -I"C:/extsoft/include" -O2 -Wall -mtune=generic -c nbinomGLM.cpp -o nbinomGLM.o
C:/Rtools/mingw_32/bin/g++ -shared -s -static-libgcc -o apeglm.dll tmp.def RcppExports.o nbinomGLM.o -LC:/extsoft/lib/i386 -LC:/extsoft/lib -LC:/Users/BIOCBU˜1/BBS-3˜1.7-B/R/bin/i386 -lR
installing to C:/Users/biocbuild/bbs-3.7-bioc/meat/apeglm.buildbin-libdir/apeglm/libs/i386
** R
** inst
** byte-compile and prepare package for lazy loading
** help
*** installing help indices
converting help for package 'apeglm'
finding HTML links ... done
apeglm html
bbEstDisp html
logLikNB html
svalue html
** building package indices
** installing vignettes
** testing if installed package can be loaded
In R CMD INSTALL
install for x64
* installing *source* package 'apeglm' ...
** libs
C:/Rtools/mingw_64/bin/g++ -I"C:/Users/BIOCBU˜1/BBS-3˜1.7-B/R/include" -DNDEBUG -I"C:/Users/biocbuild/bbs-3.7-bioc/R/library/Rcpp/include" -I"C:/Users/biocbuild/bbs-3.7-bioc/R/library/RcppEigen/include" -I"C:/Users/biocbuild/bbs-3.7-bioc/R/library/RcppNumerical/include" -I"C:/extsoft/include" -O2 -Wall -mtune=generic -c RcppExports.cpp -o RcppExports.o
C:/Rtools/mingw_64/bin/g++ -I"C:/Users/BIOCBU˜1/BBS-3˜1.7-B/R/include" -DNDEBUG -I"C:/Users/biocbuild/bbs-3.7-bioc/R/library/Rcpp/include" -I"C:/Users/biocbuild/bbs-3.7-bioc/R/library/RcppEigen/include" -I"C:/Users/biocbuild/bbs-3.7-bioc/R/library/RcppNumerical/include" -I"C:/extsoft/include" -O2 -Wall -mtune=generic -c nbinomGLM.cpp -o nbinomGLM.o
C:/Rtools/mingw_64/bin/g++ -shared -s -static-libgcc -o apeglm.dll tmp.def RcppExports.o nbinomGLM.o -LC:/extsoft/lib/x64 -LC:/extsoft/lib -LC:/Users/BIOCBU˜1/BBS-3˜1.7-B/R/bin/x64 -lR
installing to C:/Users/biocbuild/bbs-3.7-bioc/meat/apeglm.buildbin-libdir/apeglm/libs/x64
** testing if installed package can be loaded
* MD5 sums
packaged installation of 'apeglm' as apeglm_1.2.1.zip
* DONE (apeglm)
In R CMD INSTALL
In R CMD INSTALL
* installing to library 'C:/Users/biocbuild/bbs-3.7-bioc/R/library'
package 'apeglm' successfully unpacked and MD5 sums checked
In R CMD INSTALL