| Back to Multiple platform build/check report for BioC 3.7 |
|
This page was generated on 2018-10-17 08:30:49 -0400 (Wed, 17 Oct 2018).
| Package 60/1561 | Hostname | OS / Arch | INSTALL | BUILD | CHECK | BUILD BIN | ||||||
| anota2seq 1.2.0 Christian Oertlin
| malbec2 | Linux (Ubuntu 16.04.1 LTS) / x86_64 | OK | OK | [ OK ] | |||||||
| tokay2 | Windows Server 2012 R2 Standard / x64 | OK | OK | OK | OK | |||||||
| merida2 | OS X 10.11.6 El Capitan / x86_64 | OK | OK | OK | OK |
| Package: anota2seq |
| Version: 1.2.0 |
| Command: /home/biocbuild/bbs-3.7-bioc/R/bin/R CMD check --install=check:anota2seq.install-out.txt --library=/home/biocbuild/bbs-3.7-bioc/R/library --no-vignettes --timings anota2seq_1.2.0.tar.gz |
| StartedAt: 2018-10-15 22:27:54 -0400 (Mon, 15 Oct 2018) |
| EndedAt: 2018-10-15 22:31:18 -0400 (Mon, 15 Oct 2018) |
| EllapsedTime: 203.6 seconds |
| RetCode: 0 |
| Status: OK |
| CheckDir: anota2seq.Rcheck |
| Warnings: 0 |
##############################################################################
##############################################################################
###
### Running command:
###
### /home/biocbuild/bbs-3.7-bioc/R/bin/R CMD check --install=check:anota2seq.install-out.txt --library=/home/biocbuild/bbs-3.7-bioc/R/library --no-vignettes --timings anota2seq_1.2.0.tar.gz
###
##############################################################################
##############################################################################
* using log directory ‘/home/biocbuild/bbs-3.7-bioc/meat/anota2seq.Rcheck’
* using R version 3.5.1 Patched (2018-07-12 r74967)
* using platform: x86_64-pc-linux-gnu (64-bit)
* using session charset: UTF-8
* using option ‘--no-vignettes’
* checking for file ‘anota2seq/DESCRIPTION’ ... OK
* this is package ‘anota2seq’ version ‘1.2.0’
* checking package namespace information ... OK
* checking package dependencies ... OK
* checking if this is a source package ... OK
* checking if there is a namespace ... OK
* checking for hidden files and directories ... OK
* checking for portable file names ... OK
* checking for sufficient/correct file permissions ... OK
* checking whether package ‘anota2seq’ can be installed ... OK
* checking installed package size ... OK
* checking package directory ... OK
* checking ‘build’ directory ... OK
* checking DESCRIPTION meta-information ... OK
* checking top-level files ... OK
* checking for left-over files ... OK
* checking index information ... OK
* checking package subdirectories ... OK
* checking R files for non-ASCII characters ... OK
* checking R files for syntax errors ... OK
* checking whether the package can be loaded ... OK
* checking whether the package can be loaded with stated dependencies ... OK
* checking whether the package can be unloaded cleanly ... OK
* checking whether the namespace can be loaded with stated dependencies ... OK
* checking whether the namespace can be unloaded cleanly ... OK
* checking dependencies in R code ... OK
* checking S3 generic/method consistency ... OK
* checking replacement functions ... OK
* checking foreign function calls ... OK
* checking R code for possible problems ... OK
* checking Rd files ... OK
* checking Rd metadata ... OK
* checking Rd cross-references ... OK
* checking for missing documentation entries ... OK
* checking for code/documentation mismatches ... OK
* checking Rd \usage sections ... OK
* checking Rd contents ... OK
* checking for unstated dependencies in examples ... OK
* checking contents of ‘data’ directory ... OK
* checking data for non-ASCII characters ... OK
* checking data for ASCII and uncompressed saves ... OK
* checking files in ‘vignettes’ ... OK
* checking examples ... OK
Examples with CPU or elapsed time > 5s
user system elapsed
anota2seqGetResidOutlierTest 32.000 0.016 32.069
anota2seqGetQualityControl 31.864 0.004 31.914
* checking for unstated dependencies in vignettes ... OK
* checking package vignettes in ‘inst/doc’ ... OK
* checking running R code from vignettes ... SKIPPED
* checking re-building of vignette outputs ... SKIPPED
* checking PDF version of manual ... OK
* DONE
Status: OK
anota2seq.Rcheck/00install.out
############################################################################## ############################################################################## ### ### Running command: ### ### /home/biocbuild/bbs-3.7-bioc/R/bin/R CMD INSTALL anota2seq ### ############################################################################## ############################################################################## * installing to library ‘/home/biocbuild/bbs-3.7-bioc/R/library’ * installing *source* package ‘anota2seq’ ... ** R ** data *** moving datasets to lazyload DB ** inst ** byte-compile and prepare package for lazy loading ** help *** installing help indices ** building package indices ** installing vignettes ** testing if installed package can be loaded * DONE (anota2seq)
anota2seq.Rcheck/anota2seq-Ex.timings
| name | user | system | elapsed | |
| anota2seq-plots | 0.000 | 0.000 | 0.001 | |
| anota2seqAnalyze | 1.420 | 0.028 | 1.452 | |
| anota2seqDataSetFromMatrix | 0.14 | 0.00 | 0.14 | |
| anota2seqGetContrasts | 0.560 | 0.000 | 0.561 | |
| anota2seqGetCovariates | 0.508 | 0.000 | 0.511 | |
| anota2seqGetDeltaData | 0.484 | 0.012 | 0.498 | |
| anota2seqGetNormalizedData | 0.040 | 0.000 | 0.041 | |
| anota2seqGetOutput | 0.480 | 0.000 | 0.478 | |
| anota2seqGetQualityControl | 31.864 | 0.004 | 31.914 | |
| anota2seqGetResidOutlierTest | 32.000 | 0.016 | 32.069 | |
| anota2seqGetThresholds | 0.504 | 0.004 | 0.510 | |
| anota2seqPerformQC | 0.000 | 0.000 | 0.001 | |
| anota2seqRegModes | 1.456 | 0.012 | 1.473 | |
| anota2seqResidOutlierTest | 0.000 | 0.000 | 0.001 | |
| anota2seqRun | 1.304 | 0.004 | 1.310 | |
| anota2seqSelSigGenes | 0.492 | 0.000 | 0.493 | |
| anota2seq_data | 0.012 | 0.000 | 0.013 | |
| show-Anota2seqDataSet-method | 0.212 | 0.004 | 0.214 | |