| Back to Multiple platform build/check report for BioC 3.7 |
|
This page was generated on 2018-10-17 08:44:32 -0400 (Wed, 17 Oct 2018).
| Package 41/1561 | Hostname | OS / Arch | INSTALL | BUILD | CHECK | BUILD BIN | ||||||
| amplican 1.2.1 Eivind Valen
| malbec2 | Linux (Ubuntu 16.04.1 LTS) / x86_64 | OK | OK | OK | |||||||
| tokay2 | Windows Server 2012 R2 Standard / x64 | OK | OK | OK | [ OK ] | |||||||
| merida2 | OS X 10.11.6 El Capitan / x86_64 | OK | OK | OK | OK |
| Package: amplican |
| Version: 1.2.1 |
| Command: rm -rf amplican.buildbin-libdir && mkdir amplican.buildbin-libdir && C:\Users\biocbuild\bbs-3.7-bioc\R\bin\R.exe CMD INSTALL --merge-multiarch --build --library=amplican.buildbin-libdir amplican_1.2.1.tar.gz |
| StartedAt: 2018-10-17 06:01:18 -0400 (Wed, 17 Oct 2018) |
| EndedAt: 2018-10-17 06:01:47 -0400 (Wed, 17 Oct 2018) |
| EllapsedTime: 28.8 seconds |
| RetCode: 0 |
| Status: OK |
| PackageFile: amplican_1.2.1.zip |
| PackageFileSize: 4.709 MiB |
##############################################################################
##############################################################################
###
### Running command:
###
### rm -rf amplican.buildbin-libdir && mkdir amplican.buildbin-libdir && C:\Users\biocbuild\bbs-3.7-bioc\R\bin\R.exe CMD INSTALL --merge-multiarch --build --library=amplican.buildbin-libdir amplican_1.2.1.tar.gz
###
##############################################################################
##############################################################################
install for i386
* installing *source* package 'amplican' ...
** R
** inst
** byte-compile and prepare package for lazy loading
** help
*** installing help indices
converting help for package 'amplican'
finding HTML links ... done
AlignmentsExperimentSet-class html
finding level-2 HTML links ... done
alphabetQuality html
amplican html
amplicanAlign html
amplicanConsensus html
amplicanFilter html
amplicanMap html
amplicanNormalize html
amplicanOverlap html
amplicanPipeline html
amplicanReport html
amplicanSummarize html
amplican_print_reads html
assignedCount html
barcodeData-set html
barcodeData html
checkConfigFile html
checkFileWriteAccess html
checkPrimers html
checkTarget html
cigarsToEvents html
comb_along html
cumsumw html
decode html
defGR html
experimentData-set html
experimentData html
extractEvents html
findEOP html
findLQR html
findPD html
flipRanges html
fwdReads-set html
fwdReads html
fwdReadsType-set html
fwdReadsType html
getEventInfo html
getEvents html
get_amplicon html
get_left_primer html
get_right_primer html
goodAvgQuality html
goodBaseQuality html
lookupAlignment html
makeAlignment html
metaplot_deletions html
metaplot_insertions html
metaplot_mismatches html
pairToEvents html
plot_amplicon html
plot_cuts html
plot_deletions html
plot_height html
plot_heterogeneity html
plot_insertions html
plot_mismatches html
plot_variants html
readCounts-set html
readCounts html
revComp html
rveReads-set html
rveReads html
rveReadsType-set html
rveReadsType html
unassignedCount html
unassignedData-set html
unassignedData html
upperGroups html
writeAlignments html
** building package indices
** installing vignettes
** testing if installed package can be loaded
In R CMD INSTALL
install for x64
* installing *source* package 'amplican' ...
** testing if installed package can be loaded
* MD5 sums
packaged installation of 'amplican' as amplican_1.2.1.zip
* DONE (amplican)
In R CMD INSTALL
In R CMD INSTALL