| Back to Multiple platform build/check report for BioC 3.7 |
|
This page was generated on 2018-10-17 08:32:07 -0400 (Wed, 17 Oct 2018).
| Package 39/1561 | Hostname | OS / Arch | INSTALL | BUILD | CHECK | BUILD BIN | ||||||
| altcdfenvs 2.42.0 Laurent Gautier
| malbec2 | Linux (Ubuntu 16.04.1 LTS) / x86_64 | OK | OK | OK | |||||||
| tokay2 | Windows Server 2012 R2 Standard / x64 | OK | OK | OK | [ OK ] | |||||||
| merida2 | OS X 10.11.6 El Capitan / x86_64 | OK | OK | OK | OK |
| Package: altcdfenvs |
| Version: 2.42.0 |
| Command: rm -rf altcdfenvs.buildbin-libdir && mkdir altcdfenvs.buildbin-libdir && C:\Users\biocbuild\bbs-3.7-bioc\R\bin\R.exe CMD INSTALL --merge-multiarch --build --library=altcdfenvs.buildbin-libdir altcdfenvs_2.42.0.tar.gz |
| StartedAt: 2018-10-17 06:01:08 -0400 (Wed, 17 Oct 2018) |
| EndedAt: 2018-10-17 06:01:31 -0400 (Wed, 17 Oct 2018) |
| EllapsedTime: 23.3 seconds |
| RetCode: 0 |
| Status: OK |
| PackageFile: altcdfenvs_2.42.0.zip |
| PackageFileSize: 759.5 KiB |
##############################################################################
##############################################################################
###
### Running command:
###
### rm -rf altcdfenvs.buildbin-libdir && mkdir altcdfenvs.buildbin-libdir && C:\Users\biocbuild\bbs-3.7-bioc\R\bin\R.exe CMD INSTALL --merge-multiarch --build --library=altcdfenvs.buildbin-libdir altcdfenvs_2.42.0.tar.gz
###
##############################################################################
##############################################################################
install for i386
* installing *source* package 'altcdfenvs' ...
** R
** data
** inst
** byte-compile and prepare package for lazy loading
NOTE: arguments in definition for validity method for class 'AffyProbesMatch' changed from (obj) to (object)
in method for 'toHypergraph' with signature '"CdfEnvAffy"': no definition for class "CdfEnvAffy"
** help
*** installing help indices
converting help for package 'altcdfenvs'
finding HTML links ... done
AffyProbesMatch-class html
CdfEnvAffy-class html
appendCdfEnvAffy html
buildCdfEnv.biostrings html
cdfenv html
cdfenvEx html
copyCdfEnvAffy html
countduplicated html
geneNames html
getxy.probeseq html
index2xy html
indexProbes.CdfEnvAffy html
matchAffyProbes html
plot.CdfEnvAffy html
removeIndex html
toHypergraph html
unique.CdfEnvAffy html
utils.FASTA html
validAffyBatch html
** building package indices
** installing vignettes
** testing if installed package can be loaded
In R CMD INSTALL
install for x64
* installing *source* package 'altcdfenvs' ...
** testing if installed package can be loaded
* MD5 sums
packaged installation of 'altcdfenvs' as altcdfenvs_2.42.0.zip
* DONE (altcdfenvs)
In R CMD INSTALL
In R CMD INSTALL