| Back to Multiple platform build/check report for BioC 3.7 | 
 | 
This page was generated on 2018-10-17 08:38:15 -0400 (Wed, 17 Oct 2018).
| Package 38/1561 | Hostname | OS / Arch | INSTALL | BUILD | CHECK | BUILD BIN | ||||||
| alsace 1.16.0 Ron Wehrens 
 | malbec2 | Linux (Ubuntu 16.04.1 LTS) / x86_64 | OK | OK | OK |  | ||||||
| tokay2 | Windows Server 2012 R2 Standard / x64 | [ OK ] | OK | OK | OK |  | ||||||
| merida2 | OS X 10.11.6 El Capitan / x86_64 | OK | OK | OK | OK |  | 
| Package: alsace | 
| Version: 1.16.0 | 
| Command: C:\cygwin\bin\curl.exe -O https://malbec2.bioconductor.org/BBS/3.7/bioc/src/contrib/alsace_1.16.0.tar.gz && rm -rf alsace.buildbin-libdir && mkdir alsace.buildbin-libdir && C:\Users\biocbuild\bbs-3.7-bioc\R\bin\R.exe CMD INSTALL --merge-multiarch --build --library=alsace.buildbin-libdir alsace_1.16.0.tar.gz && C:\Users\biocbuild\bbs-3.7-bioc\R\bin\R.exe CMD INSTALL alsace_1.16.0.zip && rm alsace_1.16.0.tar.gz alsace_1.16.0.zip | 
| StartedAt: 2018-10-16 18:34:43 -0400 (Tue, 16 Oct 2018) | 
| EndedAt: 2018-10-16 18:35:56 -0400 (Tue, 16 Oct 2018) | 
| EllapsedTime: 72.2 seconds | 
| RetCode: 0 | 
| Status: OK | 
##############################################################################
##############################################################################
###
### Running command:
###
###   C:\cygwin\bin\curl.exe -O https://malbec2.bioconductor.org/BBS/3.7/bioc/src/contrib/alsace_1.16.0.tar.gz && rm -rf alsace.buildbin-libdir && mkdir alsace.buildbin-libdir && C:\Users\biocbuild\bbs-3.7-bioc\R\bin\R.exe CMD INSTALL --merge-multiarch --build --library=alsace.buildbin-libdir alsace_1.16.0.tar.gz && C:\Users\biocbuild\bbs-3.7-bioc\R\bin\R.exe CMD INSTALL alsace_1.16.0.zip && rm alsace_1.16.0.tar.gz alsace_1.16.0.zip
###
##############################################################################
##############################################################################
  % Total    % Received % Xferd  Average Speed   Time    Time     Time  Current
                                 Dload  Upload   Total   Spent    Left  Speed
  0     0    0     0    0     0      0      0 --:--:-- --:--:-- --:--:--     0
100 1064k  100 1064k    0     0  16.0M      0 --:--:-- --:--:-- --:--:-- 18.2M
install for i386
* installing *source* package 'alsace' ...
** R
** data
** byte-compile and prepare package for lazy loading
** help
*** installing help indices
  converting help for package 'alsace'
    finding HTML links ... done
    alsace-package                          html  
    components                              html  
    correctPeaks                            html  
    correctRT                               html  
    finding level-2 HTML links ... done
    doALS                                   html  
    filterPeaks                             html  
    fitpeaks                                html  
    getAllPeaks                             html  
    getPeakTable                            html  
    opa                                     html  
    preprocess                              html  
    showALSresult                           html  
    tea                                     html  
    teaMerged                               html  
    windows                                 html  
** building package indices
** installing vignettes
** testing if installed package can be loaded
In R CMD INSTALL
install for x64
* installing *source* package 'alsace' ...
** testing if installed package can be loaded
* MD5 sums
packaged installation of 'alsace' as alsace_1.16.0.zip
* DONE (alsace)
In R CMD INSTALL
In R CMD INSTALL
* installing to library 'C:/Users/biocbuild/bbs-3.7-bioc/R/library'
package 'alsace' successfully unpacked and MD5 sums checked
In R CMD INSTALL