| Back to Multiple platform build/check report for BioC 3.7 |
|
This page was generated on 2018-10-17 08:42:46 -0400 (Wed, 17 Oct 2018).
| Package 37/1561 | Hostname | OS / Arch | INSTALL | BUILD | CHECK | BUILD BIN | ||||||
| alpine 1.6.0 Michael Love
| malbec2 | Linux (Ubuntu 16.04.1 LTS) / x86_64 | OK | OK | OK | |||||||
| tokay2 | Windows Server 2012 R2 Standard / x64 | OK | OK | OK | [ OK ] | |||||||
| merida2 | OS X 10.11.6 El Capitan / x86_64 | OK | OK | OK | OK |
| Package: alpine |
| Version: 1.6.0 |
| Command: rm -rf alpine.buildbin-libdir && mkdir alpine.buildbin-libdir && C:\Users\biocbuild\bbs-3.7-bioc\R\bin\R.exe CMD INSTALL --merge-multiarch --build --library=alpine.buildbin-libdir alpine_1.6.0.tar.gz |
| StartedAt: 2018-10-17 06:01:04 -0400 (Wed, 17 Oct 2018) |
| EndedAt: 2018-10-17 06:01:36 -0400 (Wed, 17 Oct 2018) |
| EllapsedTime: 31.8 seconds |
| RetCode: 0 |
| Status: OK |
| PackageFile: alpine_1.6.0.zip |
| PackageFileSize: 382.9 KiB |
##############################################################################
##############################################################################
###
### Running command:
###
### rm -rf alpine.buildbin-libdir && mkdir alpine.buildbin-libdir && C:\Users\biocbuild\bbs-3.7-bioc\R\bin\R.exe CMD INSTALL --merge-multiarch --build --library=alpine.buildbin-libdir alpine_1.6.0.tar.gz
###
##############################################################################
##############################################################################
install for i386
* installing *source* package 'alpine' ...
** R
** data
** inst
** byte-compile and prepare package for lazy loading
** help
*** installing help indices
converting help for package 'alpine'
finding HTML links ... done
alpine-package html
buildFragtypes html
estimateAbundance html
extractAlpine html
fitBiasModels html
getFragmentWidths html
getReadLength html
mergeGenes html
normalizeDESeq html
plotFragLen html
plotGC html
plotGRL html
plotOrder0 html
plotRelPos html
predictCoverage html
preprocessedData html
splitGenesAcrossChroms html
splitLongGenes html
** building package indices
** installing vignettes
** testing if installed package can be loaded
In R CMD INSTALL
install for x64
* installing *source* package 'alpine' ...
** testing if installed package can be loaded
* MD5 sums
packaged installation of 'alpine' as alpine_1.6.0.zip
* DONE (alpine)
In R CMD INSTALL
In R CMD INSTALL