| Back to Multiple platform build/check report for BioC 3.7 |
|
This page was generated on 2018-10-17 08:31:48 -0400 (Wed, 17 Oct 2018).
| Package 24/1561 | Hostname | OS / Arch | INSTALL | BUILD | CHECK | BUILD BIN | ||||||
| affyio 1.50.0 Ben Bolstad
| malbec2 | Linux (Ubuntu 16.04.1 LTS) / x86_64 | OK | OK | OK | |||||||
| tokay2 | Windows Server 2012 R2 Standard / x64 | OK | OK | OK | [ OK ] | |||||||
| merida2 | OS X 10.11.6 El Capitan / x86_64 | OK | OK | OK | OK |
| Package: affyio |
| Version: 1.50.0 |
| Command: rm -rf affyio.buildbin-libdir && mkdir affyio.buildbin-libdir && C:\Users\biocbuild\bbs-3.7-bioc\R\bin\R.exe CMD INSTALL --merge-multiarch --build --library=affyio.buildbin-libdir affyio_1.50.0.tar.gz |
| StartedAt: 2018-10-17 06:00:28 -0400 (Wed, 17 Oct 2018) |
| EndedAt: 2018-10-17 06:01:19 -0400 (Wed, 17 Oct 2018) |
| EllapsedTime: 51.2 seconds |
| RetCode: 0 |
| Status: OK |
| PackageFile: affyio_1.50.0.zip |
| PackageFileSize: 164.4 KiB |
##############################################################################
##############################################################################
###
### Running command:
###
### rm -rf affyio.buildbin-libdir && mkdir affyio.buildbin-libdir && C:\Users\biocbuild\bbs-3.7-bioc\R\bin\R.exe CMD INSTALL --merge-multiarch --build --library=affyio.buildbin-libdir affyio_1.50.0.tar.gz
###
##############################################################################
##############################################################################
install for i386
* installing *source* package 'affyio' ...
**********************************************
WARNING: this package has a configure script
It probably needs manual configuration
**********************************************
** libs
C:/Rtools/mingw_32/bin/gcc -I"C:/Users/biocbuild/bbs-3.7-bioc/R/library/zlibbioc/include" -I"C:/Users/BIOCBU˜1/BBS-3˜1.7-B/R/include" -DNDEBUG -DHAVE_ZLIB -I"C:/extsoft/include" -O3 -Wall -std=gnu99 -mtune=generic -c fread_functions.c -o fread_functions.o
C:/Rtools/mingw_32/bin/gcc -I"C:/Users/biocbuild/bbs-3.7-bioc/R/library/zlibbioc/include" -I"C:/Users/BIOCBU˜1/BBS-3˜1.7-B/R/include" -DNDEBUG -DHAVE_ZLIB -I"C:/extsoft/include" -O3 -Wall -std=gnu99 -mtune=generic -c init_package.c -o init_package.o
C:/Rtools/mingw_32/bin/gcc -I"C:/Users/biocbuild/bbs-3.7-bioc/R/library/zlibbioc/include" -I"C:/Users/BIOCBU˜1/BBS-3˜1.7-B/R/include" -DNDEBUG -DHAVE_ZLIB -I"C:/extsoft/include" -O3 -Wall -std=gnu99 -mtune=generic -c read_abatch.c -o read_abatch.o
C:/Rtools/mingw_32/bin/gcc -I"C:/Users/biocbuild/bbs-3.7-bioc/R/library/zlibbioc/include" -I"C:/Users/BIOCBU˜1/BBS-3˜1.7-B/R/include" -DNDEBUG -DHAVE_ZLIB -I"C:/extsoft/include" -O3 -Wall -std=gnu99 -mtune=generic -c read_bpmap.c -o read_bpmap.o
C:/Rtools/mingw_32/bin/gcc -I"C:/Users/biocbuild/bbs-3.7-bioc/R/library/zlibbioc/include" -I"C:/Users/BIOCBU˜1/BBS-3˜1.7-B/R/include" -DNDEBUG -DHAVE_ZLIB -I"C:/extsoft/include" -O3 -Wall -std=gnu99 -mtune=generic -c read_cdf_xda.c -o read_cdf_xda.o
C:/Rtools/mingw_32/bin/gcc -I"C:/Users/biocbuild/bbs-3.7-bioc/R/library/zlibbioc/include" -I"C:/Users/BIOCBU˜1/BBS-3˜1.7-B/R/include" -DNDEBUG -DHAVE_ZLIB -I"C:/extsoft/include" -O3 -Wall -std=gnu99 -mtune=generic -c read_cdffile2.c -o read_cdffile2.o
C:/Rtools/mingw_32/bin/gcc -I"C:/Users/biocbuild/bbs-3.7-bioc/R/library/zlibbioc/include" -I"C:/Users/BIOCBU˜1/BBS-3˜1.7-B/R/include" -DNDEBUG -DHAVE_ZLIB -I"C:/extsoft/include" -O3 -Wall -std=gnu99 -mtune=generic -c read_celfile_generic.c -o read_celfile_generic.o
C:/Rtools/mingw_32/bin/gcc -I"C:/Users/biocbuild/bbs-3.7-bioc/R/library/zlibbioc/include" -I"C:/Users/BIOCBU˜1/BBS-3˜1.7-B/R/include" -DNDEBUG -DHAVE_ZLIB -I"C:/extsoft/include" -O3 -Wall -std=gnu99 -mtune=generic -c read_clf.c -o read_clf.o
C:/Rtools/mingw_32/bin/gcc -I"C:/Users/biocbuild/bbs-3.7-bioc/R/library/zlibbioc/include" -I"C:/Users/BIOCBU˜1/BBS-3˜1.7-B/R/include" -DNDEBUG -DHAVE_ZLIB -I"C:/extsoft/include" -O3 -Wall -std=gnu99 -mtune=generic -c read_generic.c -o read_generic.o
read_generic.c: In function 'Read_Generic_R_List':
read_generic.c:2030:2: warning: 'return_value' may be used uninitialized in this function [-Wmaybe-uninitialized]
SET_VECTOR_ELT(VECTOR_ELT(temp_sxp2,2),i,generic_data_set_rows_R_List(&my_data_set, i));
^
C:/Rtools/mingw_32/bin/gcc -I"C:/Users/biocbuild/bbs-3.7-bioc/R/library/zlibbioc/include" -I"C:/Users/BIOCBU˜1/BBS-3˜1.7-B/R/include" -DNDEBUG -DHAVE_ZLIB -I"C:/extsoft/include" -O3 -Wall -std=gnu99 -mtune=generic -c read_multichannel_celfile_generic.c -o read_multichannel_celfile_generic.o
C:/Rtools/mingw_32/bin/gcc -I"C:/Users/biocbuild/bbs-3.7-bioc/R/library/zlibbioc/include" -I"C:/Users/BIOCBU˜1/BBS-3˜1.7-B/R/include" -DNDEBUG -DHAVE_ZLIB -I"C:/extsoft/include" -O3 -Wall -std=gnu99 -mtune=generic -c read_pgf.c -o read_pgf.o
read_pgf.c:363:12: warning: 'token_ends_with' defined but not used [-Wunused-function]
static int token_ends_with(char *token, char *ends_in){
^
C:/Rtools/mingw_32/bin/gcc -shared -s -static-libgcc -o affyio.dll tmp.def fread_functions.o init_package.o read_abatch.o read_bpmap.o read_cdf_xda.o read_cdffile2.o read_celfile_generic.o read_clf.o read_generic.o read_multichannel_celfile_generic.o read_pgf.o -LC:/Users/biocbuild/bbs-3.7-bioc/R/library/zlibbioc/libs/i386 -lzlib1bioc -LC:/extsoft/lib/i386 -LC:/extsoft/lib -LC:/Users/BIOCBU˜1/BBS-3˜1.7-B/R/bin/i386 -lR
installing to C:/Users/biocbuild/bbs-3.7-bioc/meat/affyio.buildbin-libdir/affyio/libs/i386
** R
** byte-compile and prepare package for lazy loading
** help
*** installing help indices
converting help for package 'affyio'
finding HTML links ... done
check.cdf.type html
get.celfile.dates html
read.cdffile.list html
read.celfile html
read.celfile.header html
read.celfile.probeintensity.matrices html
read_abatch html
** building package indices
** testing if installed package can be loaded
In R CMD INSTALL
install for x64
* installing *source* package 'affyio' ...
**********************************************
WARNING: this package has a configure script
It probably needs manual configuration
**********************************************
** libs
C:/Rtools/mingw_64/bin/gcc -I"C:/Users/biocbuild/bbs-3.7-bioc/R/library/zlibbioc/include" -I"C:/Users/BIOCBU˜1/BBS-3˜1.7-B/R/include" -DNDEBUG -DHAVE_ZLIB -I"C:/extsoft/include" -O2 -Wall -std=gnu99 -mtune=generic -c fread_functions.c -o fread_functions.o
C:/Rtools/mingw_64/bin/gcc -I"C:/Users/biocbuild/bbs-3.7-bioc/R/library/zlibbioc/include" -I"C:/Users/BIOCBU˜1/BBS-3˜1.7-B/R/include" -DNDEBUG -DHAVE_ZLIB -I"C:/extsoft/include" -O2 -Wall -std=gnu99 -mtune=generic -c init_package.c -o init_package.o
C:/Rtools/mingw_64/bin/gcc -I"C:/Users/biocbuild/bbs-3.7-bioc/R/library/zlibbioc/include" -I"C:/Users/BIOCBU˜1/BBS-3˜1.7-B/R/include" -DNDEBUG -DHAVE_ZLIB -I"C:/extsoft/include" -O2 -Wall -std=gnu99 -mtune=generic -c read_abatch.c -o read_abatch.o
C:/Rtools/mingw_64/bin/gcc -I"C:/Users/biocbuild/bbs-3.7-bioc/R/library/zlibbioc/include" -I"C:/Users/BIOCBU˜1/BBS-3˜1.7-B/R/include" -DNDEBUG -DHAVE_ZLIB -I"C:/extsoft/include" -O2 -Wall -std=gnu99 -mtune=generic -c read_bpmap.c -o read_bpmap.o
read_bpmap.c: In function 'ReadBPMAPHeader':
read_bpmap.c:110:18: warning: overflow in implicit constant conversion [-Woverflow]
fseek(infile,-sizeof(float),SEEK_CUR);
^
C:/Rtools/mingw_64/bin/gcc -I"C:/Users/biocbuild/bbs-3.7-bioc/R/library/zlibbioc/include" -I"C:/Users/BIOCBU˜1/BBS-3˜1.7-B/R/include" -DNDEBUG -DHAVE_ZLIB -I"C:/extsoft/include" -O2 -Wall -std=gnu99 -mtune=generic -c read_cdf_xda.c -o read_cdf_xda.o
C:/Rtools/mingw_64/bin/gcc -I"C:/Users/biocbuild/bbs-3.7-bioc/R/library/zlibbioc/include" -I"C:/Users/BIOCBU˜1/BBS-3˜1.7-B/R/include" -DNDEBUG -DHAVE_ZLIB -I"C:/extsoft/include" -O2 -Wall -std=gnu99 -mtune=generic -c read_cdffile2.c -o read_cdffile2.o
C:/Rtools/mingw_64/bin/gcc -I"C:/Users/biocbuild/bbs-3.7-bioc/R/library/zlibbioc/include" -I"C:/Users/BIOCBU˜1/BBS-3˜1.7-B/R/include" -DNDEBUG -DHAVE_ZLIB -I"C:/extsoft/include" -O2 -Wall -std=gnu99 -mtune=generic -c read_celfile_generic.c -o read_celfile_generic.o
C:/Rtools/mingw_64/bin/gcc -I"C:/Users/biocbuild/bbs-3.7-bioc/R/library/zlibbioc/include" -I"C:/Users/BIOCBU˜1/BBS-3˜1.7-B/R/include" -DNDEBUG -DHAVE_ZLIB -I"C:/extsoft/include" -O2 -Wall -std=gnu99 -mtune=generic -c read_clf.c -o read_clf.o
C:/Rtools/mingw_64/bin/gcc -I"C:/Users/biocbuild/bbs-3.7-bioc/R/library/zlibbioc/include" -I"C:/Users/BIOCBU˜1/BBS-3˜1.7-B/R/include" -DNDEBUG -DHAVE_ZLIB -I"C:/extsoft/include" -O2 -Wall -std=gnu99 -mtune=generic -c read_generic.c -o read_generic.o
read_generic.c: In function 'Read_Generic_R_List':
read_generic.c:2030:2: warning: 'return_value' may be used uninitialized in this function [-Wmaybe-uninitialized]
SET_VECTOR_ELT(VECTOR_ELT(temp_sxp2,2),i,generic_data_set_rows_R_List(&my_data_set, i));
^
C:/Rtools/mingw_64/bin/gcc -I"C:/Users/biocbuild/bbs-3.7-bioc/R/library/zlibbioc/include" -I"C:/Users/BIOCBU˜1/BBS-3˜1.7-B/R/include" -DNDEBUG -DHAVE_ZLIB -I"C:/extsoft/include" -O2 -Wall -std=gnu99 -mtune=generic -c read_multichannel_celfile_generic.c -o read_multichannel_celfile_generic.o
C:/Rtools/mingw_64/bin/gcc -I"C:/Users/biocbuild/bbs-3.7-bioc/R/library/zlibbioc/include" -I"C:/Users/BIOCBU˜1/BBS-3˜1.7-B/R/include" -DNDEBUG -DHAVE_ZLIB -I"C:/extsoft/include" -O2 -Wall -std=gnu99 -mtune=generic -c read_pgf.c -o read_pgf.o
read_pgf.c:363:12: warning: 'token_ends_with' defined but not used [-Wunused-function]
static int token_ends_with(char *token, char *ends_in){
^
C:/Rtools/mingw_64/bin/gcc -shared -s -static-libgcc -o affyio.dll tmp.def fread_functions.o init_package.o read_abatch.o read_bpmap.o read_cdf_xda.o read_cdffile2.o read_celfile_generic.o read_clf.o read_generic.o read_multichannel_celfile_generic.o read_pgf.o -LC:/Users/biocbuild/bbs-3.7-bioc/R/library/zlibbioc/libs/x64 -lzlib1bioc -LC:/extsoft/lib/x64 -LC:/extsoft/lib -LC:/Users/BIOCBU˜1/BBS-3˜1.7-B/R/bin/x64 -lR
installing to C:/Users/biocbuild/bbs-3.7-bioc/meat/affyio.buildbin-libdir/affyio/libs/x64
** testing if installed package can be loaded
* MD5 sums
packaged installation of 'affyio' as affyio_1.50.0.zip
* DONE (affyio)
In R CMD INSTALL
In R CMD INSTALL