| Back to Multiple platform build/check report for BioC 3.7 |
|
This page was generated on 2018-10-17 08:46:03 -0400 (Wed, 17 Oct 2018).
| Package 18/1561 | Hostname | OS / Arch | INSTALL | BUILD | CHECK | BUILD BIN | ||||||
| affycomp 1.56.0 Rafael A. Irizarry
| malbec2 | Linux (Ubuntu 16.04.1 LTS) / x86_64 | OK | OK | OK | |||||||
| tokay2 | Windows Server 2012 R2 Standard / x64 | OK | OK | WARNINGS | OK | |||||||
| merida2 | OS X 10.11.6 El Capitan / x86_64 | OK | OK | OK | [ OK ] |
| Package: affycomp |
| Version: 1.56.0 |
| Command: rm -rf affycomp.buildbin-libdir && mkdir affycomp.buildbin-libdir && /Users/biocbuild/BBS/utils/build-universal.sh affycomp_1.56.0.tar.gz /Library/Frameworks/R.framework/Versions/Current/Resources/bin/R affycomp.buildbin-libdir |
| StartedAt: 2018-10-17 00:52:48 -0400 (Wed, 17 Oct 2018) |
| EndedAt: 2018-10-17 00:52:56 -0400 (Wed, 17 Oct 2018) |
| EllapsedTime: 7.6 seconds |
| RetCode: 0 |
| Status: OK |
| PackageFile: affycomp_1.56.0.tgz |
| PackageFileSize: 7.88 MiB |
############################################################################## ############################################################################## ### ### Running command: ### ### rm -rf affycomp.buildbin-libdir && mkdir affycomp.buildbin-libdir && /Users/biocbuild/BBS/utils/build-universal.sh affycomp_1.56.0.tar.gz /Library/Frameworks/R.framework/Versions/Current/Resources/bin/R affycomp.buildbin-libdir ### ############################################################################## ############################################################################## >>>>>>> >>>>>>> INSTALLATION WITH 'R CMD INSTALL --preclean --no-multiarch --library=affycomp.buildbin-libdir affycomp_1.56.0.tar.gz' >>>>>>> * installing *source* package ‘affycomp’ ... ** R ** data ** inst ** byte-compile and prepare package for lazy loading ** help *** installing help indices ** building package indices ** installing vignettes ** testing if installed package can be loaded * DONE (affycomp)