| Back to Multiple platform build/check report for BioC 3.7 |
|
This page was generated on 2018-10-17 08:32:11 -0400 (Wed, 17 Oct 2018).
| Package 11/1561 | Hostname | OS / Arch | INSTALL | BUILD | CHECK | BUILD BIN | ||||||
| aCGH 1.58.0 Peter Dimitrov
| malbec2 | Linux (Ubuntu 16.04.1 LTS) / x86_64 | OK | OK | OK | |||||||
| tokay2 | Windows Server 2012 R2 Standard / x64 | [ OK ] | OK | OK | OK | |||||||
| merida2 | OS X 10.11.6 El Capitan / x86_64 | OK | OK | OK | OK |
| Package: aCGH |
| Version: 1.58.0 |
| Command: C:\cygwin\bin\curl.exe -O https://malbec2.bioconductor.org/BBS/3.7/bioc/src/contrib/aCGH_1.58.0.tar.gz && rm -rf aCGH.buildbin-libdir && mkdir aCGH.buildbin-libdir && C:\Users\biocbuild\bbs-3.7-bioc\R\bin\R.exe CMD INSTALL --merge-multiarch --build --library=aCGH.buildbin-libdir aCGH_1.58.0.tar.gz && C:\Users\biocbuild\bbs-3.7-bioc\R\bin\R.exe CMD INSTALL aCGH_1.58.0.zip && rm aCGH_1.58.0.tar.gz aCGH_1.58.0.zip |
| StartedAt: 2018-10-16 19:09:38 -0400 (Tue, 16 Oct 2018) |
| EndedAt: 2018-10-16 19:10:51 -0400 (Tue, 16 Oct 2018) |
| EllapsedTime: 72.9 seconds |
| RetCode: 0 |
| Status: OK |
##############################################################################
##############################################################################
###
### Running command:
###
### C:\cygwin\bin\curl.exe -O https://malbec2.bioconductor.org/BBS/3.7/bioc/src/contrib/aCGH_1.58.0.tar.gz && rm -rf aCGH.buildbin-libdir && mkdir aCGH.buildbin-libdir && C:\Users\biocbuild\bbs-3.7-bioc\R\bin\R.exe CMD INSTALL --merge-multiarch --build --library=aCGH.buildbin-libdir aCGH_1.58.0.tar.gz && C:\Users\biocbuild\bbs-3.7-bioc\R\bin\R.exe CMD INSTALL aCGH_1.58.0.zip && rm aCGH_1.58.0.tar.gz aCGH_1.58.0.zip
###
##############################################################################
##############################################################################
% Total % Received % Xferd Average Speed Time Time Time Current
Dload Upload Total Spent Left Speed
0 0 0 0 0 0 0 0 --:--:-- --:--:-- --:--:-- 0
100 1524k 100 1524k 0 0 24.1M 0 --:--:-- --:--:-- --:--:-- 27.0M
install for i386
* installing *source* package 'aCGH' ...
** libs
C:/Rtools/mingw_32/bin/g++ -I"C:/Users/BIOCBU˜1/BBS-3˜1.7-B/R/include" -DNDEBUG -g3 -I"C:/extsoft/include" -O2 -Wall -mtune=generic -c hmm.cpp -o hmm.o
C:/Rtools/mingw_32/bin/g++ -shared -s -static-libgcc -o aCGH.dll tmp.def hmm.o -lm -LC:/extsoft/lib/i386 -LC:/extsoft/lib -LC:/Users/BIOCBU˜1/BBS-3˜1.7-B/R/bin/i386 -lR
installing to C:/Users/biocbuild/bbs-3.7-bioc/meat/aCGH.buildbin-libdir/aCGH/libs/i386
** R
** data
** demo
** inst
** byte-compile and prepare package for lazy loading
** help
*** installing help indices
converting help for package 'aCGH'
finding HTML links ... done
aCGH html
aCGH.process html
aCGH.read.Sprocs html
aCGH.test html
clusterGenome html
colorectal html
computeSD.func html
fga.func html
find.genomic.events html
find.hmm.states html
findAber.func html
findAmplif.func html
findOutliers.func html
findTrans.func html
gainLoss html
heatmap html
human.chrom.info.Jul03 html
human.chrom.info.May04 html
impute.HMM html
impute.lowess html
mergeFunc html
mergeLevels html
plotFreqStat html
plotGenome html
plotHmmStates html
plotSummaryProfile html
states.hmm.func html
summarize.clones html
threshold.func html
** building package indices
** installing vignettes
** testing if installed package can be loaded
In R CMD INSTALL
install for x64
* installing *source* package 'aCGH' ...
** libs
C:/Rtools/mingw_64/bin/g++ -I"C:/Users/BIOCBU˜1/BBS-3˜1.7-B/R/include" -DNDEBUG -g3 -I"C:/extsoft/include" -O2 -Wall -mtune=generic -c hmm.cpp -o hmm.o
C:/Rtools/mingw_64/bin/g++ -shared -s -static-libgcc -o aCGH.dll tmp.def hmm.o -lm -LC:/extsoft/lib/x64 -LC:/extsoft/lib -LC:/Users/BIOCBU˜1/BBS-3˜1.7-B/R/bin/x64 -lR
installing to C:/Users/biocbuild/bbs-3.7-bioc/meat/aCGH.buildbin-libdir/aCGH/libs/x64
** testing if installed package can be loaded
* MD5 sums
packaged installation of 'aCGH' as aCGH_1.58.0.zip
* DONE (aCGH)
In R CMD INSTALL
In R CMD INSTALL
* installing to library 'C:/Users/biocbuild/bbs-3.7-bioc/R/library'
package 'aCGH' successfully unpacked and MD5 sums checked
In R CMD INSTALL