| Back to Multiple platform build/check report for BioC 3.7 |
|
This page was generated on 2018-10-17 08:56:06 -0400 (Wed, 17 Oct 2018).
| Package 1527/1561 | Hostname | OS / Arch | INSTALL | BUILD | CHECK | BUILD BIN | ||||||
| Uniquorn 2.0.0 'Raik Otto'
| malbec2 | Linux (Ubuntu 16.04.1 LTS) / x86_64 | OK | OK | WARNINGS | |||||||
| tokay2 | Windows Server 2012 R2 Standard / x64 | OK | OK | WARNINGS | OK | |||||||
| merida2 | OS X 10.11.6 El Capitan / x86_64 | [ OK ] | OK | WARNINGS | OK |
| Package: Uniquorn |
| Version: 2.0.0 |
| Command: /Library/Frameworks/R.framework/Versions/Current/Resources/bin/R CMD INSTALL Uniquorn |
| StartedAt: 2018-10-16 15:54:59 -0400 (Tue, 16 Oct 2018) |
| EndedAt: 2018-10-16 15:55:32 -0400 (Tue, 16 Oct 2018) |
| EllapsedTime: 32.7 seconds |
| RetCode: 0 |
| Status: OK |
############################################################################## ############################################################################## ### ### Running command: ### ### /Library/Frameworks/R.framework/Versions/Current/Resources/bin/R CMD INSTALL Uniquorn ### ############################################################################## ############################################################################## * installing to library ‘/Library/Frameworks/R.framework/Versions/3.5/Resources/library’ * installing *source* package ‘Uniquorn’ ... ** R ** inst ** byte-compile and prepare package for lazy loading Note: possible error in 'create_bed_file(match_t, ': unused argument (manual_identifier_bed_file) ** help *** installing help indices ** building package indices ** installing vignettes ** testing if installed package can be loaded * DONE (Uniquorn)