| Back to Multiple platform build/check report for BioC 3.7 |
|
This page was generated on 2018-10-17 08:45:12 -0400 (Wed, 17 Oct 2018).
| Package 1504/1561 | Hostname | OS / Arch | INSTALL | BUILD | CHECK | BUILD BIN | ||||||
| Trendy 1.2.11 Rhonda Bacher
| malbec2 | Linux (Ubuntu 16.04.1 LTS) / x86_64 | OK | OK | OK | |||||||
| tokay2 | Windows Server 2012 R2 Standard / x64 | OK | OK | OK | [ OK ] | |||||||
| merida2 | OS X 10.11.6 El Capitan / x86_64 | OK | OK | OK | OK |
| Package: Trendy |
| Version: 1.2.11 |
| Command: rm -rf Trendy.buildbin-libdir && mkdir Trendy.buildbin-libdir && C:\Users\biocbuild\bbs-3.7-bioc\R\bin\R.exe CMD INSTALL --merge-multiarch --build --library=Trendy.buildbin-libdir Trendy_1.2.11.tar.gz |
| StartedAt: 2018-10-17 07:05:25 -0400 (Wed, 17 Oct 2018) |
| EndedAt: 2018-10-17 07:05:46 -0400 (Wed, 17 Oct 2018) |
| EllapsedTime: 21.5 seconds |
| RetCode: 0 |
| Status: OK |
| PackageFile: Trendy_1.2.11.zip |
| PackageFileSize: 679 KiB |
##############################################################################
##############################################################################
###
### Running command:
###
### rm -rf Trendy.buildbin-libdir && mkdir Trendy.buildbin-libdir && C:\Users\biocbuild\bbs-3.7-bioc\R\bin\R.exe CMD INSTALL --merge-multiarch --build --library=Trendy.buildbin-libdir Trendy_1.2.11.tar.gz
###
##############################################################################
##############################################################################
install for i386
* installing *source* package 'Trendy' ...
** R
** data
*** moving datasets to lazyload DB
** inst
** byte-compile and prepare package for lazy loading
** help
*** installing help indices
converting help for package 'Trendy'
finding HTML links ... done
breakpointDist html
extractPattern html
fitSegBIC html
formatFunc html
formatResults html
getCounts html
plotFeature html
results html
topTrendy html
trendHeatmap html
trendy html
trendyExampleData html
trendyShiny html
** building package indices
** installing vignettes
** testing if installed package can be loaded
In R CMD INSTALL
install for x64
* installing *source* package 'Trendy' ...
** testing if installed package can be loaded
* MD5 sums
packaged installation of 'Trendy' as Trendy_1.2.11.zip
* DONE (Trendy)
In R CMD INSTALL
In R CMD INSTALL