| Back to Multiple platform build/check report for BioC 3.7 |
|
This page was generated on 2018-10-17 08:59:01 -0400 (Wed, 17 Oct 2018).
| Package 1489/1561 | Hostname | OS / Arch | INSTALL | BUILD | CHECK | BUILD BIN | ||||||
| TnT 1.2.0 Jialin Ma
| malbec2 | Linux (Ubuntu 16.04.1 LTS) / x86_64 | OK | OK | OK | |||||||
| tokay2 | Windows Server 2012 R2 Standard / x64 | OK | OK | WARNINGS | OK | |||||||
| merida2 | OS X 10.11.6 El Capitan / x86_64 | OK | OK | OK | [ OK ] |
| Package: TnT |
| Version: 1.2.0 |
| Command: rm -rf TnT.buildbin-libdir && mkdir TnT.buildbin-libdir && /Users/biocbuild/BBS/utils/build-universal.sh TnT_1.2.0.tar.gz /Library/Frameworks/R.framework/Versions/Current/Resources/bin/R TnT.buildbin-libdir |
| StartedAt: 2018-10-17 02:16:43 -0400 (Wed, 17 Oct 2018) |
| EndedAt: 2018-10-17 02:17:36 -0400 (Wed, 17 Oct 2018) |
| EllapsedTime: 53.3 seconds |
| RetCode: 0 |
| Status: OK |
| PackageFile: TnT_1.2.0.tgz |
| PackageFileSize: 500.8 KiB |
############################################################################## ############################################################################## ### ### Running command: ### ### rm -rf TnT.buildbin-libdir && mkdir TnT.buildbin-libdir && /Users/biocbuild/BBS/utils/build-universal.sh TnT_1.2.0.tar.gz /Library/Frameworks/R.framework/Versions/Current/Resources/bin/R TnT.buildbin-libdir ### ############################################################################## ############################################################################## >>>>>>> >>>>>>> INSTALLATION WITH 'R CMD INSTALL --preclean --no-multiarch --library=TnT.buildbin-libdir TnT_1.2.0.tar.gz' >>>>>>> * installing *source* package ‘TnT’ ... ** R ** inst ** byte-compile and prepare package for lazy loading ** help *** installing help indices ** building package indices ** installing vignettes ** testing if installed package can be loaded * DONE (TnT)