| Back to Multiple platform build/check report for BioC 3.7 |
|
This page was generated on 2018-10-17 08:43:58 -0400 (Wed, 17 Oct 2018).
| Package 1513/1561 | Hostname | OS / Arch | INSTALL | BUILD | CHECK | BUILD BIN | ||||||
| TSRchitect 1.8.9 R. Taylor Raborn
| malbec2 | Linux (Ubuntu 16.04.1 LTS) / x86_64 | OK | OK | WARNINGS | |||||||
| tokay2 | Windows Server 2012 R2 Standard / x64 | [ OK ] | OK | WARNINGS | OK | |||||||
| merida2 | OS X 10.11.6 El Capitan / x86_64 | OK | OK | WARNINGS | OK |
| Package: TSRchitect |
| Version: 1.8.9 |
| Command: C:\cygwin\bin\curl.exe -O https://malbec2.bioconductor.org/BBS/3.7/bioc/src/contrib/TSRchitect_1.8.9.tar.gz && rm -rf TSRchitect.buildbin-libdir && mkdir TSRchitect.buildbin-libdir && C:\Users\biocbuild\bbs-3.7-bioc\R\bin\R.exe CMD INSTALL --merge-multiarch --build --library=TSRchitect.buildbin-libdir TSRchitect_1.8.9.tar.gz && C:\Users\biocbuild\bbs-3.7-bioc\R\bin\R.exe CMD INSTALL TSRchitect_1.8.9.zip && rm TSRchitect_1.8.9.tar.gz TSRchitect_1.8.9.zip |
| StartedAt: 2018-10-16 19:58:04 -0400 (Tue, 16 Oct 2018) |
| EndedAt: 2018-10-16 19:59:42 -0400 (Tue, 16 Oct 2018) |
| EllapsedTime: 98.7 seconds |
| RetCode: 0 |
| Status: OK |
##############################################################################
##############################################################################
###
### Running command:
###
### C:\cygwin\bin\curl.exe -O https://malbec2.bioconductor.org/BBS/3.7/bioc/src/contrib/TSRchitect_1.8.9.tar.gz && rm -rf TSRchitect.buildbin-libdir && mkdir TSRchitect.buildbin-libdir && C:\Users\biocbuild\bbs-3.7-bioc\R\bin\R.exe CMD INSTALL --merge-multiarch --build --library=TSRchitect.buildbin-libdir TSRchitect_1.8.9.tar.gz && C:\Users\biocbuild\bbs-3.7-bioc\R\bin\R.exe CMD INSTALL TSRchitect_1.8.9.zip && rm TSRchitect_1.8.9.tar.gz TSRchitect_1.8.9.zip
###
##############################################################################
##############################################################################
% Total % Received % Xferd Average Speed Time Time Time Current
Dload Upload Total Spent Left Speed
0 0 0 0 0 0 0 0 --:--:-- --:--:-- --:--:-- 0
100 2037k 100 2037k 0 0 23.1M 0 --:--:-- --:--:-- --:--:-- 25.1M
install for i386
* installing *source* package 'TSRchitect' ...
** R
** demo
** inst
** byte-compile and prepare package for lazy loading
** help
*** installing help indices
converting help for package 'TSRchitect'
finding HTML links ... done
TSRchitectUsersGuide html
TSRmshapeIndex html
TSRshapeIndex html
addAnnotationToTSR-methods html
finding level-2 HTML links ... done
addTagCountsToTSR-methods html
bedToTSS-methods html
cDNAtoBED-methods html
createSummarizedExperiment-methods html
detTSR-methods html
determineTSR-methods html
getBamData-methods html
getFileNames-methods html
getTSRdata-methods html
getTSScountData-methods html
getTSStagData-methods html
getTitle-methods html
importAnnotationExternal-methods html
importAnnotationHub-methods html
inputToTSS-methods html
loadTSSobj-methods html
makeGRangesFromTSR-methods html
mergeSampleData-methods html
prcTSS html
processTSS-methods html
tagCountTSS html
tsrCluster html
tssArrayProperties html
tssObject html
writeTSR-methods html
** building package indices
** installing vignettes
'TSRchitect.Rmd' using 'UTF-8'
'TSRchitectUsersGuide.Rmd' using 'UTF-8'
Warning in res[i] <- withCallingHandlers(if (tangle) process_tangle(group) else process_group(group), :
number of items to replace is not a multiple of replacement length
Warning in res[i] <- withCallingHandlers(if (tangle) process_tangle(group) else process_group(group), :
number of items to replace is not a multiple of replacement length
Warning in res[i] <- withCallingHandlers(if (tangle) process_tangle(group) else process_group(group), :
number of items to replace is not a multiple of replacement length
Warning in res[i] <- withCallingHandlers(if (tangle) process_tangle(group) else process_group(group), :
number of items to replace is not a multiple of replacement length
Warning in res[i] <- withCallingHandlers(if (tangle) process_tangle(group) else process_group(group), :
number of items to replace is not a multiple of replacement length
** testing if installed package can be loaded
In R CMD INSTALL
install for x64
* installing *source* package 'TSRchitect' ...
** testing if installed package can be loaded
* MD5 sums
packaged installation of 'TSRchitect' as TSRchitect_1.8.9.zip
* DONE (TSRchitect)
In R CMD INSTALL
In R CMD INSTALL
* installing to library 'C:/Users/biocbuild/bbs-3.7-bioc/R/library'
package 'TSRchitect' successfully unpacked and MD5 sums checked
In R CMD INSTALL