| Back to Multiple platform build/check report for BioC 3.7 | 
 | 
This page was generated on 2018-10-17 08:54:28 -0400 (Wed, 17 Oct 2018).
| Package 1484/1561 | Hostname | OS / Arch | INSTALL | BUILD | CHECK | BUILD BIN | ||||||
| TIN 1.12.0 Bjarne Johannessen 
 | malbec2 | Linux (Ubuntu 16.04.1 LTS) / x86_64 | OK | OK | OK |  | ||||||
| tokay2 | Windows Server 2012 R2 Standard / x64 | OK | OK | OK | OK |  | ||||||
| merida2 | OS X 10.11.6 El Capitan / x86_64 | [ OK ] | OK | OK | OK |  | 
| Package: TIN | 
| Version: 1.12.0 | 
| Command: /Library/Frameworks/R.framework/Versions/Current/Resources/bin/R CMD INSTALL TIN | 
| StartedAt: 2018-10-16 16:07:48 -0400 (Tue, 16 Oct 2018) | 
| EndedAt: 2018-10-16 16:08:02 -0400 (Tue, 16 Oct 2018) | 
| EllapsedTime: 13.9 seconds | 
| RetCode: 0 | 
| Status: OK | 
##############################################################################
##############################################################################
###
### Running command:
###
###   /Library/Frameworks/R.framework/Versions/Current/Resources/bin/R CMD INSTALL TIN
###
##############################################################################
##############################################################################
* installing to library ‘/Library/Frameworks/R.framework/Versions/3.5/Resources/library’
* installing *source* package ‘TIN’ ...
** R
** data
** inst
** byte-compile and prepare package for lazy loading
The following object is masked _by_ package:aroma.affymetrix:
    writeCdf
The following object is masked from package:R.utils:
    findFiles
** help
*** installing help indices
** building package indices
** installing vignettes
** testing if installed package can be loaded
The following object is masked _by_ package:aroma.affymetrix:
    writeCdf
The following object is masked from package:R.utils:
    findFiles
* DONE (TIN)