| Back to Multiple platform build/check report for BioC 3.7 |
|
This page was generated on 2018-10-17 08:35:04 -0400 (Wed, 17 Oct 2018).
| Package 1473/1561 | Hostname | OS / Arch | INSTALL | BUILD | CHECK | BUILD BIN | ||||||
| TEQC 4.2.0 Manuela Hummel
| malbec2 | Linux (Ubuntu 16.04.1 LTS) / x86_64 | OK | OK | OK | |||||||
| tokay2 | Windows Server 2012 R2 Standard / x64 | [ OK ] | OK | OK | OK | |||||||
| merida2 | OS X 10.11.6 El Capitan / x86_64 | OK | OK | OK | OK |
| Package: TEQC |
| Version: 4.2.0 |
| Command: C:\cygwin\bin\curl.exe -O https://malbec2.bioconductor.org/BBS/3.7/bioc/src/contrib/TEQC_4.2.0.tar.gz && rm -rf TEQC.buildbin-libdir && mkdir TEQC.buildbin-libdir && C:\Users\biocbuild\bbs-3.7-bioc\R\bin\R.exe CMD INSTALL --merge-multiarch --build --library=TEQC.buildbin-libdir TEQC_4.2.0.tar.gz && C:\Users\biocbuild\bbs-3.7-bioc\R\bin\R.exe CMD INSTALL TEQC_4.2.0.zip && rm TEQC_4.2.0.tar.gz TEQC_4.2.0.zip |
| StartedAt: 2018-10-16 19:45:43 -0400 (Tue, 16 Oct 2018) |
| EndedAt: 2018-10-16 19:47:09 -0400 (Tue, 16 Oct 2018) |
| EllapsedTime: 85.6 seconds |
| RetCode: 0 |
| Status: OK |
##############################################################################
##############################################################################
###
### Running command:
###
### C:\cygwin\bin\curl.exe -O https://malbec2.bioconductor.org/BBS/3.7/bioc/src/contrib/TEQC_4.2.0.tar.gz && rm -rf TEQC.buildbin-libdir && mkdir TEQC.buildbin-libdir && C:\Users\biocbuild\bbs-3.7-bioc\R\bin\R.exe CMD INSTALL --merge-multiarch --build --library=TEQC.buildbin-libdir TEQC_4.2.0.tar.gz && C:\Users\biocbuild\bbs-3.7-bioc\R\bin\R.exe CMD INSTALL TEQC_4.2.0.zip && rm TEQC_4.2.0.tar.gz TEQC_4.2.0.zip
###
##############################################################################
##############################################################################
% Total % Received % Xferd Average Speed Time Time Time Current
Dload Upload Total Spent Left Speed
0 0 0 0 0 0 0 0 --:--:-- --:--:-- --:--:-- 0
100 276k 100 276k 0 0 3500k 0 --:--:-- --:--:-- --:--:-- 3834k
install for i386
* installing *source* package 'TEQC' ...
** R
** inst
** byte-compile and prepare package for lazy loading
** help
*** installing help indices
converting help for package 'TEQC'
finding HTML links ... done
TEQCreport html
chrom.barplot html
coverage.GC html
coverage.correlation html
coverage.density html
coverage.hist html
coverage.plot html
coverage.target html
coverage.targetlength.plot html
coverage.uniformity html
covered.k html
duplicates.barplot html
fraction.reads.target html
fraction.target html
get.baits html
get.reads html
get.targets html
insert.size.hist html
make.wigfiles html
multiTEQCreport html
reads2pairs html
readsPerTarget html
** building package indices
** installing vignettes
** testing if installed package can be loaded
In R CMD INSTALL
install for x64
* installing *source* package 'TEQC' ...
** testing if installed package can be loaded
* MD5 sums
packaged installation of 'TEQC' as TEQC_4.2.0.zip
* DONE (TEQC)
In R CMD INSTALL
In R CMD INSTALL
* installing to library 'C:/Users/biocbuild/bbs-3.7-bioc/R/library'
package 'TEQC' successfully unpacked and MD5 sums checked
In R CMD INSTALL