| Back to Multiple platform build/check report for BioC 3.7 |
|
This page was generated on 2018-10-17 08:41:53 -0400 (Wed, 17 Oct 2018).
| Package 1454/1561 | Hostname | OS / Arch | INSTALL | BUILD | CHECK | BUILD BIN | ||||||
| SwathXtend 2.2.0 Jemma Wu
| malbec2 | Linux (Ubuntu 16.04.1 LTS) / x86_64 | OK | OK | WARNINGS | |||||||
| tokay2 | Windows Server 2012 R2 Standard / x64 | [ OK ] | OK | WARNINGS | OK | |||||||
| merida2 | OS X 10.11.6 El Capitan / x86_64 | OK | OK | WARNINGS | OK |
| Package: SwathXtend |
| Version: 2.2.0 |
| Command: C:\cygwin\bin\curl.exe -O https://malbec2.bioconductor.org/BBS/3.7/bioc/src/contrib/SwathXtend_2.2.0.tar.gz && rm -rf SwathXtend.buildbin-libdir && mkdir SwathXtend.buildbin-libdir && C:\Users\biocbuild\bbs-3.7-bioc\R\bin\R.exe CMD INSTALL --merge-multiarch --build --library=SwathXtend.buildbin-libdir SwathXtend_2.2.0.tar.gz && C:\Users\biocbuild\bbs-3.7-bioc\R\bin\R.exe CMD INSTALL SwathXtend_2.2.0.zip && rm SwathXtend_2.2.0.tar.gz SwathXtend_2.2.0.zip |
| StartedAt: 2018-10-16 19:02:18 -0400 (Tue, 16 Oct 2018) |
| EndedAt: 2018-10-16 19:05:05 -0400 (Tue, 16 Oct 2018) |
| EllapsedTime: 167.4 seconds |
| RetCode: 0 |
| Status: OK |
##############################################################################
##############################################################################
###
### Running command:
###
### C:\cygwin\bin\curl.exe -O https://malbec2.bioconductor.org/BBS/3.7/bioc/src/contrib/SwathXtend_2.2.0.tar.gz && rm -rf SwathXtend.buildbin-libdir && mkdir SwathXtend.buildbin-libdir && C:\Users\biocbuild\bbs-3.7-bioc\R\bin\R.exe CMD INSTALL --merge-multiarch --build --library=SwathXtend.buildbin-libdir SwathXtend_2.2.0.tar.gz && C:\Users\biocbuild\bbs-3.7-bioc\R\bin\R.exe CMD INSTALL SwathXtend_2.2.0.zip && rm SwathXtend_2.2.0.tar.gz SwathXtend_2.2.0.zip
###
##############################################################################
##############################################################################
% Total % Received % Xferd Average Speed Time Time Time Current
Dload Upload Total Spent Left Speed
0 0 0 0 0 0 0 0 --:--:-- --:--:-- --:--:-- 0
26 346M 26 92.3M 0 0 93.7M 0 0:00:03 --:--:-- 0:00:03 94.2M
54 346M 54 188M 0 0 94.9M 0 0:00:03 0:00:01 0:00:02 95.1M
80 346M 80 277M 0 0 92.9M 0 0:00:03 0:00:02 0:00:01 93.1M
100 346M 100 346M 0 0 91.9M 0 0:00:03 0:00:03 --:--:-- 92.0M
install for i386
* installing *source* package 'SwathXtend' ...
** R
** data
** inst
** byte-compile and prepare package for lazy loading
** help
*** installing help indices
converting help for package 'SwathXtend'
finding HTML links ... done
applyttest html
applyttestPep html
buildSpectraLibPair html
canonicalFormat html
checkQuality html
cleanLib html
coverage html
cv html
fdr.crit html
getFdrBins html
ionCorGS html
medianNorm html
mlr html
mlrGroup html
mlrrep html
outputLib html
plotAll html
plotDensities html
plotErrorBarsLines html
plotRIICor html
plotRTCor html
plotRTResd html
plotRelativeDensities html
quantification.accuracy html
readLibFile html
reliabilityCheckLibrary html
reliabilityCheckSwath html
swath.means html
** building package indices
** installing vignettes
** testing if installed package can be loaded
In R CMD INSTALL
install for x64
* installing *source* package 'SwathXtend' ...
** testing if installed package can be loaded
* MD5 sums
packaged installation of 'SwathXtend' as SwathXtend_2.2.0.zip
* DONE (SwathXtend)
In R CMD INSTALL
In R CMD INSTALL
* installing to library 'C:/Users/biocbuild/bbs-3.7-bioc/R/library'
package 'SwathXtend' successfully unpacked and MD5 sums checked
In R CMD INSTALL