| Back to Multiple platform build/check report for BioC 3.7 |
|
This page was generated on 2018-10-17 08:49:26 -0400 (Wed, 17 Oct 2018).
| Package 1441/1561 | Hostname | OS / Arch | INSTALL | BUILD | CHECK | BUILD BIN | ||||||
| Streamer 1.26.0 Martin Morgan
| malbec2 | Linux (Ubuntu 16.04.1 LTS) / x86_64 | OK | OK | OK | |||||||
| tokay2 | Windows Server 2012 R2 Standard / x64 | OK | OK | OK | OK | |||||||
| merida2 | OS X 10.11.6 El Capitan / x86_64 | OK | OK | [ OK ] | OK |
| Package: Streamer |
| Version: 1.26.0 |
| Command: /Library/Frameworks/R.framework/Versions/Current/Resources/bin/R CMD check --install=check:Streamer.install-out.txt --library=/Library/Frameworks/R.framework/Versions/Current/Resources/library --no-vignettes --timings Streamer_1.26.0.tar.gz |
| StartedAt: 2018-10-17 00:19:01 -0400 (Wed, 17 Oct 2018) |
| EndedAt: 2018-10-17 00:19:48 -0400 (Wed, 17 Oct 2018) |
| EllapsedTime: 46.7 seconds |
| RetCode: 0 |
| Status: OK |
| CheckDir: Streamer.Rcheck |
| Warnings: 0 |
##############################################################################
##############################################################################
###
### Running command:
###
### /Library/Frameworks/R.framework/Versions/Current/Resources/bin/R CMD check --install=check:Streamer.install-out.txt --library=/Library/Frameworks/R.framework/Versions/Current/Resources/library --no-vignettes --timings Streamer_1.26.0.tar.gz
###
##############################################################################
##############################################################################
* using log directory ‘/Users/biocbuild/bbs-3.7-bioc/meat/Streamer.Rcheck’
* using R version 3.5.1 Patched (2018-07-12 r74967)
* using platform: x86_64-apple-darwin15.6.0 (64-bit)
* using session charset: UTF-8
* using option ‘--no-vignettes’
* checking for file ‘Streamer/DESCRIPTION’ ... OK
* checking extension type ... Package
* this is package ‘Streamer’ version ‘1.26.0’
* checking package namespace information ... OK
* checking package dependencies ... OK
* checking if this is a source package ... OK
* checking if there is a namespace ... OK
* checking for hidden files and directories ... OK
* checking for portable file names ... OK
* checking for sufficient/correct file permissions ... OK
* checking whether package ‘Streamer’ can be installed ... OK
* checking installed package size ... OK
* checking package directory ... OK
* checking ‘build’ directory ... OK
* checking DESCRIPTION meta-information ... OK
* checking top-level files ... OK
* checking for left-over files ... OK
* checking index information ... OK
* checking package subdirectories ... OK
* checking R files for non-ASCII characters ... OK
* checking R files for syntax errors ... OK
* checking whether the package can be loaded ... OK
* checking whether the package can be loaded with stated dependencies ... OK
* checking whether the package can be unloaded cleanly ... OK
* checking whether the namespace can be loaded with stated dependencies ... OK
* checking whether the namespace can be unloaded cleanly ... OK
* checking dependencies in R code ... NOTE
Unexported objects imported by ':::' calls:
‘parallel:::mckill’ ‘parallel:::sendMaster’
See the note in ?`:::` about the use of this operator.
* checking S3 generic/method consistency ... OK
* checking replacement functions ... OK
* checking foreign function calls ... OK
* checking R code for possible problems ... NOTE
plot.DAGTeam: no visible global function definition for ‘plot’
Undefined global functions or variables:
plot
Consider adding
importFrom("graphics", "plot")
to your NAMESPACE file.
* checking Rd files ... OK
* checking Rd metadata ... OK
* checking Rd cross-references ... OK
* checking for missing documentation entries ... OK
* checking for code/documentation mismatches ... OK
* checking Rd \usage sections ... OK
* checking Rd contents ... OK
* checking for unstated dependencies in examples ... OK
* checking line endings in C/C++/Fortran sources/headers ... OK
* checking compiled code ... NOTE
Note: information on .o files is not available
* checking sizes of PDF files under ‘inst/doc’ ... OK
* checking files in ‘vignettes’ ... OK
* checking examples ... OK
* checking for unstated dependencies in ‘tests’ ... OK
* checking tests ...
Running ‘unit_tests.R’
OK
* checking for unstated dependencies in vignettes ... OK
* checking package vignettes in ‘inst/doc’ ... OK
* checking running R code from vignettes ... SKIPPED
* checking re-building of vignette outputs ... SKIPPED
* checking PDF version of manual ... OK
* DONE
Status: 3 NOTEs
See
‘/Users/biocbuild/bbs-3.7-bioc/meat/Streamer.Rcheck/00check.log’
for details.
Streamer.Rcheck/00install.out
############################################################################## ############################################################################## ### ### Running command: ### ### /Library/Frameworks/R.framework/Versions/Current/Resources/bin/R CMD INSTALL Streamer ### ############################################################################## ############################################################################## * installing to library ‘/Library/Frameworks/R.framework/Versions/3.5/Resources/library’ * installing *source* package ‘Streamer’ ... ** libs clang -I"/Library/Frameworks/R.framework/Resources/include" -DNDEBUG -I/usr/local/include -fPIC -Wall -g -O2 -c R_init_Streamer.c -o R_init_Streamer.o clang -I"/Library/Frameworks/R.framework/Resources/include" -DNDEBUG -I/usr/local/include -fPIC -Wall -g -O2 -c raw_input.c -o raw_input.o clang -dynamiclib -Wl,-headerpad_max_install_names -undefined dynamic_lookup -single_module -multiply_defined suppress -L/Library/Frameworks/R.framework/Resources/lib -L/usr/local/lib -o Streamer.so R_init_Streamer.o raw_input.o -F/Library/Frameworks/R.framework/.. -framework R -Wl,-framework -Wl,CoreFoundation installing to /Library/Frameworks/R.framework/Versions/3.5/Resources/library/Streamer/libs ** R ** inst ** byte-compile and prepare package for lazy loading ** help *** installing help indices ** building package indices ** installing vignettes ** testing if installed package can be loaded * DONE (Streamer)
Streamer.Rcheck/tests/unit_tests.Rout
R version 3.5.1 Patched (2018-07-12 r74967) -- "Feather Spray"
Copyright (C) 2018 The R Foundation for Statistical Computing
Platform: x86_64-apple-darwin15.6.0 (64-bit)
R is free software and comes with ABSOLUTELY NO WARRANTY.
You are welcome to redistribute it under certain conditions.
Type 'license()' or 'licence()' for distribution details.
R is a collaborative project with many contributors.
Type 'contributors()' for more information and
'citation()' on how to cite R or R packages in publications.
Type 'demo()' for some demos, 'help()' for on-line help, or
'help.start()' for an HTML browser interface to help.
Type 'q()' to quit R.
> BiocGenerics:::testPackage("Streamer")
Timing stopped at: 0 0 0
Error in DEACTIVATED("should error with only a consumer (?)") :
should error with only a consumer (?)
In addition: Warning messages:
1: closing unused connection 4 (/Library/Frameworks/R.framework/Versions/3.5/Resources/library/Streamer/extdata/s_1_sequence.txt)
2: closing unused connection 3 (/Library/Frameworks/R.framework/Versions/3.5/Resources/library/Streamer/extdata/s_1_sequence.txt)
RUNIT TEST PROTOCOL -- Wed Oct 17 00:19:41 2018
***********************************************
Number of test functions: 14
Number of deactivated test functions: 1
Number of errors: 0
Number of failures: 0
1 Test Suite :
Streamer RUnit Tests - 14 test functions, 0 errors, 0 failures
Number of test functions: 14
Number of deactivated test functions: 1
Number of errors: 0
Number of failures: 0
There were 50 or more warnings (use warnings() to see the first 50)
>
> proc.time()
user system elapsed
1.636 0.267 1.892
Streamer.Rcheck/Streamer-Ex.timings
| name | user | system | elapsed | |
| ConnectionProducer-classes | 0.293 | 0.013 | 0.308 | |
| Consumer-class | 0.002 | 0.000 | 0.002 | |
| DAGTeam-class | 0.317 | 0.016 | 0.333 | |
| Downsample-class | 0.002 | 0.000 | 0.001 | |
| FunctionProducerConsumer-classes | 0.662 | 0.004 | 0.676 | |
| ParallelParam-classes | 0.007 | 0.000 | 0.007 | |
| Producer-class | 0.029 | 0.001 | 0.030 | |
| RawInput-class | 0.014 | 0.002 | 0.015 | |
| Reducer-class | 1.032 | 0.197 | 1.240 | |
| Seq-class | 0.009 | 0.005 | 0.014 | |
| Stream-class | 0.067 | 0.007 | 0.076 | |
| Streamer-package | 0.076 | 0.004 | 0.081 | |
| Team-class | 1.803 | 0.393 | 2.209 | |
| Utility-classes | 0.002 | 0.001 | 0.003 | |
| reset | 0.001 | 0.000 | 0.001 | |
| status | 0.001 | 0.000 | 0.002 | |
| yield | 0.001 | 0.000 | 0.002 | |