| Back to Multiple platform build/check report for BioC 3.7 |
|
This page was generated on 2018-10-17 08:34:22 -0400 (Wed, 17 Oct 2018).
| Package 1437/1561 | Hostname | OS / Arch | INSTALL | BUILD | CHECK | BUILD BIN | ||||||
| Starr 1.36.0 Benedikt Zacher
| malbec2 | Linux (Ubuntu 16.04.1 LTS) / x86_64 | OK | OK | OK | |||||||
| tokay2 | Windows Server 2012 R2 Standard / x64 | OK | OK | OK | [ OK ] | |||||||
| merida2 | OS X 10.11.6 El Capitan / x86_64 | OK | OK | OK | OK |
| Package: Starr |
| Version: 1.36.0 |
| Command: rm -rf Starr.buildbin-libdir && mkdir Starr.buildbin-libdir && C:\Users\biocbuild\bbs-3.7-bioc\R\bin\R.exe CMD INSTALL --merge-multiarch --build --library=Starr.buildbin-libdir Starr_1.36.0.tar.gz |
| StartedAt: 2018-10-17 07:02:40 -0400 (Wed, 17 Oct 2018) |
| EndedAt: 2018-10-17 07:03:21 -0400 (Wed, 17 Oct 2018) |
| EllapsedTime: 40.6 seconds |
| RetCode: 0 |
| Status: OK |
| PackageFile: Starr_1.36.0.zip |
| PackageFileSize: 1.51 MiB |
##############################################################################
##############################################################################
###
### Running command:
###
### rm -rf Starr.buildbin-libdir && mkdir Starr.buildbin-libdir && C:\Users\biocbuild\bbs-3.7-bioc\R\bin\R.exe CMD INSTALL --merge-multiarch --build --library=Starr.buildbin-libdir Starr_1.36.0.tar.gz
###
##############################################################################
##############################################################################
install for i386
* installing *source* package 'Starr' ...
**********************************************
WARNING: this package has a configure script
It probably needs manual configuration
**********************************************
** libs
C:/Rtools/mingw_32/bin/gcc -I"C:/Users/biocbuild/bbs-3.7-bioc/R/library/zlibbioc/include" -I"C:/Users/BIOCBU˜1/BBS-3˜1.7-B/R/include" -DNDEBUG -I"C:/extsoft/include" -O3 -Wall -std=gnu99 -mtune=generic -c ahocorasick.c -o ahocorasick.o
C:/Rtools/mingw_32/bin/gcc -I"C:/Users/biocbuild/bbs-3.7-bioc/R/library/zlibbioc/include" -I"C:/Users/BIOCBU˜1/BBS-3˜1.7-B/R/include" -DNDEBUG -I"C:/extsoft/include" -O3 -Wall -std=gnu99 -mtune=generic -c collect.c -o collect.o
C:/Rtools/mingw_32/bin/gcc -I"C:/Users/biocbuild/bbs-3.7-bioc/R/library/zlibbioc/include" -I"C:/Users/BIOCBU˜1/BBS-3˜1.7-B/R/include" -DNDEBUG -I"C:/extsoft/include" -O3 -Wall -std=gnu99 -mtune=generic -c rm_small_peak.c -o rm_small_peak.o
C:/Rtools/mingw_32/bin/gcc -I"C:/Users/biocbuild/bbs-3.7-bioc/R/library/zlibbioc/include" -I"C:/Users/BIOCBU˜1/BBS-3˜1.7-B/R/include" -DNDEBUG -I"C:/extsoft/include" -O3 -Wall -std=gnu99 -mtune=generic -c sort_by_genomic.c -o sort_by_genomic.o
C:/Rtools/mingw_32/bin/gcc -shared -s -static-libgcc -o Starr.dll tmp.def ahocorasick.o collect.o rm_small_peak.o sort_by_genomic.o -LC:/Users/biocbuild/bbs-3.7-bioc/R/library/zlibbioc/libs/i386 -lzlib1bioc -LC:/extsoft/lib/i386 -LC:/extsoft/lib -LC:/Users/BIOCBU˜1/BBS-3˜1.7-B/R/bin/i386 -lR
installing to C:/Users/biocbuild/bbs-3.7-bioc/meat/Starr.buildbin-libdir/Starr/libs/i386
** R
** inst
** byte-compile and prepare package for lazy loading
** help
*** installing help indices
converting help for package 'Starr'
finding HTML links ... done
RGlist2ExpressionSet html
backgd.sd html
bpmapToProbeAnno html
cmarrt.ma html
cmarrt.peak html
correlate html
correlationPlot html
declare.bound html
densityscatter html
expressionByFeature html
fill html
fillNA html
filterGenes html
getFeatures html
getIntensites html
getMeans html
getProfiles html
getProfilesByBase html
getRatio html
heatmapplot html
intersection html
kde2dplot html
list2matrix html
ma.stat html
makeProbeAnno html
makeSplines html
mapFeatures html
match_ac html
normalize.Probes html
plot.Density html
plot.boxes html
plot.cmarrt html
plot.gcBias html
plot.image html
plot.ma html
plot.posBias html
plot.ratioScatter html
plot.scatter html
plotProfiles html
profileplot html
rankPercentile.normalize html
read.gffAnno html
readCelFile html
remap html
rm.small.peak html
sameLength html
singleclusterplot html
sort.by.genomic html
substract html
whichIn html
windowxy html
writeGFF html
writePosFile html
writeWIG html
** building package indices
** installing vignettes
** testing if installed package can be loaded
In R CMD INSTALL
install for x64
* installing *source* package 'Starr' ...
**********************************************
WARNING: this package has a configure script
It probably needs manual configuration
**********************************************
** libs
C:/Rtools/mingw_64/bin/gcc -I"C:/Users/biocbuild/bbs-3.7-bioc/R/library/zlibbioc/include" -I"C:/Users/BIOCBU˜1/BBS-3˜1.7-B/R/include" -DNDEBUG -I"C:/extsoft/include" -O2 -Wall -std=gnu99 -mtune=generic -c ahocorasick.c -o ahocorasick.o
C:/Rtools/mingw_64/bin/gcc -I"C:/Users/biocbuild/bbs-3.7-bioc/R/library/zlibbioc/include" -I"C:/Users/BIOCBU˜1/BBS-3˜1.7-B/R/include" -DNDEBUG -I"C:/extsoft/include" -O2 -Wall -std=gnu99 -mtune=generic -c collect.c -o collect.o
C:/Rtools/mingw_64/bin/gcc -I"C:/Users/biocbuild/bbs-3.7-bioc/R/library/zlibbioc/include" -I"C:/Users/BIOCBU˜1/BBS-3˜1.7-B/R/include" -DNDEBUG -I"C:/extsoft/include" -O2 -Wall -std=gnu99 -mtune=generic -c rm_small_peak.c -o rm_small_peak.o
C:/Rtools/mingw_64/bin/gcc -I"C:/Users/biocbuild/bbs-3.7-bioc/R/library/zlibbioc/include" -I"C:/Users/BIOCBU˜1/BBS-3˜1.7-B/R/include" -DNDEBUG -I"C:/extsoft/include" -O2 -Wall -std=gnu99 -mtune=generic -c sort_by_genomic.c -o sort_by_genomic.o
C:/Rtools/mingw_64/bin/gcc -shared -s -static-libgcc -o Starr.dll tmp.def ahocorasick.o collect.o rm_small_peak.o sort_by_genomic.o -LC:/Users/biocbuild/bbs-3.7-bioc/R/library/zlibbioc/libs/x64 -lzlib1bioc -LC:/extsoft/lib/x64 -LC:/extsoft/lib -LC:/Users/BIOCBU˜1/BBS-3˜1.7-B/R/bin/x64 -lR
installing to C:/Users/biocbuild/bbs-3.7-bioc/meat/Starr.buildbin-libdir/Starr/libs/x64
** testing if installed package can be loaded
* MD5 sums
packaged installation of 'Starr' as Starr_1.36.0.zip
* DONE (Starr)
In R CMD INSTALL
In R CMD INSTALL